BEGIN:VCALENDAR
VERSION:2.0
PRODID:-//Saint Thomas Acquinas Zanesville - ECPv6.15.20//NONSGML v1.0//EN
CALSCALE:GREGORIAN
METHOD:PUBLISH
X-ORIGINAL-URL:https://saintthomaszanesville.org
X-WR-CALDESC:Events for Saint Thomas Acquinas Zanesville
REFRESH-INTERVAL;VALUE=DURATION:PT1H
X-Robots-Tag:noindex
X-PUBLISHED-TTL:PT1H
BEGIN:VTIMEZONE
TZID:America/Detroit
BEGIN:DAYLIGHT
TZOFFSETFROM:-0500
TZOFFSETTO:-0400
TZNAME:EDT
DTSTART:20270314T070000
END:DAYLIGHT
BEGIN:STANDARD
TZOFFSETFROM:-0400
TZOFFSETTO:-0500
TZNAME:EST
DTSTART:20271107T060000
END:STANDARD
BEGIN:DAYLIGHT
TZOFFSETFROM:-0500
TZOFFSETTO:-0400
TZNAME:EDT
DTSTART:20280312T070000
END:DAYLIGHT
BEGIN:STANDARD
TZOFFSETFROM:-0400
TZOFFSETTO:-0500
TZNAME:EST
DTSTART:20281105T060000
END:STANDARD
BEGIN:DAYLIGHT
TZOFFSETFROM:-0500
TZOFFSETTO:-0400
TZNAME:EDT
DTSTART:20290311T070000
END:DAYLIGHT
BEGIN:STANDARD
TZOFFSETFROM:-0400
TZOFFSETTO:-0500
TZNAME:EST
DTSTART:20291104T060000
END:STANDARD
END:VTIMEZONE
BEGIN:VEVENT
DTSTART;TZID=America/Detroit:20280216T090000
DTEND;TZID=America/Detroit:20280216T094500
DTSTAMP:20260422T184026
CREATED:20230717T191330Z
LAST-MODIFIED:20251121T143234Z
UID:10005515-1834304400-1834307100@saintthomaszanesville.org
SUMMARY:Mass
DESCRIPTION:
URL:https://saintthomaszanesville.org/event/mass-3/2028-02-16/
LOCATION:St Thomas
CATEGORIES:Mass
END:VEVENT
BEGIN:VEVENT
DTSTART;TZID=America/Detroit:20280217T090000
DTEND;TZID=America/Detroit:20280217T094500
DTSTAMP:20260422T184026
CREATED:20231025T130315Z
LAST-MODIFIED:20260219T151402Z
UID:10006033-1834390800-1834393500@saintthomaszanesville.org
SUMMARY:Mass
DESCRIPTION:
URL:https://saintthomaszanesville.org/event/mass-5-3/2028-02-17/
LOCATION:St Thomas
CATEGORIES:Mass
END:VEVENT
BEGIN:VEVENT
DTSTART;TZID=America/Detroit:20280218T090000
DTEND;TZID=America/Detroit:20280218T094500
DTSTAMP:20260422T184026
CREATED:20231026T143024Z
LAST-MODIFIED:20260219T151539Z
UID:10006292-1834477200-1834479900@saintthomaszanesville.org
SUMMARY:Mass
DESCRIPTION:
URL:https://saintthomaszanesville.org/event/mass-6-2/2028-02-18/
LOCATION:St Thomas
CATEGORIES:Mass
END:VEVENT
BEGIN:VEVENT
DTSTART;TZID=America/Detroit:20280219T163000
DTEND;TZID=America/Detroit:20280219T173000
DTSTAMP:20260422T184026
CREATED:20240626T171342Z
LAST-MODIFIED:20260219T153326Z
UID:10008106-1834590600-1834594200@saintthomaszanesville.org
SUMMARY:Mass
DESCRIPTION:
URL:https://saintthomaszanesville.org/event/mass/2028-02-19/
LOCATION:St Thomas
CATEGORIES:Mass
END:VEVENT
BEGIN:VEVENT
DTSTART;TZID=America/Detroit:20280220T074500
DTEND;TZID=America/Detroit:20280220T084500
DTSTAMP:20260422T184026
CREATED:20240626T174505Z
LAST-MODIFIED:20250917T124608Z
UID:10008910-1834645500-1834649100@saintthomaszanesville.org
SUMMARY:Mass
DESCRIPTION:
URL:https://saintthomaszanesville.org/event/mass-2-2/2028-02-20/
CATEGORIES:Mass
END:VEVENT
BEGIN:VEVENT
DTSTART;TZID=America/Detroit:20280220T110000
DTEND;TZID=America/Detroit:20280220T120000
DTSTAMP:20260422T184026
CREATED:20240626T174409Z
LAST-MODIFIED:20241205T172135Z
UID:10009175-1834657200-1834660800@saintthomaszanesville.org
SUMMARY:Mass
DESCRIPTION:
URL:https://saintthomaszanesville.org/event/mass-2/2028-02-20/
CATEGORIES:Mass
END:VEVENT
BEGIN:VEVENT
DTSTART;TZID=America/Detroit:20280222T090000
DTEND;TZID=America/Detroit:20280222T094500
DTSTAMP:20260422T184026
CREATED:20230717T191610Z
LAST-MODIFIED:20260219T151222Z
UID:10005775-1834822800-1834825500@saintthomaszanesville.org
SUMMARY:Mass
DESCRIPTION:
URL:https://saintthomaszanesville.org/event/mass-4/2028-02-22/
LOCATION:St Thomas
CATEGORIES:Mass
END:VEVENT
BEGIN:VEVENT
DTSTART;TZID=America/Detroit:20280223T090000
DTEND;TZID=America/Detroit:20280223T094500
DTSTAMP:20260422T184026
CREATED:20230717T191330Z
LAST-MODIFIED:20251121T143234Z
UID:10005516-1834909200-1834911900@saintthomaszanesville.org
SUMMARY:Mass
DESCRIPTION:
URL:https://saintthomaszanesville.org/event/mass-3/2028-02-23/
LOCATION:St Thomas
CATEGORIES:Mass
END:VEVENT
BEGIN:VEVENT
DTSTART;TZID=America/Detroit:20280224T090000
DTEND;TZID=America/Detroit:20280224T094500
DTSTAMP:20260422T184026
CREATED:20231025T130315Z
LAST-MODIFIED:20260219T151402Z
UID:10006034-1834995600-1834998300@saintthomaszanesville.org
SUMMARY:Mass
DESCRIPTION:
URL:https://saintthomaszanesville.org/event/mass-5-3/2028-02-24/
LOCATION:St Thomas
CATEGORIES:Mass
END:VEVENT
BEGIN:VEVENT
DTSTART;TZID=America/Detroit:20280225T090000
DTEND;TZID=America/Detroit:20280225T094500
DTSTAMP:20260422T184026
CREATED:20231026T143024Z
LAST-MODIFIED:20260219T151539Z
UID:10006293-1835082000-1835084700@saintthomaszanesville.org
SUMMARY:Mass
DESCRIPTION:
URL:https://saintthomaszanesville.org/event/mass-6-2/2028-02-25/
LOCATION:St Thomas
CATEGORIES:Mass
END:VEVENT
BEGIN:VEVENT
DTSTART;TZID=America/Detroit:20280226T163000
DTEND;TZID=America/Detroit:20280226T173000
DTSTAMP:20260422T184026
CREATED:20240626T171342Z
LAST-MODIFIED:20260219T153326Z
UID:10008107-1835195400-1835199000@saintthomaszanesville.org
SUMMARY:Mass
DESCRIPTION:
URL:https://saintthomaszanesville.org/event/mass/2028-02-26/
LOCATION:St Thomas
CATEGORIES:Mass
END:VEVENT
BEGIN:VEVENT
DTSTART;TZID=America/Detroit:20280227T074500
DTEND;TZID=America/Detroit:20280227T084500
DTSTAMP:20260422T184026
CREATED:20240626T174505Z
LAST-MODIFIED:20250917T124608Z
UID:10008911-1835250300-1835253900@saintthomaszanesville.org
SUMMARY:Mass
DESCRIPTION:
URL:https://saintthomaszanesville.org/event/mass-2-2/2028-02-27/
CATEGORIES:Mass
END:VEVENT
BEGIN:VEVENT
DTSTART;TZID=America/Detroit:20280227T110000
DTEND;TZID=America/Detroit:20280227T120000
DTSTAMP:20260422T184026
CREATED:20240626T174409Z
LAST-MODIFIED:20241205T172135Z
UID:10009176-1835262000-1835265600@saintthomaszanesville.org
SUMMARY:Mass
DESCRIPTION:
URL:https://saintthomaszanesville.org/event/mass-2/2028-02-27/
CATEGORIES:Mass
END:VEVENT
BEGIN:VEVENT
DTSTART;TZID=America/Detroit:20280229T090000
DTEND;TZID=America/Detroit:20280229T094500
DTSTAMP:20260422T184026
CREATED:20230717T191610Z
LAST-MODIFIED:20260219T151222Z
UID:10005776-1835427600-1835430300@saintthomaszanesville.org
SUMMARY:Mass
DESCRIPTION:
URL:https://saintthomaszanesville.org/event/mass-4/2028-02-29/
LOCATION:St Thomas
CATEGORIES:Mass
END:VEVENT
BEGIN:VEVENT
DTSTART;TZID=America/Detroit:20280301T090000
DTEND;TZID=America/Detroit:20280301T094500
DTSTAMP:20260422T184026
CREATED:20230717T191330Z
LAST-MODIFIED:20251121T143234Z
UID:10005517-1835514000-1835516700@saintthomaszanesville.org
SUMMARY:Mass
DESCRIPTION:
URL:https://saintthomaszanesville.org/event/mass-3/2028-03-01/
LOCATION:St Thomas
CATEGORIES:Mass
END:VEVENT
BEGIN:VEVENT
DTSTART;TZID=America/Detroit:20280302T090000
DTEND;TZID=America/Detroit:20280302T094500
DTSTAMP:20260422T184026
CREATED:20231025T130315Z
LAST-MODIFIED:20260219T151402Z
UID:10006035-1835600400-1835603100@saintthomaszanesville.org
SUMMARY:Mass
DESCRIPTION:
URL:https://saintthomaszanesville.org/event/mass-5-3/2028-03-02/
LOCATION:St Thomas
CATEGORIES:Mass
END:VEVENT
BEGIN:VEVENT
DTSTART;TZID=America/Detroit:20280303T090000
DTEND;TZID=America/Detroit:20280303T094500
DTSTAMP:20260422T184026
CREATED:20231026T143024Z
LAST-MODIFIED:20260219T151539Z
UID:10006294-1835686800-1835689500@saintthomaszanesville.org
SUMMARY:Mass
DESCRIPTION:
URL:https://saintthomaszanesville.org/event/mass-6-2/2028-03-03/
LOCATION:St Thomas
CATEGORIES:Mass
END:VEVENT
BEGIN:VEVENT
DTSTART;TZID=America/Detroit:20280304T163000
DTEND;TZID=America/Detroit:20280304T173000
DTSTAMP:20260422T184026
CREATED:20240626T171342Z
LAST-MODIFIED:20260219T153326Z
UID:10008108-1835800200-1835803800@saintthomaszanesville.org
SUMMARY:Mass
DESCRIPTION:
URL:https://saintthomaszanesville.org/event/mass/2028-03-04/
LOCATION:St Thomas
CATEGORIES:Mass
END:VEVENT
BEGIN:VEVENT
DTSTART;TZID=America/Detroit:20280305T074500
DTEND;TZID=America/Detroit:20280305T084500
DTSTAMP:20260422T184026
CREATED:20240626T174505Z
LAST-MODIFIED:20250917T124608Z
UID:10008912-1835855100-1835858700@saintthomaszanesville.org
SUMMARY:Mass
DESCRIPTION:
URL:https://saintthomaszanesville.org/event/mass-2-2/2028-03-05/
CATEGORIES:Mass
END:VEVENT
BEGIN:VEVENT
DTSTART;TZID=America/Detroit:20280305T110000
DTEND;TZID=America/Detroit:20280305T120000
DTSTAMP:20260422T184026
CREATED:20240626T174409Z
LAST-MODIFIED:20241205T172135Z
UID:10009177-1835866800-1835870400@saintthomaszanesville.org
SUMMARY:Mass
DESCRIPTION:
URL:https://saintthomaszanesville.org/event/mass-2/2028-03-05/
CATEGORIES:Mass
END:VEVENT
BEGIN:VEVENT
DTSTART;TZID=America/Detroit:20280307T090000
DTEND;TZID=America/Detroit:20280307T094500
DTSTAMP:20260422T184026
CREATED:20230717T191610Z
LAST-MODIFIED:20260219T151222Z
UID:10005777-1836032400-1836035100@saintthomaszanesville.org
SUMMARY:Mass
DESCRIPTION:
URL:https://saintthomaszanesville.org/event/mass-4/2028-03-07/
LOCATION:St Thomas
CATEGORIES:Mass
END:VEVENT
BEGIN:VEVENT
DTSTART;TZID=America/Detroit:20280308T090000
DTEND;TZID=America/Detroit:20280308T094500
DTSTAMP:20260422T184026
CREATED:20230717T191330Z
LAST-MODIFIED:20251121T143234Z
UID:10005518-1836118800-1836121500@saintthomaszanesville.org
SUMMARY:Mass
DESCRIPTION:
URL:https://saintthomaszanesville.org/event/mass-3/2028-03-08/
LOCATION:St Thomas
CATEGORIES:Mass
END:VEVENT
BEGIN:VEVENT
DTSTART;TZID=America/Detroit:20280309T090000
DTEND;TZID=America/Detroit:20280309T094500
DTSTAMP:20260422T184026
CREATED:20231025T130315Z
LAST-MODIFIED:20260219T151402Z
UID:10006036-1836205200-1836207900@saintthomaszanesville.org
SUMMARY:Mass
DESCRIPTION:
URL:https://saintthomaszanesville.org/event/mass-5-3/2028-03-09/
LOCATION:St Thomas
CATEGORIES:Mass
END:VEVENT
BEGIN:VEVENT
DTSTART;TZID=America/Detroit:20280310T090000
DTEND;TZID=America/Detroit:20280310T094500
DTSTAMP:20260422T184026
CREATED:20231026T143024Z
LAST-MODIFIED:20260219T151539Z
UID:10006295-1836291600-1836294300@saintthomaszanesville.org
SUMMARY:Mass
DESCRIPTION:
URL:https://saintthomaszanesville.org/event/mass-6-2/2028-03-10/
LOCATION:St Thomas
CATEGORIES:Mass
END:VEVENT
BEGIN:VEVENT
DTSTART;TZID=America/Detroit:20280311T163000
DTEND;TZID=America/Detroit:20280311T173000
DTSTAMP:20260422T184026
CREATED:20240626T171342Z
LAST-MODIFIED:20260219T153326Z
UID:10008109-1836405000-1836408600@saintthomaszanesville.org
SUMMARY:Mass
DESCRIPTION:
URL:https://saintthomaszanesville.org/event/mass/2028-03-11/
LOCATION:St Thomas
CATEGORIES:Mass
END:VEVENT
BEGIN:VEVENT
DTSTART;TZID=America/Detroit:20280312T074500
DTEND;TZID=America/Detroit:20280312T084500
DTSTAMP:20260422T184026
CREATED:20240626T174505Z
LAST-MODIFIED:20250917T124608Z
UID:10008913-1836459900-1836463500@saintthomaszanesville.org
SUMMARY:Mass
DESCRIPTION:
URL:https://saintthomaszanesville.org/event/mass-2-2/2028-03-12/
CATEGORIES:Mass
END:VEVENT
BEGIN:VEVENT
DTSTART;TZID=America/Detroit:20280312T110000
DTEND;TZID=America/Detroit:20280312T120000
DTSTAMP:20260422T184026
CREATED:20240626T174409Z
LAST-MODIFIED:20241205T172135Z
UID:10009178-1836471600-1836475200@saintthomaszanesville.org
SUMMARY:Mass
DESCRIPTION:
URL:https://saintthomaszanesville.org/event/mass-2/2028-03-12/
CATEGORIES:Mass
END:VEVENT
BEGIN:VEVENT
DTSTART;TZID=America/Detroit:20280314T090000
DTEND;TZID=America/Detroit:20280314T094500
DTSTAMP:20260422T184026
CREATED:20230717T191610Z
LAST-MODIFIED:20260219T151222Z
UID:10005778-1836637200-1836639900@saintthomaszanesville.org
SUMMARY:Mass
DESCRIPTION:
URL:https://saintthomaszanesville.org/event/mass-4/2028-03-14/
LOCATION:St Thomas
CATEGORIES:Mass
END:VEVENT
BEGIN:VEVENT
DTSTART;TZID=America/Detroit:20280315T090000
DTEND;TZID=America/Detroit:20280315T094500
DTSTAMP:20260422T184026
CREATED:20230717T191330Z
LAST-MODIFIED:20251121T143234Z
UID:10005519-1836723600-1836726300@saintthomaszanesville.org
SUMMARY:Mass
DESCRIPTION:
URL:https://saintthomaszanesville.org/event/mass-3/2028-03-15/
LOCATION:St Thomas
CATEGORIES:Mass
END:VEVENT
BEGIN:VEVENT
DTSTART;TZID=America/Detroit:20280316T090000
DTEND;TZID=America/Detroit:20280316T094500
DTSTAMP:20260422T184026
CREATED:20231025T130315Z
LAST-MODIFIED:20260219T151402Z
UID:10006037-1836810000-1836812700@saintthomaszanesville.org
SUMMARY:Mass
DESCRIPTION:
URL:https://saintthomaszanesville.org/event/mass-5-3/2028-03-16/
LOCATION:St Thomas
CATEGORIES:Mass
END:VEVENT
END:VCALENDAR