BEGIN:VCALENDAR
VERSION:2.0
PRODID:-//Saint Thomas Acquinas Zanesville - ECPv6.15.20//NONSGML v1.0//EN
CALSCALE:GREGORIAN
METHOD:PUBLISH
X-ORIGINAL-URL:https://saintthomaszanesville.org
X-WR-CALDESC:Events for Saint Thomas Acquinas Zanesville
REFRESH-INTERVAL;VALUE=DURATION:PT1H
X-Robots-Tag:noindex
X-PUBLISHED-TTL:PT1H
BEGIN:VTIMEZONE
TZID:America/Detroit
BEGIN:DAYLIGHT
TZOFFSETFROM:-0500
TZOFFSETTO:-0400
TZNAME:EDT
DTSTART:20250309T070000
END:DAYLIGHT
BEGIN:STANDARD
TZOFFSETFROM:-0400
TZOFFSETTO:-0500
TZNAME:EST
DTSTART:20251102T060000
END:STANDARD
BEGIN:DAYLIGHT
TZOFFSETFROM:-0500
TZOFFSETTO:-0400
TZNAME:EDT
DTSTART:20260308T070000
END:DAYLIGHT
BEGIN:STANDARD
TZOFFSETFROM:-0400
TZOFFSETTO:-0500
TZNAME:EST
DTSTART:20261101T060000
END:STANDARD
BEGIN:DAYLIGHT
TZOFFSETFROM:-0500
TZOFFSETTO:-0400
TZNAME:EDT
DTSTART:20270314T070000
END:DAYLIGHT
BEGIN:STANDARD
TZOFFSETFROM:-0400
TZOFFSETTO:-0500
TZNAME:EST
DTSTART:20271107T060000
END:STANDARD
END:VTIMEZONE
BEGIN:VEVENT
DTSTART;TZID=America/Detroit:20260111T074500
DTEND;TZID=America/Detroit:20260111T084500
DTSTAMP:20260420T181719
CREATED:20240626T174505Z
LAST-MODIFIED:20250917T124608Z
UID:10008800-1768117500-1768121100@saintthomaszanesville.org
SUMMARY:Mass
DESCRIPTION:
URL:https://saintthomaszanesville.org/event/mass-2-2/2026-01-11/
CATEGORIES:Mass
END:VEVENT
BEGIN:VEVENT
DTSTART;TZID=America/Detroit:20260111T110000
DTEND;TZID=America/Detroit:20260111T120000
DTSTAMP:20260420T181719
CREATED:20240626T174409Z
LAST-MODIFIED:20241205T172135Z
UID:10009065-1768129200-1768132800@saintthomaszanesville.org
SUMMARY:Mass
DESCRIPTION:
URL:https://saintthomaszanesville.org/event/mass-2/2026-01-11/
CATEGORIES:Mass
END:VEVENT
BEGIN:VEVENT
DTSTART;TZID=America/Detroit:20260113T090000
DTEND;TZID=America/Detroit:20260113T094500
DTSTAMP:20260420T181719
CREATED:20230717T191610Z
LAST-MODIFIED:20260219T151222Z
UID:10005665-1768294800-1768297500@saintthomaszanesville.org
SUMMARY:Mass
DESCRIPTION:
URL:https://saintthomaszanesville.org/event/mass-4/2026-01-13/
LOCATION:St Thomas
CATEGORIES:Mass
END:VEVENT
BEGIN:VEVENT
DTSTART;TZID=America/Detroit:20260114T090000
DTEND;TZID=America/Detroit:20260114T094500
DTSTAMP:20260420T181719
CREATED:20230717T191330Z
LAST-MODIFIED:20251121T143234Z
UID:10005406-1768381200-1768383900@saintthomaszanesville.org
SUMMARY:Mass
DESCRIPTION:
URL:https://saintthomaszanesville.org/event/mass-3/2026-01-14/
LOCATION:St Thomas
CATEGORIES:Mass
END:VEVENT
BEGIN:VEVENT
DTSTART;TZID=America/Detroit:20260115T090000
DTEND;TZID=America/Detroit:20260115T094500
DTSTAMP:20260420T181719
CREATED:20231025T130315Z
LAST-MODIFIED:20260219T151402Z
UID:10005924-1768467600-1768470300@saintthomaszanesville.org
SUMMARY:Mass
DESCRIPTION:
URL:https://saintthomaszanesville.org/event/mass-5-3/2026-01-15/
LOCATION:St Thomas
CATEGORIES:Mass
END:VEVENT
BEGIN:VEVENT
DTSTART;TZID=America/Detroit:20260116T090000
DTEND;TZID=America/Detroit:20260116T094500
DTSTAMP:20260420T181719
CREATED:20231026T143024Z
LAST-MODIFIED:20260219T151539Z
UID:10006183-1768554000-1768556700@saintthomaszanesville.org
SUMMARY:Mass
DESCRIPTION:
URL:https://saintthomaszanesville.org/event/mass-6-2/2026-01-16/
LOCATION:St Thomas
CATEGORIES:Mass
END:VEVENT
BEGIN:VEVENT
DTSTART;TZID=America/Detroit:20260117T163000
DTEND;TZID=America/Detroit:20260117T173000
DTSTAMP:20260420T181719
CREATED:20240626T171342Z
LAST-MODIFIED:20260219T153326Z
UID:10007997-1768667400-1768671000@saintthomaszanesville.org
SUMMARY:Mass
DESCRIPTION:
URL:https://saintthomaszanesville.org/event/mass/2026-01-17/
LOCATION:St Thomas
CATEGORIES:Mass
END:VEVENT
BEGIN:VEVENT
DTSTART;TZID=America/Detroit:20260118T074500
DTEND;TZID=America/Detroit:20260118T084500
DTSTAMP:20260420T181719
CREATED:20240626T174505Z
LAST-MODIFIED:20250917T124608Z
UID:10008801-1768722300-1768725900@saintthomaszanesville.org
SUMMARY:Mass
DESCRIPTION:
URL:https://saintthomaszanesville.org/event/mass-2-2/2026-01-18/
CATEGORIES:Mass
END:VEVENT
BEGIN:VEVENT
DTSTART;TZID=America/Detroit:20260118T110000
DTEND;TZID=America/Detroit:20260118T120000
DTSTAMP:20260420T181719
CREATED:20240626T174409Z
LAST-MODIFIED:20241205T172135Z
UID:10009066-1768734000-1768737600@saintthomaszanesville.org
SUMMARY:Mass
DESCRIPTION:
URL:https://saintthomaszanesville.org/event/mass-2/2026-01-18/
CATEGORIES:Mass
END:VEVENT
BEGIN:VEVENT
DTSTART;TZID=America/Detroit:20260120T090000
DTEND;TZID=America/Detroit:20260120T094500
DTSTAMP:20260420T181719
CREATED:20230717T191610Z
LAST-MODIFIED:20260219T151222Z
UID:10005666-1768899600-1768902300@saintthomaszanesville.org
SUMMARY:Mass
DESCRIPTION:
URL:https://saintthomaszanesville.org/event/mass-4/2026-01-20/
LOCATION:St Thomas
CATEGORIES:Mass
END:VEVENT
BEGIN:VEVENT
DTSTART;TZID=America/Detroit:20260121T090000
DTEND;TZID=America/Detroit:20260121T094500
DTSTAMP:20260420T181719
CREATED:20230717T191330Z
LAST-MODIFIED:20251121T143234Z
UID:10005407-1768986000-1768988700@saintthomaszanesville.org
SUMMARY:Mass
DESCRIPTION:
URL:https://saintthomaszanesville.org/event/mass-3/2026-01-21/
LOCATION:St Thomas
CATEGORIES:Mass
END:VEVENT
BEGIN:VEVENT
DTSTART;TZID=America/Detroit:20260122T090000
DTEND;TZID=America/Detroit:20260122T094500
DTSTAMP:20260420T181719
CREATED:20231025T130315Z
LAST-MODIFIED:20260219T151402Z
UID:10005925-1769072400-1769075100@saintthomaszanesville.org
SUMMARY:Mass
DESCRIPTION:
URL:https://saintthomaszanesville.org/event/mass-5-3/2026-01-22/
LOCATION:St Thomas
CATEGORIES:Mass
END:VEVENT
BEGIN:VEVENT
DTSTART;TZID=America/Detroit:20260123T090000
DTEND;TZID=America/Detroit:20260123T094500
DTSTAMP:20260420T181719
CREATED:20231026T143024Z
LAST-MODIFIED:20260219T151539Z
UID:10006184-1769158800-1769161500@saintthomaszanesville.org
SUMMARY:Mass
DESCRIPTION:
URL:https://saintthomaszanesville.org/event/mass-6-2/2026-01-23/
LOCATION:St Thomas
CATEGORIES:Mass
END:VEVENT
BEGIN:VEVENT
DTSTART;TZID=America/Detroit:20260124T163000
DTEND;TZID=America/Detroit:20260124T173000
DTSTAMP:20260420T181719
CREATED:20240626T171342Z
LAST-MODIFIED:20260219T153326Z
UID:10007998-1769272200-1769275800@saintthomaszanesville.org
SUMMARY:Mass
DESCRIPTION:
URL:https://saintthomaszanesville.org/event/mass/2026-01-24/
LOCATION:St Thomas
CATEGORIES:Mass
END:VEVENT
BEGIN:VEVENT
DTSTART;TZID=America/Detroit:20260125T074500
DTEND;TZID=America/Detroit:20260125T084500
DTSTAMP:20260420T181719
CREATED:20240626T174505Z
LAST-MODIFIED:20250917T124608Z
UID:10008802-1769327100-1769330700@saintthomaszanesville.org
SUMMARY:Mass
DESCRIPTION:
URL:https://saintthomaszanesville.org/event/mass-2-2/2026-01-25/
CATEGORIES:Mass
END:VEVENT
BEGIN:VEVENT
DTSTART;TZID=America/Detroit:20260125T110000
DTEND;TZID=America/Detroit:20260125T120000
DTSTAMP:20260420T181719
CREATED:20240626T174409Z
LAST-MODIFIED:20241205T172135Z
UID:10009067-1769338800-1769342400@saintthomaszanesville.org
SUMMARY:Mass
DESCRIPTION:
URL:https://saintthomaszanesville.org/event/mass-2/2026-01-25/
CATEGORIES:Mass
END:VEVENT
BEGIN:VEVENT
DTSTART;TZID=America/Detroit:20260127T090000
DTEND;TZID=America/Detroit:20260127T094500
DTSTAMP:20260420T181719
CREATED:20230717T191610Z
LAST-MODIFIED:20260219T151222Z
UID:10005667-1769504400-1769507100@saintthomaszanesville.org
SUMMARY:Mass
DESCRIPTION:
URL:https://saintthomaszanesville.org/event/mass-4/2026-01-27/
LOCATION:St Thomas
CATEGORIES:Mass
END:VEVENT
BEGIN:VEVENT
DTSTART;TZID=America/Detroit:20260128T090000
DTEND;TZID=America/Detroit:20260128T094500
DTSTAMP:20260420T181719
CREATED:20230717T191330Z
LAST-MODIFIED:20251121T143234Z
UID:10005408-1769590800-1769593500@saintthomaszanesville.org
SUMMARY:Mass
DESCRIPTION:
URL:https://saintthomaszanesville.org/event/mass-3/2026-01-28/
LOCATION:St Thomas
CATEGORIES:Mass
END:VEVENT
BEGIN:VEVENT
DTSTART;TZID=America/Detroit:20260129T090000
DTEND;TZID=America/Detroit:20260129T094500
DTSTAMP:20260420T181719
CREATED:20231025T130315Z
LAST-MODIFIED:20260219T151402Z
UID:10005926-1769677200-1769679900@saintthomaszanesville.org
SUMMARY:Mass
DESCRIPTION:
URL:https://saintthomaszanesville.org/event/mass-5-3/2026-01-29/
LOCATION:St Thomas
CATEGORIES:Mass
END:VEVENT
BEGIN:VEVENT
DTSTART;TZID=America/Detroit:20260130T090000
DTEND;TZID=America/Detroit:20260130T094500
DTSTAMP:20260420T181719
CREATED:20231026T143024Z
LAST-MODIFIED:20260219T151539Z
UID:10006185-1769763600-1769766300@saintthomaszanesville.org
SUMMARY:Mass
DESCRIPTION:
URL:https://saintthomaszanesville.org/event/mass-6-2/2026-01-30/
LOCATION:St Thomas
CATEGORIES:Mass
END:VEVENT
BEGIN:VEVENT
DTSTART;TZID=America/Detroit:20260131T163000
DTEND;TZID=America/Detroit:20260131T173000
DTSTAMP:20260420T181719
CREATED:20240626T171342Z
LAST-MODIFIED:20260219T153326Z
UID:10007999-1769877000-1769880600@saintthomaszanesville.org
SUMMARY:Mass
DESCRIPTION:
URL:https://saintthomaszanesville.org/event/mass/2026-01-31/
LOCATION:St Thomas
CATEGORIES:Mass
END:VEVENT
BEGIN:VEVENT
DTSTART;TZID=America/Detroit:20260201T074500
DTEND;TZID=America/Detroit:20260201T084500
DTSTAMP:20260420T181719
CREATED:20240626T174505Z
LAST-MODIFIED:20250917T124608Z
UID:10008803-1769931900-1769935500@saintthomaszanesville.org
SUMMARY:Mass
DESCRIPTION:
URL:https://saintthomaszanesville.org/event/mass-2-2/2026-02-01/
CATEGORIES:Mass
END:VEVENT
BEGIN:VEVENT
DTSTART;TZID=America/Detroit:20260201T110000
DTEND;TZID=America/Detroit:20260201T120000
DTSTAMP:20260420T181719
CREATED:20240626T174409Z
LAST-MODIFIED:20241205T172135Z
UID:10009068-1769943600-1769947200@saintthomaszanesville.org
SUMMARY:Mass
DESCRIPTION:
URL:https://saintthomaszanesville.org/event/mass-2/2026-02-01/
CATEGORIES:Mass
END:VEVENT
BEGIN:VEVENT
DTSTART;TZID=America/Detroit:20260203T090000
DTEND;TZID=America/Detroit:20260203T094500
DTSTAMP:20260420T181719
CREATED:20230717T191610Z
LAST-MODIFIED:20260219T151222Z
UID:10005668-1770109200-1770111900@saintthomaszanesville.org
SUMMARY:Mass
DESCRIPTION:
URL:https://saintthomaszanesville.org/event/mass-4/2026-02-03/
LOCATION:St Thomas
CATEGORIES:Mass
END:VEVENT
BEGIN:VEVENT
DTSTART;TZID=America/Detroit:20260204T090000
DTEND;TZID=America/Detroit:20260204T094500
DTSTAMP:20260420T181719
CREATED:20230717T191330Z
LAST-MODIFIED:20251121T143234Z
UID:10005409-1770195600-1770198300@saintthomaszanesville.org
SUMMARY:Mass
DESCRIPTION:
URL:https://saintthomaszanesville.org/event/mass-3/2026-02-04/
LOCATION:St Thomas
CATEGORIES:Mass
END:VEVENT
BEGIN:VEVENT
DTSTART;TZID=America/Detroit:20260205T090000
DTEND;TZID=America/Detroit:20260205T094500
DTSTAMP:20260420T181719
CREATED:20231025T130315Z
LAST-MODIFIED:20260219T151402Z
UID:10005927-1770282000-1770284700@saintthomaszanesville.org
SUMMARY:Mass
DESCRIPTION:
URL:https://saintthomaszanesville.org/event/mass-5-3/2026-02-05/
LOCATION:St Thomas
CATEGORIES:Mass
END:VEVENT
BEGIN:VEVENT
DTSTART;TZID=America/Detroit:20260206T090000
DTEND;TZID=America/Detroit:20260206T094500
DTSTAMP:20260420T181719
CREATED:20231026T143024Z
LAST-MODIFIED:20260219T151539Z
UID:10006186-1770368400-1770371100@saintthomaszanesville.org
SUMMARY:Mass
DESCRIPTION:
URL:https://saintthomaszanesville.org/event/mass-6-2/2026-02-06/
LOCATION:St Thomas
CATEGORIES:Mass
END:VEVENT
BEGIN:VEVENT
DTSTART;TZID=America/Detroit:20260207T163000
DTEND;TZID=America/Detroit:20260207T173000
DTSTAMP:20260420T181719
CREATED:20240626T171342Z
LAST-MODIFIED:20260219T153326Z
UID:10008000-1770481800-1770485400@saintthomaszanesville.org
SUMMARY:Mass
DESCRIPTION:
URL:https://saintthomaszanesville.org/event/mass/2026-02-07/
LOCATION:St Thomas
CATEGORIES:Mass
END:VEVENT
BEGIN:VEVENT
DTSTART;TZID=America/Detroit:20260208T074500
DTEND;TZID=America/Detroit:20260208T084500
DTSTAMP:20260420T181719
CREATED:20240626T174505Z
LAST-MODIFIED:20250917T124608Z
UID:10008804-1770536700-1770540300@saintthomaszanesville.org
SUMMARY:Mass
DESCRIPTION:
URL:https://saintthomaszanesville.org/event/mass-2-2/2026-02-08/
CATEGORIES:Mass
END:VEVENT
BEGIN:VEVENT
DTSTART;TZID=America/Detroit:20260208T110000
DTEND;TZID=America/Detroit:20260208T120000
DTSTAMP:20260420T181719
CREATED:20240626T174409Z
LAST-MODIFIED:20241205T172135Z
UID:10009069-1770548400-1770552000@saintthomaszanesville.org
SUMMARY:Mass
DESCRIPTION:
URL:https://saintthomaszanesville.org/event/mass-2/2026-02-08/
CATEGORIES:Mass
END:VEVENT
END:VCALENDAR