BEGIN:VCALENDAR
VERSION:2.0
PRODID:-//Saint Thomas Acquinas Zanesville - ECPv6.15.20//NONSGML v1.0//EN
CALSCALE:GREGORIAN
METHOD:PUBLISH
X-ORIGINAL-URL:https://saintthomaszanesville.org
X-WR-CALDESC:Events for Saint Thomas Acquinas Zanesville
REFRESH-INTERVAL;VALUE=DURATION:PT1H
X-Robots-Tag:noindex
X-PUBLISHED-TTL:PT1H
BEGIN:VTIMEZONE
TZID:America/Detroit
BEGIN:DAYLIGHT
TZOFFSETFROM:-0500
TZOFFSETTO:-0400
TZNAME:EDT
DTSTART:20240310T070000
END:DAYLIGHT
BEGIN:STANDARD
TZOFFSETFROM:-0400
TZOFFSETTO:-0500
TZNAME:EST
DTSTART:20241103T060000
END:STANDARD
BEGIN:DAYLIGHT
TZOFFSETFROM:-0500
TZOFFSETTO:-0400
TZNAME:EDT
DTSTART:20250309T070000
END:DAYLIGHT
BEGIN:STANDARD
TZOFFSETFROM:-0400
TZOFFSETTO:-0500
TZNAME:EST
DTSTART:20251102T060000
END:STANDARD
BEGIN:DAYLIGHT
TZOFFSETFROM:-0500
TZOFFSETTO:-0400
TZNAME:EDT
DTSTART:20260308T070000
END:DAYLIGHT
BEGIN:STANDARD
TZOFFSETFROM:-0400
TZOFFSETTO:-0500
TZNAME:EST
DTSTART:20261101T060000
END:STANDARD
END:VTIMEZONE
BEGIN:VEVENT
DTSTART;TZID=America/Detroit:20250211T090000
DTEND;TZID=America/Detroit:20250211T094500
DTSTAMP:20260421T201746
CREATED:20230717T191610Z
LAST-MODIFIED:20260219T151222Z
UID:10005617-1739264400-1739267100@saintthomaszanesville.org
SUMMARY:Mass
DESCRIPTION:
URL:https://saintthomaszanesville.org/event/mass-4/2025-02-11/
LOCATION:St Thomas
CATEGORIES:Mass
END:VEVENT
BEGIN:VEVENT
DTSTART;TZID=America/Detroit:20250212T090000
DTEND;TZID=America/Detroit:20250212T094500
DTSTAMP:20260421T201746
CREATED:20230717T191330Z
LAST-MODIFIED:20251121T143234Z
UID:10005358-1739350800-1739353500@saintthomaszanesville.org
SUMMARY:Mass
DESCRIPTION:
URL:https://saintthomaszanesville.org/event/mass-3/2025-02-12/
LOCATION:St Thomas
CATEGORIES:Mass
END:VEVENT
BEGIN:VEVENT
DTSTART;TZID=America/Detroit:20250213T090000
DTEND;TZID=America/Detroit:20250213T094500
DTSTAMP:20260421T201746
CREATED:20231025T130315Z
LAST-MODIFIED:20260219T151402Z
UID:10005876-1739437200-1739439900@saintthomaszanesville.org
SUMMARY:Mass
DESCRIPTION:
URL:https://saintthomaszanesville.org/event/mass-5-3/2025-02-13/
LOCATION:St Thomas
CATEGORIES:Mass
END:VEVENT
BEGIN:VEVENT
DTSTART;TZID=America/Detroit:20250214T090000
DTEND;TZID=America/Detroit:20250214T094500
DTSTAMP:20260421T201746
CREATED:20231026T143024Z
LAST-MODIFIED:20260219T151539Z
UID:10006135-1739523600-1739526300@saintthomaszanesville.org
SUMMARY:Mass
DESCRIPTION:
URL:https://saintthomaszanesville.org/event/mass-6-2/2025-02-14/
LOCATION:St Thomas
CATEGORIES:Mass
END:VEVENT
BEGIN:VEVENT
DTSTART;TZID=America/Detroit:20250215T163000
DTEND;TZID=America/Detroit:20250215T173000
DTSTAMP:20260421T201746
CREATED:20240626T171342Z
LAST-MODIFIED:20260219T153326Z
UID:10007949-1739637000-1739640600@saintthomaszanesville.org
SUMMARY:Mass
DESCRIPTION:
URL:https://saintthomaszanesville.org/event/mass/2025-02-15/
LOCATION:St Thomas
CATEGORIES:Mass
END:VEVENT
BEGIN:VEVENT
DTSTART;TZID=America/Detroit:20250216T074500
DTEND;TZID=America/Detroit:20250216T084500
DTSTAMP:20260421T201746
CREATED:20240626T174505Z
LAST-MODIFIED:20250917T124608Z
UID:10008753-1739691900-1739695500@saintthomaszanesville.org
SUMMARY:Mass
DESCRIPTION:
URL:https://saintthomaszanesville.org/event/mass-2-2/2025-02-16/
CATEGORIES:Mass
END:VEVENT
BEGIN:VEVENT
DTSTART;TZID=America/Detroit:20250216T110000
DTEND;TZID=America/Detroit:20250216T120000
DTSTAMP:20260421T201746
CREATED:20240626T174409Z
LAST-MODIFIED:20241205T172135Z
UID:10009018-1739703600-1739707200@saintthomaszanesville.org
SUMMARY:Mass
DESCRIPTION:
URL:https://saintthomaszanesville.org/event/mass-2/2025-02-16/
CATEGORIES:Mass
END:VEVENT
BEGIN:VEVENT
DTSTART;TZID=America/Detroit:20250218T090000
DTEND;TZID=America/Detroit:20250218T094500
DTSTAMP:20260421T201746
CREATED:20230717T191610Z
LAST-MODIFIED:20260219T151222Z
UID:10005618-1739869200-1739871900@saintthomaszanesville.org
SUMMARY:Mass
DESCRIPTION:
URL:https://saintthomaszanesville.org/event/mass-4/2025-02-18/
LOCATION:St Thomas
CATEGORIES:Mass
END:VEVENT
BEGIN:VEVENT
DTSTART;TZID=America/Detroit:20250219T090000
DTEND;TZID=America/Detroit:20250219T094500
DTSTAMP:20260421T201746
CREATED:20230717T191330Z
LAST-MODIFIED:20251121T143234Z
UID:10005359-1739955600-1739958300@saintthomaszanesville.org
SUMMARY:Mass
DESCRIPTION:
URL:https://saintthomaszanesville.org/event/mass-3/2025-02-19/
LOCATION:St Thomas
CATEGORIES:Mass
END:VEVENT
BEGIN:VEVENT
DTSTART;TZID=America/Detroit:20250220T090000
DTEND;TZID=America/Detroit:20250220T094500
DTSTAMP:20260421T201746
CREATED:20231025T130315Z
LAST-MODIFIED:20260219T151402Z
UID:10005877-1740042000-1740044700@saintthomaszanesville.org
SUMMARY:Mass
DESCRIPTION:
URL:https://saintthomaszanesville.org/event/mass-5-3/2025-02-20/
LOCATION:St Thomas
CATEGORIES:Mass
END:VEVENT
BEGIN:VEVENT
DTSTART;TZID=America/Detroit:20250221T090000
DTEND;TZID=America/Detroit:20250221T094500
DTSTAMP:20260421T201746
CREATED:20231026T143024Z
LAST-MODIFIED:20260219T151539Z
UID:10006136-1740128400-1740131100@saintthomaszanesville.org
SUMMARY:Mass
DESCRIPTION:
URL:https://saintthomaszanesville.org/event/mass-6-2/2025-02-21/
LOCATION:St Thomas
CATEGORIES:Mass
END:VEVENT
BEGIN:VEVENT
DTSTART;TZID=America/Detroit:20250222T163000
DTEND;TZID=America/Detroit:20250222T173000
DTSTAMP:20260421T201746
CREATED:20240626T171342Z
LAST-MODIFIED:20260219T153326Z
UID:10007950-1740241800-1740245400@saintthomaszanesville.org
SUMMARY:Mass
DESCRIPTION:
URL:https://saintthomaszanesville.org/event/mass/2025-02-22/
LOCATION:St Thomas
CATEGORIES:Mass
END:VEVENT
BEGIN:VEVENT
DTSTART;TZID=America/Detroit:20250223T074500
DTEND;TZID=America/Detroit:20250223T084500
DTSTAMP:20260421T201746
CREATED:20240626T174505Z
LAST-MODIFIED:20250917T124608Z
UID:10008754-1740296700-1740300300@saintthomaszanesville.org
SUMMARY:Mass
DESCRIPTION:
URL:https://saintthomaszanesville.org/event/mass-2-2/2025-02-23/
CATEGORIES:Mass
END:VEVENT
BEGIN:VEVENT
DTSTART;TZID=America/Detroit:20250223T110000
DTEND;TZID=America/Detroit:20250223T120000
DTSTAMP:20260421T201746
CREATED:20240626T174409Z
LAST-MODIFIED:20241205T172135Z
UID:10009019-1740308400-1740312000@saintthomaszanesville.org
SUMMARY:Mass
DESCRIPTION:
URL:https://saintthomaszanesville.org/event/mass-2/2025-02-23/
CATEGORIES:Mass
END:VEVENT
BEGIN:VEVENT
DTSTART;TZID=America/Detroit:20250225T090000
DTEND;TZID=America/Detroit:20250225T094500
DTSTAMP:20260421T201746
CREATED:20230717T191610Z
LAST-MODIFIED:20260219T151222Z
UID:10005619-1740474000-1740476700@saintthomaszanesville.org
SUMMARY:Mass
DESCRIPTION:
URL:https://saintthomaszanesville.org/event/mass-4/2025-02-25/
LOCATION:St Thomas
CATEGORIES:Mass
END:VEVENT
BEGIN:VEVENT
DTSTART;TZID=America/Detroit:20250226T090000
DTEND;TZID=America/Detroit:20250226T094500
DTSTAMP:20260421T201746
CREATED:20230717T191330Z
LAST-MODIFIED:20251121T143234Z
UID:10005360-1740560400-1740563100@saintthomaszanesville.org
SUMMARY:Mass
DESCRIPTION:
URL:https://saintthomaszanesville.org/event/mass-3/2025-02-26/
LOCATION:St Thomas
CATEGORIES:Mass
END:VEVENT
BEGIN:VEVENT
DTSTART;TZID=America/Detroit:20250227T090000
DTEND;TZID=America/Detroit:20250227T094500
DTSTAMP:20260421T201746
CREATED:20231025T130315Z
LAST-MODIFIED:20260219T151402Z
UID:10005878-1740646800-1740649500@saintthomaszanesville.org
SUMMARY:Mass
DESCRIPTION:
URL:https://saintthomaszanesville.org/event/mass-5-3/2025-02-27/
LOCATION:St Thomas
CATEGORIES:Mass
END:VEVENT
BEGIN:VEVENT
DTSTART;TZID=America/Detroit:20250228T090000
DTEND;TZID=America/Detroit:20250228T094500
DTSTAMP:20260421T201746
CREATED:20231026T143024Z
LAST-MODIFIED:20260219T151539Z
UID:10006137-1740733200-1740735900@saintthomaszanesville.org
SUMMARY:Mass
DESCRIPTION:
URL:https://saintthomaszanesville.org/event/mass-6-2/2025-02-28/
LOCATION:St Thomas
CATEGORIES:Mass
END:VEVENT
BEGIN:VEVENT
DTSTART;TZID=America/Detroit:20250301T163000
DTEND;TZID=America/Detroit:20250301T173000
DTSTAMP:20260421T201746
CREATED:20240626T171342Z
LAST-MODIFIED:20260219T153326Z
UID:10007951-1740846600-1740850200@saintthomaszanesville.org
SUMMARY:Mass
DESCRIPTION:
URL:https://saintthomaszanesville.org/event/mass/2025-03-01/
LOCATION:St Thomas
CATEGORIES:Mass
END:VEVENT
BEGIN:VEVENT
DTSTART;TZID=America/Detroit:20250302T074500
DTEND;TZID=America/Detroit:20250302T084500
DTSTAMP:20260421T201746
CREATED:20240626T174505Z
LAST-MODIFIED:20250917T124608Z
UID:10008755-1740901500-1740905100@saintthomaszanesville.org
SUMMARY:Mass
DESCRIPTION:
URL:https://saintthomaszanesville.org/event/mass-2-2/2025-03-02/
CATEGORIES:Mass
END:VEVENT
BEGIN:VEVENT
DTSTART;TZID=America/Detroit:20250302T110000
DTEND;TZID=America/Detroit:20250302T120000
DTSTAMP:20260421T201746
CREATED:20240626T174409Z
LAST-MODIFIED:20241205T172135Z
UID:10009020-1740913200-1740916800@saintthomaszanesville.org
SUMMARY:Mass
DESCRIPTION:
URL:https://saintthomaszanesville.org/event/mass-2/2025-03-02/
CATEGORIES:Mass
END:VEVENT
BEGIN:VEVENT
DTSTART;TZID=America/Detroit:20250304T090000
DTEND;TZID=America/Detroit:20250304T094500
DTSTAMP:20260421T201746
CREATED:20230717T191610Z
LAST-MODIFIED:20260219T151222Z
UID:10005620-1741078800-1741081500@saintthomaszanesville.org
SUMMARY:Mass
DESCRIPTION:
URL:https://saintthomaszanesville.org/event/mass-4/2025-03-04/
LOCATION:St Thomas
CATEGORIES:Mass
END:VEVENT
BEGIN:VEVENT
DTSTART;TZID=America/Detroit:20250305T090000
DTEND;TZID=America/Detroit:20250305T100000
DTSTAMP:20260421T201746
CREATED:20250219T155029Z
LAST-MODIFIED:20250219T155029Z
UID:10009730-1741165200-1741168800@saintthomaszanesville.org
SUMMARY:Ash Wednesday Mass
DESCRIPTION:Ash Wednesday Mass Celebrated at St Thomas
URL:https://saintthomaszanesville.org/event/ash-wednesday-mass/2025-03-05/1/
CATEGORIES:Mass
END:VEVENT
BEGIN:VEVENT
DTSTART;TZID=America/Detroit:20250305T190000
DTEND;TZID=America/Detroit:20250305T200000
DTSTAMP:20260421T201746
CREATED:20250219T155029Z
LAST-MODIFIED:20250219T155029Z
UID:10009731-1741201200-1741204800@saintthomaszanesville.org
SUMMARY:Ash Wednesday Mass
DESCRIPTION:Ash Wednesday Mass Celebrated at St Thomas
URL:https://saintthomaszanesville.org/event/ash-wednesday-mass/2025-03-05/2/
CATEGORIES:Mass
END:VEVENT
BEGIN:VEVENT
DTSTART;TZID=America/Detroit:20250306T090000
DTEND;TZID=America/Detroit:20250306T094500
DTSTAMP:20260421T201746
CREATED:20231025T130315Z
LAST-MODIFIED:20260219T151402Z
UID:10005879-1741251600-1741254300@saintthomaszanesville.org
SUMMARY:Mass
DESCRIPTION:
URL:https://saintthomaszanesville.org/event/mass-5-3/2025-03-06/
LOCATION:St Thomas
CATEGORIES:Mass
END:VEVENT
BEGIN:VEVENT
DTSTART;TZID=America/Detroit:20250307T090000
DTEND;TZID=America/Detroit:20250307T094500
DTSTAMP:20260421T201746
CREATED:20231026T143024Z
LAST-MODIFIED:20260219T151539Z
UID:10006138-1741338000-1741340700@saintthomaszanesville.org
SUMMARY:Mass
DESCRIPTION:
URL:https://saintthomaszanesville.org/event/mass-6-2/2025-03-07/
LOCATION:St Thomas
CATEGORIES:Mass
END:VEVENT
BEGIN:VEVENT
DTSTART;TZID=America/Detroit:20250308T163000
DTEND;TZID=America/Detroit:20250308T173000
DTSTAMP:20260421T201746
CREATED:20240626T171342Z
LAST-MODIFIED:20260219T153326Z
UID:10007952-1741451400-1741455000@saintthomaszanesville.org
SUMMARY:Mass
DESCRIPTION:
URL:https://saintthomaszanesville.org/event/mass/2025-03-08/
LOCATION:St Thomas
CATEGORIES:Mass
END:VEVENT
BEGIN:VEVENT
DTSTART;TZID=America/Detroit:20250309T074500
DTEND;TZID=America/Detroit:20250309T084500
DTSTAMP:20260421T201746
CREATED:20240626T174505Z
LAST-MODIFIED:20250917T124608Z
UID:10008756-1741506300-1741509900@saintthomaszanesville.org
SUMMARY:Mass
DESCRIPTION:
URL:https://saintthomaszanesville.org/event/mass-2-2/2025-03-09/
CATEGORIES:Mass
END:VEVENT
BEGIN:VEVENT
DTSTART;TZID=America/Detroit:20250309T110000
DTEND;TZID=America/Detroit:20250309T120000
DTSTAMP:20260421T201746
CREATED:20240626T174409Z
LAST-MODIFIED:20241205T172135Z
UID:10009021-1741518000-1741521600@saintthomaszanesville.org
SUMMARY:Mass
DESCRIPTION:
URL:https://saintthomaszanesville.org/event/mass-2/2025-03-09/
CATEGORIES:Mass
END:VEVENT
BEGIN:VEVENT
DTSTART;TZID=America/Detroit:20250311T090000
DTEND;TZID=America/Detroit:20250311T094500
DTSTAMP:20260421T201746
CREATED:20230717T191610Z
LAST-MODIFIED:20260219T151222Z
UID:10005621-1741683600-1741686300@saintthomaszanesville.org
SUMMARY:Mass
DESCRIPTION:
URL:https://saintthomaszanesville.org/event/mass-4/2025-03-11/
LOCATION:St Thomas
CATEGORIES:Mass
END:VEVENT
END:VCALENDAR