BEGIN:VCALENDAR
VERSION:2.0
PRODID:-//Saint Thomas Acquinas Zanesville - ECPv6.15.20//NONSGML v1.0//EN
CALSCALE:GREGORIAN
METHOD:PUBLISH
X-ORIGINAL-URL:https://saintthomaszanesville.org
X-WR-CALDESC:Events for Saint Thomas Acquinas Zanesville
REFRESH-INTERVAL;VALUE=DURATION:PT1H
X-Robots-Tag:noindex
X-PUBLISHED-TTL:PT1H
BEGIN:VTIMEZONE
TZID:America/Detroit
BEGIN:DAYLIGHT
TZOFFSETFROM:-0500
TZOFFSETTO:-0400
TZNAME:EDT
DTSTART:20230312T070000
END:DAYLIGHT
BEGIN:STANDARD
TZOFFSETFROM:-0400
TZOFFSETTO:-0500
TZNAME:EST
DTSTART:20231105T060000
END:STANDARD
BEGIN:DAYLIGHT
TZOFFSETFROM:-0500
TZOFFSETTO:-0400
TZNAME:EDT
DTSTART:20240310T070000
END:DAYLIGHT
BEGIN:STANDARD
TZOFFSETFROM:-0400
TZOFFSETTO:-0500
TZNAME:EST
DTSTART:20241103T060000
END:STANDARD
BEGIN:DAYLIGHT
TZOFFSETFROM:-0500
TZOFFSETTO:-0400
TZNAME:EDT
DTSTART:20250309T070000
END:DAYLIGHT
BEGIN:STANDARD
TZOFFSETFROM:-0400
TZOFFSETTO:-0500
TZNAME:EST
DTSTART:20251102T060000
END:STANDARD
END:VTIMEZONE
BEGIN:VEVENT
DTSTART;TZID=America/Detroit:20240616T074500
DTEND;TZID=America/Detroit:20240616T084500
DTSTAMP:20260422T185024
CREATED:20240626T174505Z
LAST-MODIFIED:20250917T124608Z
UID:10008718-1718523900-1718527500@saintthomaszanesville.org
SUMMARY:Mass
DESCRIPTION:
URL:https://saintthomaszanesville.org/event/mass-2-2/2024-06-16/
CATEGORIES:Mass
END:VEVENT
BEGIN:VEVENT
DTSTART;TZID=America/Detroit:20240616T110000
DTEND;TZID=America/Detroit:20240616T120000
DTSTAMP:20260422T185024
CREATED:20240626T174409Z
LAST-MODIFIED:20241205T172135Z
UID:10008983-1718535600-1718539200@saintthomaszanesville.org
SUMMARY:Mass
DESCRIPTION:
URL:https://saintthomaszanesville.org/event/mass-2/2024-06-16/
CATEGORIES:Mass
END:VEVENT
BEGIN:VEVENT
DTSTART;TZID=America/Detroit:20240618T090000
DTEND;TZID=America/Detroit:20240618T094500
DTSTAMP:20260422T185024
CREATED:20230717T191610Z
LAST-MODIFIED:20260219T151222Z
UID:10005583-1718701200-1718703900@saintthomaszanesville.org
SUMMARY:Mass
DESCRIPTION:
URL:https://saintthomaszanesville.org/event/mass-4/2024-06-18/
LOCATION:St Thomas
CATEGORIES:Mass
END:VEVENT
BEGIN:VEVENT
DTSTART;TZID=America/Detroit:20240619T090000
DTEND;TZID=America/Detroit:20240619T094500
DTSTAMP:20260422T185024
CREATED:20230717T191330Z
LAST-MODIFIED:20251121T143234Z
UID:10005324-1718787600-1718790300@saintthomaszanesville.org
SUMMARY:Mass
DESCRIPTION:
URL:https://saintthomaszanesville.org/event/mass-3/2024-06-19/
LOCATION:St Thomas
CATEGORIES:Mass
END:VEVENT
BEGIN:VEVENT
DTSTART;TZID=America/Detroit:20240620T090000
DTEND;TZID=America/Detroit:20240620T094500
DTSTAMP:20260422T185024
CREATED:20231025T130315Z
LAST-MODIFIED:20260219T151402Z
UID:10005842-1718874000-1718876700@saintthomaszanesville.org
SUMMARY:Mass
DESCRIPTION:
URL:https://saintthomaszanesville.org/event/mass-5-3/2024-06-20/
LOCATION:St Thomas
CATEGORIES:Mass
END:VEVENT
BEGIN:VEVENT
DTSTART;TZID=America/Detroit:20240621T090000
DTEND;TZID=America/Detroit:20240621T094500
DTSTAMP:20260422T185024
CREATED:20231026T143024Z
LAST-MODIFIED:20260219T151539Z
UID:10006101-1718960400-1718963100@saintthomaszanesville.org
SUMMARY:Mass
DESCRIPTION:
URL:https://saintthomaszanesville.org/event/mass-6-2/2024-06-21/
LOCATION:St Thomas
CATEGORIES:Mass
END:VEVENT
BEGIN:VEVENT
DTSTART;TZID=America/Detroit:20240622T163000
DTEND;TZID=America/Detroit:20240622T173000
DTSTAMP:20260422T185024
CREATED:20240626T171342Z
LAST-MODIFIED:20260219T153326Z
UID:10007915-1719073800-1719077400@saintthomaszanesville.org
SUMMARY:Mass
DESCRIPTION:
URL:https://saintthomaszanesville.org/event/mass/2024-06-22/
LOCATION:St Thomas
CATEGORIES:Mass
END:VEVENT
BEGIN:VEVENT
DTSTART;TZID=America/Detroit:20240623T074500
DTEND;TZID=America/Detroit:20240623T084500
DTSTAMP:20260422T185024
CREATED:20240626T174505Z
LAST-MODIFIED:20250917T124608Z
UID:10008719-1719128700-1719132300@saintthomaszanesville.org
SUMMARY:Mass
DESCRIPTION:
URL:https://saintthomaszanesville.org/event/mass-2-2/2024-06-23/
CATEGORIES:Mass
END:VEVENT
BEGIN:VEVENT
DTSTART;TZID=America/Detroit:20240623T110000
DTEND;TZID=America/Detroit:20240623T120000
DTSTAMP:20260422T185024
CREATED:20240626T174409Z
LAST-MODIFIED:20241205T172135Z
UID:10008984-1719140400-1719144000@saintthomaszanesville.org
SUMMARY:Mass
DESCRIPTION:
URL:https://saintthomaszanesville.org/event/mass-2/2024-06-23/
CATEGORIES:Mass
END:VEVENT
BEGIN:VEVENT
DTSTART;TZID=America/Detroit:20240625T090000
DTEND;TZID=America/Detroit:20240625T094500
DTSTAMP:20260422T185024
CREATED:20230717T191610Z
LAST-MODIFIED:20260219T151222Z
UID:10005584-1719306000-1719308700@saintthomaszanesville.org
SUMMARY:Mass
DESCRIPTION:
URL:https://saintthomaszanesville.org/event/mass-4/2024-06-25/
LOCATION:St Thomas
CATEGORIES:Mass
END:VEVENT
BEGIN:VEVENT
DTSTART;TZID=America/Detroit:20240626T090000
DTEND;TZID=America/Detroit:20240626T094500
DTSTAMP:20260422T185024
CREATED:20230717T191330Z
LAST-MODIFIED:20251121T143234Z
UID:10005325-1719392400-1719395100@saintthomaszanesville.org
SUMMARY:Mass
DESCRIPTION:
URL:https://saintthomaszanesville.org/event/mass-3/2024-06-26/
LOCATION:St Thomas
CATEGORIES:Mass
END:VEVENT
BEGIN:VEVENT
DTSTART;TZID=America/Detroit:20240627T090000
DTEND;TZID=America/Detroit:20240627T094500
DTSTAMP:20260422T185024
CREATED:20231025T130315Z
LAST-MODIFIED:20260219T151402Z
UID:10005843-1719478800-1719481500@saintthomaszanesville.org
SUMMARY:Mass
DESCRIPTION:
URL:https://saintthomaszanesville.org/event/mass-5-3/2024-06-27/
LOCATION:St Thomas
CATEGORIES:Mass
END:VEVENT
BEGIN:VEVENT
DTSTART;TZID=America/Detroit:20240628T090000
DTEND;TZID=America/Detroit:20240628T094500
DTSTAMP:20260422T185024
CREATED:20231026T143024Z
LAST-MODIFIED:20260219T151539Z
UID:10006102-1719565200-1719567900@saintthomaszanesville.org
SUMMARY:Mass
DESCRIPTION:
URL:https://saintthomaszanesville.org/event/mass-6-2/2024-06-28/
LOCATION:St Thomas
CATEGORIES:Mass
END:VEVENT
BEGIN:VEVENT
DTSTART;TZID=America/Detroit:20240629T163000
DTEND;TZID=America/Detroit:20240629T173000
DTSTAMP:20260422T185024
CREATED:20240626T171342Z
LAST-MODIFIED:20260219T153326Z
UID:10007916-1719678600-1719682200@saintthomaszanesville.org
SUMMARY:Mass
DESCRIPTION:
URL:https://saintthomaszanesville.org/event/mass/2024-06-29/
LOCATION:St Thomas
CATEGORIES:Mass
END:VEVENT
BEGIN:VEVENT
DTSTART;TZID=America/Detroit:20240630T074500
DTEND;TZID=America/Detroit:20240630T084500
DTSTAMP:20260422T185024
CREATED:20240626T174505Z
LAST-MODIFIED:20250917T124608Z
UID:10008720-1719733500-1719737100@saintthomaszanesville.org
SUMMARY:Mass
DESCRIPTION:
URL:https://saintthomaszanesville.org/event/mass-2-2/2024-06-30/
CATEGORIES:Mass
END:VEVENT
BEGIN:VEVENT
DTSTART;TZID=America/Detroit:20240630T110000
DTEND;TZID=America/Detroit:20240630T120000
DTSTAMP:20260422T185024
CREATED:20240626T174409Z
LAST-MODIFIED:20241205T172135Z
UID:10008985-1719745200-1719748800@saintthomaszanesville.org
SUMMARY:Mass
DESCRIPTION:
URL:https://saintthomaszanesville.org/event/mass-2/2024-06-30/
CATEGORIES:Mass
END:VEVENT
BEGIN:VEVENT
DTSTART;TZID=America/Detroit:20240702T090000
DTEND;TZID=America/Detroit:20240702T094500
DTSTAMP:20260422T185024
CREATED:20230717T191610Z
LAST-MODIFIED:20260219T151222Z
UID:10005585-1719910800-1719913500@saintthomaszanesville.org
SUMMARY:Mass
DESCRIPTION:
URL:https://saintthomaszanesville.org/event/mass-4/2024-07-02/
LOCATION:St Thomas
CATEGORIES:Mass
END:VEVENT
BEGIN:VEVENT
DTSTART;TZID=America/Detroit:20240703T090000
DTEND;TZID=America/Detroit:20240703T094500
DTSTAMP:20260422T185024
CREATED:20230717T191330Z
LAST-MODIFIED:20251121T143234Z
UID:10005326-1719997200-1719999900@saintthomaszanesville.org
SUMMARY:Mass
DESCRIPTION:
URL:https://saintthomaszanesville.org/event/mass-3/2024-07-03/
LOCATION:St Thomas
CATEGORIES:Mass
END:VEVENT
BEGIN:VEVENT
DTSTART;TZID=America/Detroit:20240704T090000
DTEND;TZID=America/Detroit:20240704T094500
DTSTAMP:20260422T185024
CREATED:20231025T130315Z
LAST-MODIFIED:20260219T151402Z
UID:10005844-1720083600-1720086300@saintthomaszanesville.org
SUMMARY:Mass
DESCRIPTION:
URL:https://saintthomaszanesville.org/event/mass-5-3/2024-07-04/
LOCATION:St Thomas
CATEGORIES:Mass
END:VEVENT
BEGIN:VEVENT
DTSTART;TZID=America/Detroit:20240705T090000
DTEND;TZID=America/Detroit:20240705T094500
DTSTAMP:20260422T185024
CREATED:20231026T143024Z
LAST-MODIFIED:20260219T151539Z
UID:10006103-1720170000-1720172700@saintthomaszanesville.org
SUMMARY:Mass
DESCRIPTION:
URL:https://saintthomaszanesville.org/event/mass-6-2/2024-07-05/
LOCATION:St Thomas
CATEGORIES:Mass
END:VEVENT
BEGIN:VEVENT
DTSTART;TZID=America/Detroit:20240706T163000
DTEND;TZID=America/Detroit:20240706T173000
DTSTAMP:20260422T185024
CREATED:20240626T171342Z
LAST-MODIFIED:20260219T153326Z
UID:10007917-1720283400-1720287000@saintthomaszanesville.org
SUMMARY:Mass
DESCRIPTION:
URL:https://saintthomaszanesville.org/event/mass/2024-07-06/
LOCATION:St Thomas
CATEGORIES:Mass
END:VEVENT
BEGIN:VEVENT
DTSTART;TZID=America/Detroit:20240707T074500
DTEND;TZID=America/Detroit:20240707T084500
DTSTAMP:20260422T185024
CREATED:20240626T174505Z
LAST-MODIFIED:20250917T124608Z
UID:10008721-1720338300-1720341900@saintthomaszanesville.org
SUMMARY:Mass
DESCRIPTION:
URL:https://saintthomaszanesville.org/event/mass-2-2/2024-07-07/
CATEGORIES:Mass
END:VEVENT
BEGIN:VEVENT
DTSTART;TZID=America/Detroit:20240707T110000
DTEND;TZID=America/Detroit:20240707T120000
DTSTAMP:20260422T185024
CREATED:20240626T174409Z
LAST-MODIFIED:20241205T172135Z
UID:10008986-1720350000-1720353600@saintthomaszanesville.org
SUMMARY:Mass
DESCRIPTION:
URL:https://saintthomaszanesville.org/event/mass-2/2024-07-07/
CATEGORIES:Mass
END:VEVENT
BEGIN:VEVENT
DTSTART;TZID=America/Detroit:20240709T090000
DTEND;TZID=America/Detroit:20240709T094500
DTSTAMP:20260422T185024
CREATED:20230717T191610Z
LAST-MODIFIED:20260219T151222Z
UID:10005586-1720515600-1720518300@saintthomaszanesville.org
SUMMARY:Mass
DESCRIPTION:
URL:https://saintthomaszanesville.org/event/mass-4/2024-07-09/
LOCATION:St Thomas
CATEGORIES:Mass
END:VEVENT
BEGIN:VEVENT
DTSTART;TZID=America/Detroit:20240710T090000
DTEND;TZID=America/Detroit:20240710T094500
DTSTAMP:20260422T185024
CREATED:20230717T191330Z
LAST-MODIFIED:20251121T143234Z
UID:10005327-1720602000-1720604700@saintthomaszanesville.org
SUMMARY:Mass
DESCRIPTION:
URL:https://saintthomaszanesville.org/event/mass-3/2024-07-10/
LOCATION:St Thomas
CATEGORIES:Mass
END:VEVENT
BEGIN:VEVENT
DTSTART;TZID=America/Detroit:20240711T090000
DTEND;TZID=America/Detroit:20240711T094500
DTSTAMP:20260422T185024
CREATED:20231025T130315Z
LAST-MODIFIED:20260219T151402Z
UID:10005845-1720688400-1720691100@saintthomaszanesville.org
SUMMARY:Mass
DESCRIPTION:
URL:https://saintthomaszanesville.org/event/mass-5-3/2024-07-11/
LOCATION:St Thomas
CATEGORIES:Mass
END:VEVENT
BEGIN:VEVENT
DTSTART;TZID=America/Detroit:20240712T090000
DTEND;TZID=America/Detroit:20240712T094500
DTSTAMP:20260422T185024
CREATED:20231026T143024Z
LAST-MODIFIED:20260219T151539Z
UID:10006104-1720774800-1720777500@saintthomaszanesville.org
SUMMARY:Mass
DESCRIPTION:
URL:https://saintthomaszanesville.org/event/mass-6-2/2024-07-12/
LOCATION:St Thomas
CATEGORIES:Mass
END:VEVENT
BEGIN:VEVENT
DTSTART;TZID=America/Detroit:20240713T163000
DTEND;TZID=America/Detroit:20240713T173000
DTSTAMP:20260422T185024
CREATED:20240626T171342Z
LAST-MODIFIED:20260219T153326Z
UID:10007918-1720888200-1720891800@saintthomaszanesville.org
SUMMARY:Mass
DESCRIPTION:
URL:https://saintthomaszanesville.org/event/mass/2024-07-13/
LOCATION:St Thomas
CATEGORIES:Mass
END:VEVENT
BEGIN:VEVENT
DTSTART;TZID=America/Detroit:20240714T074500
DTEND;TZID=America/Detroit:20240714T084500
DTSTAMP:20260422T185024
CREATED:20240626T174505Z
LAST-MODIFIED:20250917T124608Z
UID:10008722-1720943100-1720946700@saintthomaszanesville.org
SUMMARY:Mass
DESCRIPTION:
URL:https://saintthomaszanesville.org/event/mass-2-2/2024-07-14/
CATEGORIES:Mass
END:VEVENT
BEGIN:VEVENT
DTSTART;TZID=America/Detroit:20240714T110000
DTEND;TZID=America/Detroit:20240714T120000
DTSTAMP:20260422T185024
CREATED:20240626T174409Z
LAST-MODIFIED:20241205T172135Z
UID:10008987-1720954800-1720958400@saintthomaszanesville.org
SUMMARY:Mass
DESCRIPTION:
URL:https://saintthomaszanesville.org/event/mass-2/2024-07-14/
CATEGORIES:Mass
END:VEVENT
END:VCALENDAR