BEGIN:VCALENDAR
VERSION:2.0
PRODID:-//Saint Thomas Acquinas Zanesville - ECPv6.15.20//NONSGML v1.0//EN
CALSCALE:GREGORIAN
METHOD:PUBLISH
X-ORIGINAL-URL:https://saintthomaszanesville.org
X-WR-CALDESC:Events for Saint Thomas Acquinas Zanesville
REFRESH-INTERVAL;VALUE=DURATION:PT1H
X-Robots-Tag:noindex
X-PUBLISHED-TTL:PT1H
BEGIN:VTIMEZONE
TZID:America/Detroit
BEGIN:DAYLIGHT
TZOFFSETFROM:-0500
TZOFFSETTO:-0400
TZNAME:EDT
DTSTART:20230312T070000
END:DAYLIGHT
BEGIN:STANDARD
TZOFFSETFROM:-0400
TZOFFSETTO:-0500
TZNAME:EST
DTSTART:20231105T060000
END:STANDARD
BEGIN:DAYLIGHT
TZOFFSETFROM:-0500
TZOFFSETTO:-0400
TZNAME:EDT
DTSTART:20240310T070000
END:DAYLIGHT
BEGIN:STANDARD
TZOFFSETFROM:-0400
TZOFFSETTO:-0500
TZNAME:EST
DTSTART:20241103T060000
END:STANDARD
BEGIN:DAYLIGHT
TZOFFSETFROM:-0500
TZOFFSETTO:-0400
TZNAME:EDT
DTSTART:20250309T070000
END:DAYLIGHT
BEGIN:STANDARD
TZOFFSETFROM:-0400
TZOFFSETTO:-0500
TZNAME:EST
DTSTART:20251102T060000
END:STANDARD
END:VTIMEZONE
BEGIN:VEVENT
DTSTART;TZID=America/Detroit:20240405T090000
DTEND;TZID=America/Detroit:20240405T094500
DTSTAMP:20260423T060354
CREATED:20231026T143024Z
LAST-MODIFIED:20260219T151539Z
UID:10006090-1712307600-1712310300@saintthomaszanesville.org
SUMMARY:Mass
DESCRIPTION:
URL:https://saintthomaszanesville.org/event/mass-6-2/2024-04-05/
LOCATION:St Thomas
CATEGORIES:Mass
END:VEVENT
BEGIN:VEVENT
DTSTART;TZID=America/Detroit:20240409T090000
DTEND;TZID=America/Detroit:20240409T094500
DTSTAMP:20260423T060354
CREATED:20230717T191610Z
LAST-MODIFIED:20260219T151222Z
UID:10005573-1712653200-1712655900@saintthomaszanesville.org
SUMMARY:Mass
DESCRIPTION:
URL:https://saintthomaszanesville.org/event/mass-4/2024-04-09/
LOCATION:St Thomas
CATEGORIES:Mass
END:VEVENT
BEGIN:VEVENT
DTSTART;TZID=America/Detroit:20240410T090000
DTEND;TZID=America/Detroit:20240410T094500
DTSTAMP:20260423T060354
CREATED:20230717T191330Z
LAST-MODIFIED:20251121T143234Z
UID:10005314-1712739600-1712742300@saintthomaszanesville.org
SUMMARY:Mass
DESCRIPTION:
URL:https://saintthomaszanesville.org/event/mass-3/2024-04-10/
LOCATION:St Thomas
CATEGORIES:Mass
END:VEVENT
BEGIN:VEVENT
DTSTART;TZID=America/Detroit:20240411T090000
DTEND;TZID=America/Detroit:20240411T094500
DTSTAMP:20260423T060354
CREATED:20231025T130315Z
LAST-MODIFIED:20260219T151402Z
UID:10005832-1712826000-1712828700@saintthomaszanesville.org
SUMMARY:Mass
DESCRIPTION:
URL:https://saintthomaszanesville.org/event/mass-5-3/2024-04-11/
LOCATION:St Thomas
CATEGORIES:Mass
END:VEVENT
BEGIN:VEVENT
DTSTART;TZID=America/Detroit:20240412T090000
DTEND;TZID=America/Detroit:20240412T094500
DTSTAMP:20260423T060355
CREATED:20231026T143024Z
LAST-MODIFIED:20260219T151539Z
UID:10006091-1712912400-1712915100@saintthomaszanesville.org
SUMMARY:Mass
DESCRIPTION:
URL:https://saintthomaszanesville.org/event/mass-6-2/2024-04-12/
LOCATION:St Thomas
CATEGORIES:Mass
END:VEVENT
BEGIN:VEVENT
DTSTART;TZID=America/Detroit:20240416T090000
DTEND;TZID=America/Detroit:20240416T094500
DTSTAMP:20260423T060355
CREATED:20230717T191610Z
LAST-MODIFIED:20260219T151222Z
UID:10005574-1713258000-1713260700@saintthomaszanesville.org
SUMMARY:Mass
DESCRIPTION:
URL:https://saintthomaszanesville.org/event/mass-4/2024-04-16/
LOCATION:St Thomas
CATEGORIES:Mass
END:VEVENT
BEGIN:VEVENT
DTSTART;TZID=America/Detroit:20240417T090000
DTEND;TZID=America/Detroit:20240417T094500
DTSTAMP:20260423T060355
CREATED:20230717T191330Z
LAST-MODIFIED:20251121T143234Z
UID:10005315-1713344400-1713347100@saintthomaszanesville.org
SUMMARY:Mass
DESCRIPTION:
URL:https://saintthomaszanesville.org/event/mass-3/2024-04-17/
LOCATION:St Thomas
CATEGORIES:Mass
END:VEVENT
BEGIN:VEVENT
DTSTART;TZID=America/Detroit:20240418T090000
DTEND;TZID=America/Detroit:20240418T094500
DTSTAMP:20260423T060355
CREATED:20231025T130315Z
LAST-MODIFIED:20260219T151402Z
UID:10005833-1713430800-1713433500@saintthomaszanesville.org
SUMMARY:Mass
DESCRIPTION:
URL:https://saintthomaszanesville.org/event/mass-5-3/2024-04-18/
LOCATION:St Thomas
CATEGORIES:Mass
END:VEVENT
BEGIN:VEVENT
DTSTART;TZID=America/Detroit:20240419T090000
DTEND;TZID=America/Detroit:20240419T094500
DTSTAMP:20260423T060355
CREATED:20231026T143024Z
LAST-MODIFIED:20260219T151539Z
UID:10006092-1713517200-1713519900@saintthomaszanesville.org
SUMMARY:Mass
DESCRIPTION:
URL:https://saintthomaszanesville.org/event/mass-6-2/2024-04-19/
LOCATION:St Thomas
CATEGORIES:Mass
END:VEVENT
BEGIN:VEVENT
DTSTART;TZID=America/Detroit:20240423T090000
DTEND;TZID=America/Detroit:20240423T094500
DTSTAMP:20260423T060355
CREATED:20230717T191610Z
LAST-MODIFIED:20260219T151222Z
UID:10005575-1713862800-1713865500@saintthomaszanesville.org
SUMMARY:Mass
DESCRIPTION:
URL:https://saintthomaszanesville.org/event/mass-4/2024-04-23/
LOCATION:St Thomas
CATEGORIES:Mass
END:VEVENT
BEGIN:VEVENT
DTSTART;TZID=America/Detroit:20240424T090000
DTEND;TZID=America/Detroit:20240424T094500
DTSTAMP:20260423T060355
CREATED:20230717T191330Z
LAST-MODIFIED:20251121T143234Z
UID:10005316-1713949200-1713951900@saintthomaszanesville.org
SUMMARY:Mass
DESCRIPTION:
URL:https://saintthomaszanesville.org/event/mass-3/2024-04-24/
LOCATION:St Thomas
CATEGORIES:Mass
END:VEVENT
BEGIN:VEVENT
DTSTART;TZID=America/Detroit:20240425T090000
DTEND;TZID=America/Detroit:20240425T094500
DTSTAMP:20260423T060355
CREATED:20231025T130315Z
LAST-MODIFIED:20260219T151402Z
UID:10005834-1714035600-1714038300@saintthomaszanesville.org
SUMMARY:Mass
DESCRIPTION:
URL:https://saintthomaszanesville.org/event/mass-5-3/2024-04-25/
LOCATION:St Thomas
CATEGORIES:Mass
END:VEVENT
BEGIN:VEVENT
DTSTART;TZID=America/Detroit:20240426T090000
DTEND;TZID=America/Detroit:20240426T094500
DTSTAMP:20260423T060355
CREATED:20231026T143024Z
LAST-MODIFIED:20260219T151539Z
UID:10006093-1714122000-1714124700@saintthomaszanesville.org
SUMMARY:Mass
DESCRIPTION:
URL:https://saintthomaszanesville.org/event/mass-6-2/2024-04-26/
LOCATION:St Thomas
CATEGORIES:Mass
END:VEVENT
BEGIN:VEVENT
DTSTART;TZID=America/Detroit:20240430T090000
DTEND;TZID=America/Detroit:20240430T094500
DTSTAMP:20260423T060355
CREATED:20230717T191610Z
LAST-MODIFIED:20260219T151222Z
UID:10005576-1714467600-1714470300@saintthomaszanesville.org
SUMMARY:Mass
DESCRIPTION:
URL:https://saintthomaszanesville.org/event/mass-4/2024-04-30/
LOCATION:St Thomas
CATEGORIES:Mass
END:VEVENT
BEGIN:VEVENT
DTSTART;TZID=America/Detroit:20240501T090000
DTEND;TZID=America/Detroit:20240501T094500
DTSTAMP:20260423T060355
CREATED:20230717T191330Z
LAST-MODIFIED:20251121T143234Z
UID:10005317-1714554000-1714556700@saintthomaszanesville.org
SUMMARY:Mass
DESCRIPTION:
URL:https://saintthomaszanesville.org/event/mass-3/2024-05-01/
LOCATION:St Thomas
CATEGORIES:Mass
END:VEVENT
BEGIN:VEVENT
DTSTART;TZID=America/Detroit:20240502T090000
DTEND;TZID=America/Detroit:20240502T094500
DTSTAMP:20260423T060355
CREATED:20231025T130315Z
LAST-MODIFIED:20260219T151402Z
UID:10005835-1714640400-1714643100@saintthomaszanesville.org
SUMMARY:Mass
DESCRIPTION:
URL:https://saintthomaszanesville.org/event/mass-5-3/2024-05-02/
LOCATION:St Thomas
CATEGORIES:Mass
END:VEVENT
BEGIN:VEVENT
DTSTART;TZID=America/Detroit:20240503T090000
DTEND;TZID=America/Detroit:20240503T094500
DTSTAMP:20260423T060355
CREATED:20231026T143024Z
LAST-MODIFIED:20260219T151539Z
UID:10006094-1714726800-1714729500@saintthomaszanesville.org
SUMMARY:Mass
DESCRIPTION:
URL:https://saintthomaszanesville.org/event/mass-6-2/2024-05-03/
LOCATION:St Thomas
CATEGORIES:Mass
END:VEVENT
BEGIN:VEVENT
DTSTART;TZID=America/Detroit:20240507T090000
DTEND;TZID=America/Detroit:20240507T094500
DTSTAMP:20260423T060355
CREATED:20230717T191610Z
LAST-MODIFIED:20260219T151222Z
UID:10005577-1715072400-1715075100@saintthomaszanesville.org
SUMMARY:Mass
DESCRIPTION:
URL:https://saintthomaszanesville.org/event/mass-4/2024-05-07/
LOCATION:St Thomas
CATEGORIES:Mass
END:VEVENT
BEGIN:VEVENT
DTSTART;TZID=America/Detroit:20240508T090000
DTEND;TZID=America/Detroit:20240508T094500
DTSTAMP:20260423T060355
CREATED:20230717T191330Z
LAST-MODIFIED:20251121T143234Z
UID:10005318-1715158800-1715161500@saintthomaszanesville.org
SUMMARY:Mass
DESCRIPTION:
URL:https://saintthomaszanesville.org/event/mass-3/2024-05-08/
LOCATION:St Thomas
CATEGORIES:Mass
END:VEVENT
BEGIN:VEVENT
DTSTART;TZID=America/Detroit:20240509T090000
DTEND;TZID=America/Detroit:20240509T094500
DTSTAMP:20260423T060355
CREATED:20231025T130315Z
LAST-MODIFIED:20260219T151402Z
UID:10005836-1715245200-1715247900@saintthomaszanesville.org
SUMMARY:Mass
DESCRIPTION:
URL:https://saintthomaszanesville.org/event/mass-5-3/2024-05-09/
LOCATION:St Thomas
CATEGORIES:Mass
END:VEVENT
BEGIN:VEVENT
DTSTART;TZID=America/Detroit:20240510T090000
DTEND;TZID=America/Detroit:20240510T094500
DTSTAMP:20260423T060355
CREATED:20231026T143024Z
LAST-MODIFIED:20260219T151539Z
UID:10006095-1715331600-1715334300@saintthomaszanesville.org
SUMMARY:Mass
DESCRIPTION:
URL:https://saintthomaszanesville.org/event/mass-6-2/2024-05-10/
LOCATION:St Thomas
CATEGORIES:Mass
END:VEVENT
BEGIN:VEVENT
DTSTART;TZID=America/Detroit:20240514T090000
DTEND;TZID=America/Detroit:20240514T094500
DTSTAMP:20260423T060355
CREATED:20230717T191610Z
LAST-MODIFIED:20260219T151222Z
UID:10005578-1715677200-1715679900@saintthomaszanesville.org
SUMMARY:Mass
DESCRIPTION:
URL:https://saintthomaszanesville.org/event/mass-4/2024-05-14/
LOCATION:St Thomas
CATEGORIES:Mass
END:VEVENT
BEGIN:VEVENT
DTSTART;TZID=America/Detroit:20240515T090000
DTEND;TZID=America/Detroit:20240515T094500
DTSTAMP:20260423T060355
CREATED:20230717T191330Z
LAST-MODIFIED:20251121T143234Z
UID:10005319-1715763600-1715766300@saintthomaszanesville.org
SUMMARY:Mass
DESCRIPTION:
URL:https://saintthomaszanesville.org/event/mass-3/2024-05-15/
LOCATION:St Thomas
CATEGORIES:Mass
END:VEVENT
BEGIN:VEVENT
DTSTART;TZID=America/Detroit:20240516T090000
DTEND;TZID=America/Detroit:20240516T094500
DTSTAMP:20260423T060355
CREATED:20231025T130315Z
LAST-MODIFIED:20260219T151402Z
UID:10005837-1715850000-1715852700@saintthomaszanesville.org
SUMMARY:Mass
DESCRIPTION:
URL:https://saintthomaszanesville.org/event/mass-5-3/2024-05-16/
LOCATION:St Thomas
CATEGORIES:Mass
END:VEVENT
BEGIN:VEVENT
DTSTART;TZID=America/Detroit:20240517T090000
DTEND;TZID=America/Detroit:20240517T094500
DTSTAMP:20260423T060355
CREATED:20231026T143024Z
LAST-MODIFIED:20260219T151539Z
UID:10006096-1715936400-1715939100@saintthomaszanesville.org
SUMMARY:Mass
DESCRIPTION:
URL:https://saintthomaszanesville.org/event/mass-6-2/2024-05-17/
LOCATION:St Thomas
CATEGORIES:Mass
END:VEVENT
BEGIN:VEVENT
DTSTART;TZID=America/Detroit:20240521T090000
DTEND;TZID=America/Detroit:20240521T094500
DTSTAMP:20260423T060355
CREATED:20230717T191610Z
LAST-MODIFIED:20260219T151222Z
UID:10005579-1716282000-1716284700@saintthomaszanesville.org
SUMMARY:Mass
DESCRIPTION:
URL:https://saintthomaszanesville.org/event/mass-4/2024-05-21/
LOCATION:St Thomas
CATEGORIES:Mass
END:VEVENT
BEGIN:VEVENT
DTSTART;TZID=America/Detroit:20240522T090000
DTEND;TZID=America/Detroit:20240522T094500
DTSTAMP:20260423T060355
CREATED:20230717T191330Z
LAST-MODIFIED:20251121T143234Z
UID:10005320-1716368400-1716371100@saintthomaszanesville.org
SUMMARY:Mass
DESCRIPTION:
URL:https://saintthomaszanesville.org/event/mass-3/2024-05-22/
LOCATION:St Thomas
CATEGORIES:Mass
END:VEVENT
BEGIN:VEVENT
DTSTART;TZID=America/Detroit:20240523T090000
DTEND;TZID=America/Detroit:20240523T094500
DTSTAMP:20260423T060355
CREATED:20231025T130315Z
LAST-MODIFIED:20260219T151402Z
UID:10005838-1716454800-1716457500@saintthomaszanesville.org
SUMMARY:Mass
DESCRIPTION:
URL:https://saintthomaszanesville.org/event/mass-5-3/2024-05-23/
LOCATION:St Thomas
CATEGORIES:Mass
END:VEVENT
BEGIN:VEVENT
DTSTART;TZID=America/Detroit:20240524T090000
DTEND;TZID=America/Detroit:20240524T094500
DTSTAMP:20260423T060355
CREATED:20231026T143024Z
LAST-MODIFIED:20260219T151539Z
UID:10006097-1716541200-1716543900@saintthomaszanesville.org
SUMMARY:Mass
DESCRIPTION:
URL:https://saintthomaszanesville.org/event/mass-6-2/2024-05-24/
LOCATION:St Thomas
CATEGORIES:Mass
END:VEVENT
BEGIN:VEVENT
DTSTART;TZID=America/Detroit:20240528T090000
DTEND;TZID=America/Detroit:20240528T094500
DTSTAMP:20260423T060355
CREATED:20230717T191610Z
LAST-MODIFIED:20260219T151222Z
UID:10005580-1716886800-1716889500@saintthomaszanesville.org
SUMMARY:Mass
DESCRIPTION:
URL:https://saintthomaszanesville.org/event/mass-4/2024-05-28/
LOCATION:St Thomas
CATEGORIES:Mass
END:VEVENT
END:VCALENDAR