BEGIN:VCALENDAR
VERSION:2.0
PRODID:-//Saint Thomas Acquinas Zanesville - ECPv6.15.20//NONSGML v1.0//EN
CALSCALE:GREGORIAN
METHOD:PUBLISH
X-WR-CALNAME:Saint Thomas Acquinas Zanesville
X-ORIGINAL-URL:https://saintthomaszanesville.org
X-WR-CALDESC:Events for Saint Thomas Acquinas Zanesville
REFRESH-INTERVAL;VALUE=DURATION:PT1H
X-Robots-Tag:noindex
X-PUBLISHED-TTL:PT1H
BEGIN:VTIMEZONE
TZID:America/Detroit
BEGIN:DAYLIGHT
TZOFFSETFROM:-0500
TZOFFSETTO:-0400
TZNAME:EDT
DTSTART:20250309T070000
END:DAYLIGHT
BEGIN:STANDARD
TZOFFSETFROM:-0400
TZOFFSETTO:-0500
TZNAME:EST
DTSTART:20251102T060000
END:STANDARD
BEGIN:DAYLIGHT
TZOFFSETFROM:-0500
TZOFFSETTO:-0400
TZNAME:EDT
DTSTART:20260308T070000
END:DAYLIGHT
BEGIN:STANDARD
TZOFFSETFROM:-0400
TZOFFSETTO:-0500
TZNAME:EST
DTSTART:20261101T060000
END:STANDARD
BEGIN:DAYLIGHT
TZOFFSETFROM:-0500
TZOFFSETTO:-0400
TZNAME:EDT
DTSTART:20270314T070000
END:DAYLIGHT
BEGIN:STANDARD
TZOFFSETFROM:-0400
TZOFFSETTO:-0500
TZNAME:EST
DTSTART:20271107T060000
END:STANDARD
END:VTIMEZONE
BEGIN:VEVENT
DTSTART;TZID=America/Detroit:20260201T074500
DTEND;TZID=America/Detroit:20260201T084500
DTSTAMP:20260420T200934
CREATED:20240626T174505Z
LAST-MODIFIED:20250917T124608Z
UID:10008803-1769931900-1769935500@saintthomaszanesville.org
SUMMARY:Mass
DESCRIPTION:
URL:https://saintthomaszanesville.org/event/mass-2-2/2026-02-01/
CATEGORIES:Mass
END:VEVENT
BEGIN:VEVENT
DTSTART;TZID=America/Detroit:20260201T110000
DTEND;TZID=America/Detroit:20260201T120000
DTSTAMP:20260420T200934
CREATED:20240626T174409Z
LAST-MODIFIED:20241205T172135Z
UID:10009068-1769943600-1769947200@saintthomaszanesville.org
SUMMARY:Mass
DESCRIPTION:
URL:https://saintthomaszanesville.org/event/mass-2/2026-02-01/
CATEGORIES:Mass
END:VEVENT
BEGIN:VEVENT
DTSTART;TZID=America/Detroit:20260203T090000
DTEND;TZID=America/Detroit:20260203T094500
DTSTAMP:20260420T200934
CREATED:20230717T191610Z
LAST-MODIFIED:20260219T151222Z
UID:10005668-1770109200-1770111900@saintthomaszanesville.org
SUMMARY:Mass
DESCRIPTION:
URL:https://saintthomaszanesville.org/event/mass-4/2026-02-03/
LOCATION:St Thomas
CATEGORIES:Mass
END:VEVENT
BEGIN:VEVENT
DTSTART;TZID=America/Detroit:20260204T090000
DTEND;TZID=America/Detroit:20260204T094500
DTSTAMP:20260420T200934
CREATED:20230717T191330Z
LAST-MODIFIED:20251121T143234Z
UID:10005409-1770195600-1770198300@saintthomaszanesville.org
SUMMARY:Mass
DESCRIPTION:
URL:https://saintthomaszanesville.org/event/mass-3/2026-02-04/
LOCATION:St Thomas
CATEGORIES:Mass
END:VEVENT
BEGIN:VEVENT
DTSTART;TZID=America/Detroit:20260205T090000
DTEND;TZID=America/Detroit:20260205T094500
DTSTAMP:20260420T200934
CREATED:20231025T130315Z
LAST-MODIFIED:20260219T151402Z
UID:10005927-1770282000-1770284700@saintthomaszanesville.org
SUMMARY:Mass
DESCRIPTION:
URL:https://saintthomaszanesville.org/event/mass-5-3/2026-02-05/
LOCATION:St Thomas
CATEGORIES:Mass
END:VEVENT
BEGIN:VEVENT
DTSTART;TZID=America/Detroit:20260206T090000
DTEND;TZID=America/Detroit:20260206T094500
DTSTAMP:20260420T200934
CREATED:20231026T143024Z
LAST-MODIFIED:20260219T151539Z
UID:10006186-1770368400-1770371100@saintthomaszanesville.org
SUMMARY:Mass
DESCRIPTION:
URL:https://saintthomaszanesville.org/event/mass-6-2/2026-02-06/
LOCATION:St Thomas
CATEGORIES:Mass
END:VEVENT
BEGIN:VEVENT
DTSTART;TZID=America/Detroit:20260207T163000
DTEND;TZID=America/Detroit:20260207T173000
DTSTAMP:20260420T200934
CREATED:20240626T171342Z
LAST-MODIFIED:20260219T153326Z
UID:10008000-1770481800-1770485400@saintthomaszanesville.org
SUMMARY:Mass
DESCRIPTION:
URL:https://saintthomaszanesville.org/event/mass/2026-02-07/
LOCATION:St Thomas
CATEGORIES:Mass
END:VEVENT
BEGIN:VEVENT
DTSTART;TZID=America/Detroit:20260208T074500
DTEND;TZID=America/Detroit:20260208T084500
DTSTAMP:20260420T200934
CREATED:20240626T174505Z
LAST-MODIFIED:20250917T124608Z
UID:10008804-1770536700-1770540300@saintthomaszanesville.org
SUMMARY:Mass
DESCRIPTION:
URL:https://saintthomaszanesville.org/event/mass-2-2/2026-02-08/
CATEGORIES:Mass
END:VEVENT
BEGIN:VEVENT
DTSTART;TZID=America/Detroit:20260208T110000
DTEND;TZID=America/Detroit:20260208T120000
DTSTAMP:20260420T200934
CREATED:20240626T174409Z
LAST-MODIFIED:20241205T172135Z
UID:10009069-1770548400-1770552000@saintthomaszanesville.org
SUMMARY:Mass
DESCRIPTION:
URL:https://saintthomaszanesville.org/event/mass-2/2026-02-08/
CATEGORIES:Mass
END:VEVENT
BEGIN:VEVENT
DTSTART;TZID=America/Detroit:20260210T090000
DTEND;TZID=America/Detroit:20260210T094500
DTSTAMP:20260420T200934
CREATED:20230717T191610Z
LAST-MODIFIED:20260219T151222Z
UID:10005669-1770714000-1770716700@saintthomaszanesville.org
SUMMARY:Mass
DESCRIPTION:
URL:https://saintthomaszanesville.org/event/mass-4/2026-02-10/
LOCATION:St Thomas
CATEGORIES:Mass
END:VEVENT
BEGIN:VEVENT
DTSTART;TZID=America/Detroit:20260211T090000
DTEND;TZID=America/Detroit:20260211T094500
DTSTAMP:20260420T200934
CREATED:20230717T191330Z
LAST-MODIFIED:20251121T143234Z
UID:10005410-1770800400-1770803100@saintthomaszanesville.org
SUMMARY:Mass
DESCRIPTION:
URL:https://saintthomaszanesville.org/event/mass-3/2026-02-11/
LOCATION:St Thomas
CATEGORIES:Mass
END:VEVENT
BEGIN:VEVENT
DTSTART;TZID=America/Detroit:20260212T090000
DTEND;TZID=America/Detroit:20260212T094500
DTSTAMP:20260420T200934
CREATED:20231025T130315Z
LAST-MODIFIED:20260219T151402Z
UID:10005928-1770886800-1770889500@saintthomaszanesville.org
SUMMARY:Mass
DESCRIPTION:
URL:https://saintthomaszanesville.org/event/mass-5-3/2026-02-12/
LOCATION:St Thomas
CATEGORIES:Mass
END:VEVENT
BEGIN:VEVENT
DTSTART;TZID=America/Detroit:20260213T090000
DTEND;TZID=America/Detroit:20260213T094500
DTSTAMP:20260420T200934
CREATED:20231026T143024Z
LAST-MODIFIED:20260219T151539Z
UID:10006187-1770973200-1770975900@saintthomaszanesville.org
SUMMARY:Mass
DESCRIPTION:
URL:https://saintthomaszanesville.org/event/mass-6-2/2026-02-13/
LOCATION:St Thomas
CATEGORIES:Mass
END:VEVENT
BEGIN:VEVENT
DTSTART;TZID=America/Detroit:20260214T163000
DTEND;TZID=America/Detroit:20260214T173000
DTSTAMP:20260420T200934
CREATED:20240626T171342Z
LAST-MODIFIED:20260219T153326Z
UID:10008001-1771086600-1771090200@saintthomaszanesville.org
SUMMARY:Mass
DESCRIPTION:
URL:https://saintthomaszanesville.org/event/mass/2026-02-14/
LOCATION:St Thomas
CATEGORIES:Mass
END:VEVENT
BEGIN:VEVENT
DTSTART;TZID=America/Detroit:20260215T074500
DTEND;TZID=America/Detroit:20260215T084500
DTSTAMP:20260420T200934
CREATED:20240626T174505Z
LAST-MODIFIED:20250917T124608Z
UID:10008805-1771141500-1771145100@saintthomaszanesville.org
SUMMARY:Mass
DESCRIPTION:
URL:https://saintthomaszanesville.org/event/mass-2-2/2026-02-15/
CATEGORIES:Mass
END:VEVENT
BEGIN:VEVENT
DTSTART;TZID=America/Detroit:20260215T110000
DTEND;TZID=America/Detroit:20260215T120000
DTSTAMP:20260420T200934
CREATED:20240626T174409Z
LAST-MODIFIED:20241205T172135Z
UID:10009070-1771153200-1771156800@saintthomaszanesville.org
SUMMARY:Mass
DESCRIPTION:
URL:https://saintthomaszanesville.org/event/mass-2/2026-02-15/
CATEGORIES:Mass
END:VEVENT
BEGIN:VEVENT
DTSTART;TZID=America/Detroit:20260217T090000
DTEND;TZID=America/Detroit:20260217T094500
DTSTAMP:20260420T200934
CREATED:20230717T191610Z
LAST-MODIFIED:20260219T151222Z
UID:10005670-1771318800-1771321500@saintthomaszanesville.org
SUMMARY:Mass
DESCRIPTION:
URL:https://saintthomaszanesville.org/event/mass-4/2026-02-17/
LOCATION:St Thomas
CATEGORIES:Mass
END:VEVENT
BEGIN:VEVENT
DTSTART;TZID=America/Detroit:20260218T090000
DTEND;TZID=America/Detroit:20260218T094500
DTSTAMP:20260420T200934
CREATED:20230717T191330Z
LAST-MODIFIED:20251121T143234Z
UID:10005411-1771405200-1771407900@saintthomaszanesville.org
SUMMARY:Mass
DESCRIPTION:
URL:https://saintthomaszanesville.org/event/mass-3/2026-02-18/
LOCATION:St Thomas
CATEGORIES:Mass
END:VEVENT
BEGIN:VEVENT
DTSTART;TZID=America/Detroit:20260219T090000
DTEND;TZID=America/Detroit:20260219T094500
DTSTAMP:20260420T200934
CREATED:20231025T130315Z
LAST-MODIFIED:20260219T151402Z
UID:10005929-1771491600-1771494300@saintthomaszanesville.org
SUMMARY:Mass
DESCRIPTION:
URL:https://saintthomaszanesville.org/event/mass-5-3/2026-02-19/
LOCATION:St Thomas
CATEGORIES:Mass
END:VEVENT
BEGIN:VEVENT
DTSTART;TZID=America/Detroit:20260220T090000
DTEND;TZID=America/Detroit:20260220T094500
DTSTAMP:20260420T200934
CREATED:20231026T143024Z
LAST-MODIFIED:20260219T151539Z
UID:10006188-1771578000-1771580700@saintthomaszanesville.org
SUMMARY:Mass
DESCRIPTION:
URL:https://saintthomaszanesville.org/event/mass-6-2/2026-02-20/
LOCATION:St Thomas
CATEGORIES:Mass
END:VEVENT
BEGIN:VEVENT
DTSTART;TZID=America/Detroit:20260221T163000
DTEND;TZID=America/Detroit:20260221T173000
DTSTAMP:20260420T200934
CREATED:20240626T171342Z
LAST-MODIFIED:20260219T153326Z
UID:10008002-1771691400-1771695000@saintthomaszanesville.org
SUMMARY:Mass
DESCRIPTION:
URL:https://saintthomaszanesville.org/event/mass/2026-02-21/
LOCATION:St Thomas
CATEGORIES:Mass
END:VEVENT
BEGIN:VEVENT
DTSTART;TZID=America/Detroit:20260222T074500
DTEND;TZID=America/Detroit:20260222T084500
DTSTAMP:20260420T200934
CREATED:20240626T174505Z
LAST-MODIFIED:20250917T124608Z
UID:10008806-1771746300-1771749900@saintthomaszanesville.org
SUMMARY:Mass
DESCRIPTION:
URL:https://saintthomaszanesville.org/event/mass-2-2/2026-02-22/
CATEGORIES:Mass
END:VEVENT
BEGIN:VEVENT
DTSTART;TZID=America/Detroit:20260222T110000
DTEND;TZID=America/Detroit:20260222T120000
DTSTAMP:20260420T200934
CREATED:20240626T174409Z
LAST-MODIFIED:20241205T172135Z
UID:10009071-1771758000-1771761600@saintthomaszanesville.org
SUMMARY:Mass
DESCRIPTION:
URL:https://saintthomaszanesville.org/event/mass-2/2026-02-22/
CATEGORIES:Mass
END:VEVENT
BEGIN:VEVENT
DTSTART;TZID=America/Detroit:20260224T090000
DTEND;TZID=America/Detroit:20260224T094500
DTSTAMP:20260420T200934
CREATED:20230717T191610Z
LAST-MODIFIED:20260219T151222Z
UID:10005671-1771923600-1771926300@saintthomaszanesville.org
SUMMARY:Mass
DESCRIPTION:
URL:https://saintthomaszanesville.org/event/mass-4/2026-02-24/
LOCATION:St Thomas
CATEGORIES:Mass
END:VEVENT
BEGIN:VEVENT
DTSTART;TZID=America/Detroit:20260225T090000
DTEND;TZID=America/Detroit:20260225T094500
DTSTAMP:20260420T200934
CREATED:20230717T191330Z
LAST-MODIFIED:20251121T143234Z
UID:10005412-1772010000-1772012700@saintthomaszanesville.org
SUMMARY:Mass
DESCRIPTION:
URL:https://saintthomaszanesville.org/event/mass-3/2026-02-25/
LOCATION:St Thomas
CATEGORIES:Mass
END:VEVENT
BEGIN:VEVENT
DTSTART;TZID=America/Detroit:20260226T090000
DTEND;TZID=America/Detroit:20260226T094500
DTSTAMP:20260420T200934
CREATED:20231025T130315Z
LAST-MODIFIED:20260219T151402Z
UID:10005930-1772096400-1772099100@saintthomaszanesville.org
SUMMARY:Mass
DESCRIPTION:
URL:https://saintthomaszanesville.org/event/mass-5-3/2026-02-26/
LOCATION:St Thomas
CATEGORIES:Mass
END:VEVENT
BEGIN:VEVENT
DTSTART;TZID=America/Detroit:20260227T090000
DTEND;TZID=America/Detroit:20260227T094500
DTSTAMP:20260420T200934
CREATED:20231026T143024Z
LAST-MODIFIED:20260219T151539Z
UID:10006189-1772182800-1772185500@saintthomaszanesville.org
SUMMARY:Mass
DESCRIPTION:
URL:https://saintthomaszanesville.org/event/mass-6-2/2026-02-27/
LOCATION:St Thomas
CATEGORIES:Mass
END:VEVENT
BEGIN:VEVENT
DTSTART;TZID=America/Detroit:20260228T163000
DTEND;TZID=America/Detroit:20260228T173000
DTSTAMP:20260420T200934
CREATED:20240626T171342Z
LAST-MODIFIED:20260219T153326Z
UID:10008003-1772296200-1772299800@saintthomaszanesville.org
SUMMARY:Mass
DESCRIPTION:
URL:https://saintthomaszanesville.org/event/mass/2026-02-28/
LOCATION:St Thomas
CATEGORIES:Mass
END:VEVENT
BEGIN:VEVENT
DTSTART;TZID=America/Detroit:20260301T074500
DTEND;TZID=America/Detroit:20260301T084500
DTSTAMP:20260420T200934
CREATED:20240626T174505Z
LAST-MODIFIED:20250917T124608Z
UID:10008807-1772351100-1772354700@saintthomaszanesville.org
SUMMARY:Mass
DESCRIPTION:
URL:https://saintthomaszanesville.org/event/mass-2-2/2026-03-01/
CATEGORIES:Mass
END:VEVENT
BEGIN:VEVENT
DTSTART;TZID=America/Detroit:20260301T110000
DTEND;TZID=America/Detroit:20260301T120000
DTSTAMP:20260420T200934
CREATED:20240626T174409Z
LAST-MODIFIED:20241205T172135Z
UID:10009072-1772362800-1772366400@saintthomaszanesville.org
SUMMARY:Mass
DESCRIPTION:
URL:https://saintthomaszanesville.org/event/mass-2/2026-03-01/
CATEGORIES:Mass
END:VEVENT
END:VCALENDAR