BEGIN:VCALENDAR
VERSION:2.0
PRODID:-//Saint Thomas Acquinas Zanesville - ECPv6.15.20//NONSGML v1.0//EN
CALSCALE:GREGORIAN
METHOD:PUBLISH
X-WR-CALNAME:Saint Thomas Acquinas Zanesville
X-ORIGINAL-URL:https://saintthomaszanesville.org
X-WR-CALDESC:Events for Saint Thomas Acquinas Zanesville
REFRESH-INTERVAL;VALUE=DURATION:PT1H
X-Robots-Tag:noindex
X-PUBLISHED-TTL:PT1H
BEGIN:VTIMEZONE
TZID:America/Detroit
BEGIN:DAYLIGHT
TZOFFSETFROM:-0500
TZOFFSETTO:-0400
TZNAME:EDT
DTSTART:20240310T070000
END:DAYLIGHT
BEGIN:STANDARD
TZOFFSETFROM:-0400
TZOFFSETTO:-0500
TZNAME:EST
DTSTART:20241103T060000
END:STANDARD
BEGIN:DAYLIGHT
TZOFFSETFROM:-0500
TZOFFSETTO:-0400
TZNAME:EDT
DTSTART:20250309T070000
END:DAYLIGHT
BEGIN:STANDARD
TZOFFSETFROM:-0400
TZOFFSETTO:-0500
TZNAME:EST
DTSTART:20251102T060000
END:STANDARD
BEGIN:DAYLIGHT
TZOFFSETFROM:-0500
TZOFFSETTO:-0400
TZNAME:EDT
DTSTART:20260308T070000
END:DAYLIGHT
BEGIN:STANDARD
TZOFFSETFROM:-0400
TZOFFSETTO:-0500
TZNAME:EST
DTSTART:20261101T060000
END:STANDARD
END:VTIMEZONE
BEGIN:VEVENT
DTSTART;TZID=America/Detroit:20250928T074500
DTEND;TZID=America/Detroit:20250928T084500
DTSTAMP:20260420T235753
CREATED:20240626T174505Z
LAST-MODIFIED:20250917T124608Z
UID:10008785-1759045500-1759049100@saintthomaszanesville.org
SUMMARY:Mass
DESCRIPTION:
URL:https://saintthomaszanesville.org/event/mass-2-2/2025-09-28/
CATEGORIES:Mass
END:VEVENT
BEGIN:VEVENT
DTSTART;TZID=America/Detroit:20250928T110000
DTEND;TZID=America/Detroit:20250928T120000
DTSTAMP:20260420T235753
CREATED:20240626T174409Z
LAST-MODIFIED:20241205T172135Z
UID:10009050-1759057200-1759060800@saintthomaszanesville.org
SUMMARY:Mass
DESCRIPTION:
URL:https://saintthomaszanesville.org/event/mass-2/2025-09-28/
CATEGORIES:Mass
END:VEVENT
BEGIN:VEVENT
DTSTART;TZID=America/Detroit:20250930T090000
DTEND;TZID=America/Detroit:20250930T094500
DTSTAMP:20260420T235753
CREATED:20230717T191610Z
LAST-MODIFIED:20260219T151222Z
UID:10005650-1759222800-1759225500@saintthomaszanesville.org
SUMMARY:Mass
DESCRIPTION:
URL:https://saintthomaszanesville.org/event/mass-4/2025-09-30/
LOCATION:St Thomas
CATEGORIES:Mass
END:VEVENT
BEGIN:VEVENT
DTSTART;TZID=America/Detroit:20251002T090000
DTEND;TZID=America/Detroit:20251002T094500
DTSTAMP:20260420T235753
CREATED:20231025T130315Z
LAST-MODIFIED:20260219T151402Z
UID:10005909-1759395600-1759398300@saintthomaszanesville.org
SUMMARY:Mass
DESCRIPTION:
URL:https://saintthomaszanesville.org/event/mass-5-3/2025-10-02/
LOCATION:St Thomas
CATEGORIES:Mass
END:VEVENT
BEGIN:VEVENT
DTSTART;TZID=America/Detroit:20251004T163000
DTEND;TZID=America/Detroit:20251004T173000
DTSTAMP:20260420T235753
CREATED:20240626T171342Z
LAST-MODIFIED:20260219T153326Z
UID:10007982-1759595400-1759599000@saintthomaszanesville.org
SUMMARY:Mass
DESCRIPTION:
URL:https://saintthomaszanesville.org/event/mass/2025-10-04/
LOCATION:St Thomas
CATEGORIES:Mass
END:VEVENT
BEGIN:VEVENT
DTSTART;TZID=America/Detroit:20251005T074500
DTEND;TZID=America/Detroit:20251005T084500
DTSTAMP:20260420T235753
CREATED:20240626T174505Z
LAST-MODIFIED:20250917T124608Z
UID:10008786-1759650300-1759653900@saintthomaszanesville.org
SUMMARY:Mass
DESCRIPTION:
URL:https://saintthomaszanesville.org/event/mass-2-2/2025-10-05/
CATEGORIES:Mass
END:VEVENT
BEGIN:VEVENT
DTSTART;TZID=America/Detroit:20251005T110000
DTEND;TZID=America/Detroit:20251005T120000
DTSTAMP:20260420T235753
CREATED:20240626T174409Z
LAST-MODIFIED:20241205T172135Z
UID:10009051-1759662000-1759665600@saintthomaszanesville.org
SUMMARY:Mass
DESCRIPTION:
URL:https://saintthomaszanesville.org/event/mass-2/2025-10-05/
CATEGORIES:Mass
END:VEVENT
BEGIN:VEVENT
DTSTART;TZID=America/Detroit:20251007T090000
DTEND;TZID=America/Detroit:20251007T094500
DTSTAMP:20260420T235753
CREATED:20230717T191610Z
LAST-MODIFIED:20260219T151222Z
UID:10005651-1759827600-1759830300@saintthomaszanesville.org
SUMMARY:Mass
DESCRIPTION:
URL:https://saintthomaszanesville.org/event/mass-4/2025-10-07/
LOCATION:St Thomas
CATEGORIES:Mass
END:VEVENT
BEGIN:VEVENT
DTSTART;TZID=America/Detroit:20251008T090000
DTEND;TZID=America/Detroit:20251008T094500
DTSTAMP:20260420T235753
CREATED:20230717T191330Z
LAST-MODIFIED:20251121T143234Z
UID:10005392-1759914000-1759916700@saintthomaszanesville.org
SUMMARY:Mass
DESCRIPTION:
URL:https://saintthomaszanesville.org/event/mass-3/2025-10-08/
LOCATION:St Thomas
CATEGORIES:Mass
END:VEVENT
BEGIN:VEVENT
DTSTART;TZID=America/Detroit:20251009T090000
DTEND;TZID=America/Detroit:20251009T094500
DTSTAMP:20260420T235753
CREATED:20231025T130315Z
LAST-MODIFIED:20260219T151402Z
UID:10005910-1760000400-1760003100@saintthomaszanesville.org
SUMMARY:Mass
DESCRIPTION:
URL:https://saintthomaszanesville.org/event/mass-5-3/2025-10-09/
LOCATION:St Thomas
CATEGORIES:Mass
END:VEVENT
BEGIN:VEVENT
DTSTART;TZID=America/Detroit:20251010T090000
DTEND;TZID=America/Detroit:20251010T094500
DTSTAMP:20260420T235753
CREATED:20231026T143024Z
LAST-MODIFIED:20260219T151539Z
UID:10006169-1760086800-1760089500@saintthomaszanesville.org
SUMMARY:Mass
DESCRIPTION:
URL:https://saintthomaszanesville.org/event/mass-6-2/2025-10-10/
LOCATION:St Thomas
CATEGORIES:Mass
END:VEVENT
BEGIN:VEVENT
DTSTART;TZID=America/Detroit:20251011T163000
DTEND;TZID=America/Detroit:20251011T173000
DTSTAMP:20260420T235753
CREATED:20240626T171342Z
LAST-MODIFIED:20260219T153326Z
UID:10007983-1760200200-1760203800@saintthomaszanesville.org
SUMMARY:Mass
DESCRIPTION:
URL:https://saintthomaszanesville.org/event/mass/2025-10-11/
LOCATION:St Thomas
CATEGORIES:Mass
END:VEVENT
BEGIN:VEVENT
DTSTART;TZID=America/Detroit:20251012T074500
DTEND;TZID=America/Detroit:20251012T084500
DTSTAMP:20260420T235753
CREATED:20240626T174505Z
LAST-MODIFIED:20250917T124608Z
UID:10008787-1760255100-1760258700@saintthomaszanesville.org
SUMMARY:Mass
DESCRIPTION:
URL:https://saintthomaszanesville.org/event/mass-2-2/2025-10-12/
CATEGORIES:Mass
END:VEVENT
BEGIN:VEVENT
DTSTART;TZID=America/Detroit:20251012T110000
DTEND;TZID=America/Detroit:20251012T120000
DTSTAMP:20260420T235753
CREATED:20240626T174409Z
LAST-MODIFIED:20241205T172135Z
UID:10009052-1760266800-1760270400@saintthomaszanesville.org
SUMMARY:Mass
DESCRIPTION:
URL:https://saintthomaszanesville.org/event/mass-2/2025-10-12/
CATEGORIES:Mass
END:VEVENT
BEGIN:VEVENT
DTSTART;TZID=America/Detroit:20251014T090000
DTEND;TZID=America/Detroit:20251014T094500
DTSTAMP:20260420T235753
CREATED:20230717T191610Z
LAST-MODIFIED:20260219T151222Z
UID:10005652-1760432400-1760435100@saintthomaszanesville.org
SUMMARY:Mass
DESCRIPTION:
URL:https://saintthomaszanesville.org/event/mass-4/2025-10-14/
LOCATION:St Thomas
CATEGORIES:Mass
END:VEVENT
BEGIN:VEVENT
DTSTART;TZID=America/Detroit:20251015T090000
DTEND;TZID=America/Detroit:20251015T094500
DTSTAMP:20260420T235753
CREATED:20230717T191330Z
LAST-MODIFIED:20251121T143234Z
UID:10005393-1760518800-1760521500@saintthomaszanesville.org
SUMMARY:Mass
DESCRIPTION:
URL:https://saintthomaszanesville.org/event/mass-3/2025-10-15/
LOCATION:St Thomas
CATEGORIES:Mass
END:VEVENT
BEGIN:VEVENT
DTSTART;TZID=America/Detroit:20251016T090000
DTEND;TZID=America/Detroit:20251016T094500
DTSTAMP:20260420T235753
CREATED:20231025T130315Z
LAST-MODIFIED:20260219T151402Z
UID:10005911-1760605200-1760607900@saintthomaszanesville.org
SUMMARY:Mass
DESCRIPTION:
URL:https://saintthomaszanesville.org/event/mass-5-3/2025-10-16/
LOCATION:St Thomas
CATEGORIES:Mass
END:VEVENT
BEGIN:VEVENT
DTSTART;TZID=America/Detroit:20251017T090000
DTEND;TZID=America/Detroit:20251017T094500
DTSTAMP:20260420T235754
CREATED:20231026T143024Z
LAST-MODIFIED:20260219T151539Z
UID:10006170-1760691600-1760694300@saintthomaszanesville.org
SUMMARY:Mass
DESCRIPTION:
URL:https://saintthomaszanesville.org/event/mass-6-2/2025-10-17/
LOCATION:St Thomas
CATEGORIES:Mass
END:VEVENT
BEGIN:VEVENT
DTSTART;TZID=America/Detroit:20251018T163000
DTEND;TZID=America/Detroit:20251018T173000
DTSTAMP:20260420T235754
CREATED:20240626T171342Z
LAST-MODIFIED:20260219T153326Z
UID:10007984-1760805000-1760808600@saintthomaszanesville.org
SUMMARY:Mass
DESCRIPTION:
URL:https://saintthomaszanesville.org/event/mass/2025-10-18/
LOCATION:St Thomas
CATEGORIES:Mass
END:VEVENT
BEGIN:VEVENT
DTSTART;TZID=America/Detroit:20251019T074500
DTEND;TZID=America/Detroit:20251019T084500
DTSTAMP:20260420T235754
CREATED:20240626T174505Z
LAST-MODIFIED:20250917T124608Z
UID:10008788-1760859900-1760863500@saintthomaszanesville.org
SUMMARY:Mass
DESCRIPTION:
URL:https://saintthomaszanesville.org/event/mass-2-2/2025-10-19/
CATEGORIES:Mass
END:VEVENT
BEGIN:VEVENT
DTSTART;TZID=America/Detroit:20251019T110000
DTEND;TZID=America/Detroit:20251019T120000
DTSTAMP:20260420T235754
CREATED:20240626T174409Z
LAST-MODIFIED:20241205T172135Z
UID:10009053-1760871600-1760875200@saintthomaszanesville.org
SUMMARY:Mass
DESCRIPTION:
URL:https://saintthomaszanesville.org/event/mass-2/2025-10-19/
CATEGORIES:Mass
END:VEVENT
BEGIN:VEVENT
DTSTART;TZID=America/Detroit:20251021T090000
DTEND;TZID=America/Detroit:20251021T094500
DTSTAMP:20260420T235754
CREATED:20230717T191610Z
LAST-MODIFIED:20260219T151222Z
UID:10005653-1761037200-1761039900@saintthomaszanesville.org
SUMMARY:Mass
DESCRIPTION:
URL:https://saintthomaszanesville.org/event/mass-4/2025-10-21/
LOCATION:St Thomas
CATEGORIES:Mass
END:VEVENT
BEGIN:VEVENT
DTSTART;TZID=America/Detroit:20251022T090000
DTEND;TZID=America/Detroit:20251022T094500
DTSTAMP:20260420T235754
CREATED:20230717T191330Z
LAST-MODIFIED:20251121T143234Z
UID:10005394-1761123600-1761126300@saintthomaszanesville.org
SUMMARY:Mass
DESCRIPTION:
URL:https://saintthomaszanesville.org/event/mass-3/2025-10-22/
LOCATION:St Thomas
CATEGORIES:Mass
END:VEVENT
BEGIN:VEVENT
DTSTART;TZID=America/Detroit:20251023T090000
DTEND;TZID=America/Detroit:20251023T094500
DTSTAMP:20260420T235754
CREATED:20231025T130315Z
LAST-MODIFIED:20260219T151402Z
UID:10005912-1761210000-1761212700@saintthomaszanesville.org
SUMMARY:Mass
DESCRIPTION:
URL:https://saintthomaszanesville.org/event/mass-5-3/2025-10-23/
LOCATION:St Thomas
CATEGORIES:Mass
END:VEVENT
BEGIN:VEVENT
DTSTART;TZID=America/Detroit:20251024T090000
DTEND;TZID=America/Detroit:20251024T094500
DTSTAMP:20260420T235754
CREATED:20231026T143024Z
LAST-MODIFIED:20260219T151539Z
UID:10006171-1761296400-1761299100@saintthomaszanesville.org
SUMMARY:Mass
DESCRIPTION:
URL:https://saintthomaszanesville.org/event/mass-6-2/2025-10-24/
LOCATION:St Thomas
CATEGORIES:Mass
END:VEVENT
BEGIN:VEVENT
DTSTART;TZID=America/Detroit:20251025T163000
DTEND;TZID=America/Detroit:20251025T173000
DTSTAMP:20260420T235754
CREATED:20240626T171342Z
LAST-MODIFIED:20260219T153326Z
UID:10007985-1761409800-1761413400@saintthomaszanesville.org
SUMMARY:Mass
DESCRIPTION:
URL:https://saintthomaszanesville.org/event/mass/2025-10-25/
LOCATION:St Thomas
CATEGORIES:Mass
END:VEVENT
BEGIN:VEVENT
DTSTART;TZID=America/Detroit:20251026T074500
DTEND;TZID=America/Detroit:20251026T084500
DTSTAMP:20260420T235754
CREATED:20240626T174505Z
LAST-MODIFIED:20250917T124608Z
UID:10008789-1761464700-1761468300@saintthomaszanesville.org
SUMMARY:Mass
DESCRIPTION:
URL:https://saintthomaszanesville.org/event/mass-2-2/2025-10-26/
CATEGORIES:Mass
END:VEVENT
BEGIN:VEVENT
DTSTART;TZID=America/Detroit:20251026T110000
DTEND;TZID=America/Detroit:20251026T120000
DTSTAMP:20260420T235754
CREATED:20240626T174409Z
LAST-MODIFIED:20241205T172135Z
UID:10009054-1761476400-1761480000@saintthomaszanesville.org
SUMMARY:Mass
DESCRIPTION:
URL:https://saintthomaszanesville.org/event/mass-2/2025-10-26/
CATEGORIES:Mass
END:VEVENT
BEGIN:VEVENT
DTSTART;TZID=America/Detroit:20251028T090000
DTEND;TZID=America/Detroit:20251028T094500
DTSTAMP:20260420T235754
CREATED:20230717T191610Z
LAST-MODIFIED:20260219T151222Z
UID:10005654-1761642000-1761644700@saintthomaszanesville.org
SUMMARY:Mass
DESCRIPTION:
URL:https://saintthomaszanesville.org/event/mass-4/2025-10-28/
LOCATION:St Thomas
CATEGORIES:Mass
END:VEVENT
BEGIN:VEVENT
DTSTART;TZID=America/Detroit:20251029T090000
DTEND;TZID=America/Detroit:20251029T094500
DTSTAMP:20260420T235754
CREATED:20230717T191330Z
LAST-MODIFIED:20251121T143234Z
UID:10005395-1761728400-1761731100@saintthomaszanesville.org
SUMMARY:Mass
DESCRIPTION:
URL:https://saintthomaszanesville.org/event/mass-3/2025-10-29/
LOCATION:St Thomas
CATEGORIES:Mass
END:VEVENT
END:VCALENDAR