BEGIN:VCALENDAR
VERSION:2.0
PRODID:-//Saint Thomas Acquinas Zanesville - ECPv6.15.20//NONSGML v1.0//EN
CALSCALE:GREGORIAN
METHOD:PUBLISH
X-WR-CALNAME:Saint Thomas Acquinas Zanesville
X-ORIGINAL-URL:https://saintthomaszanesville.org
X-WR-CALDESC:Events for Saint Thomas Acquinas Zanesville
REFRESH-INTERVAL;VALUE=DURATION:PT1H
X-Robots-Tag:noindex
X-PUBLISHED-TTL:PT1H
BEGIN:VTIMEZONE
TZID:America/Detroit
BEGIN:DAYLIGHT
TZOFFSETFROM:-0500
TZOFFSETTO:-0400
TZNAME:EDT
DTSTART:20270314T070000
END:DAYLIGHT
BEGIN:STANDARD
TZOFFSETFROM:-0400
TZOFFSETTO:-0500
TZNAME:EST
DTSTART:20271107T060000
END:STANDARD
BEGIN:DAYLIGHT
TZOFFSETFROM:-0500
TZOFFSETTO:-0400
TZNAME:EDT
DTSTART:20280312T070000
END:DAYLIGHT
BEGIN:STANDARD
TZOFFSETFROM:-0400
TZOFFSETTO:-0500
TZNAME:EST
DTSTART:20281105T060000
END:STANDARD
BEGIN:DAYLIGHT
TZOFFSETFROM:-0500
TZOFFSETTO:-0400
TZNAME:EDT
DTSTART:20290311T070000
END:DAYLIGHT
BEGIN:STANDARD
TZOFFSETFROM:-0400
TZOFFSETTO:-0500
TZNAME:EST
DTSTART:20291104T060000
END:STANDARD
END:VTIMEZONE
BEGIN:VEVENT
DTSTART;TZID=America/Detroit:20280513T163000
DTEND;TZID=America/Detroit:20280513T173000
DTSTAMP:20260424T232632
CREATED:20240626T171342Z
LAST-MODIFIED:20260219T153326Z
UID:10008118-1841848200-1841851800@saintthomaszanesville.org
SUMMARY:Mass
DESCRIPTION:
URL:https://saintthomaszanesville.org/event/mass/2028-05-13/
LOCATION:St Thomas
CATEGORIES:Mass
END:VEVENT
BEGIN:VEVENT
DTSTART;TZID=America/Detroit:20280514T074500
DTEND;TZID=America/Detroit:20280514T084500
DTSTAMP:20260424T232632
CREATED:20240626T174505Z
LAST-MODIFIED:20250917T124608Z
UID:10008922-1841903100-1841906700@saintthomaszanesville.org
SUMMARY:Mass
DESCRIPTION:
URL:https://saintthomaszanesville.org/event/mass-2-2/2028-05-14/
CATEGORIES:Mass
END:VEVENT
BEGIN:VEVENT
DTSTART;TZID=America/Detroit:20280514T110000
DTEND;TZID=America/Detroit:20280514T120000
DTSTAMP:20260424T232632
CREATED:20240626T174409Z
LAST-MODIFIED:20241205T172135Z
UID:10009187-1841914800-1841918400@saintthomaszanesville.org
SUMMARY:Mass
DESCRIPTION:
URL:https://saintthomaszanesville.org/event/mass-2/2028-05-14/
CATEGORIES:Mass
END:VEVENT
BEGIN:VEVENT
DTSTART;TZID=America/Detroit:20280516T090000
DTEND;TZID=America/Detroit:20280516T094500
DTSTAMP:20260424T232632
CREATED:20230717T191610Z
LAST-MODIFIED:20260219T151222Z
UID:10005787-1842080400-1842083100@saintthomaszanesville.org
SUMMARY:Mass
DESCRIPTION:
URL:https://saintthomaszanesville.org/event/mass-4/2028-05-16/
LOCATION:St Thomas
CATEGORIES:Mass
END:VEVENT
BEGIN:VEVENT
DTSTART;TZID=America/Detroit:20280517T090000
DTEND;TZID=America/Detroit:20280517T094500
DTSTAMP:20260424T232632
CREATED:20230717T191330Z
LAST-MODIFIED:20251121T143234Z
UID:10005528-1842166800-1842169500@saintthomaszanesville.org
SUMMARY:Mass
DESCRIPTION:
URL:https://saintthomaszanesville.org/event/mass-3/2028-05-17/
LOCATION:St Thomas
CATEGORIES:Mass
END:VEVENT
BEGIN:VEVENT
DTSTART;TZID=America/Detroit:20280518T090000
DTEND;TZID=America/Detroit:20280518T094500
DTSTAMP:20260424T232632
CREATED:20231025T130315Z
LAST-MODIFIED:20260219T151402Z
UID:10006046-1842253200-1842255900@saintthomaszanesville.org
SUMMARY:Mass
DESCRIPTION:
URL:https://saintthomaszanesville.org/event/mass-5-3/2028-05-18/
LOCATION:St Thomas
CATEGORIES:Mass
END:VEVENT
BEGIN:VEVENT
DTSTART;TZID=America/Detroit:20280519T090000
DTEND;TZID=America/Detroit:20280519T094500
DTSTAMP:20260424T232632
CREATED:20231026T143024Z
LAST-MODIFIED:20260219T151539Z
UID:10006305-1842339600-1842342300@saintthomaszanesville.org
SUMMARY:Mass
DESCRIPTION:
URL:https://saintthomaszanesville.org/event/mass-6-2/2028-05-19/
LOCATION:St Thomas
CATEGORIES:Mass
END:VEVENT
BEGIN:VEVENT
DTSTART;TZID=America/Detroit:20280520T163000
DTEND;TZID=America/Detroit:20280520T173000
DTSTAMP:20260424T232632
CREATED:20240626T171342Z
LAST-MODIFIED:20260219T153326Z
UID:10008119-1842453000-1842456600@saintthomaszanesville.org
SUMMARY:Mass
DESCRIPTION:
URL:https://saintthomaszanesville.org/event/mass/2028-05-20/
LOCATION:St Thomas
CATEGORIES:Mass
END:VEVENT
BEGIN:VEVENT
DTSTART;TZID=America/Detroit:20280521T074500
DTEND;TZID=America/Detroit:20280521T084500
DTSTAMP:20260424T232632
CREATED:20240626T174505Z
LAST-MODIFIED:20250917T124608Z
UID:10008923-1842507900-1842511500@saintthomaszanesville.org
SUMMARY:Mass
DESCRIPTION:
URL:https://saintthomaszanesville.org/event/mass-2-2/2028-05-21/
CATEGORIES:Mass
END:VEVENT
BEGIN:VEVENT
DTSTART;TZID=America/Detroit:20280521T110000
DTEND;TZID=America/Detroit:20280521T120000
DTSTAMP:20260424T232632
CREATED:20240626T174409Z
LAST-MODIFIED:20241205T172135Z
UID:10009188-1842519600-1842523200@saintthomaszanesville.org
SUMMARY:Mass
DESCRIPTION:
URL:https://saintthomaszanesville.org/event/mass-2/2028-05-21/
CATEGORIES:Mass
END:VEVENT
BEGIN:VEVENT
DTSTART;TZID=America/Detroit:20280523T090000
DTEND;TZID=America/Detroit:20280523T094500
DTSTAMP:20260424T232632
CREATED:20230717T191610Z
LAST-MODIFIED:20260219T151222Z
UID:10005788-1842685200-1842687900@saintthomaszanesville.org
SUMMARY:Mass
DESCRIPTION:
URL:https://saintthomaszanesville.org/event/mass-4/2028-05-23/
LOCATION:St Thomas
CATEGORIES:Mass
END:VEVENT
BEGIN:VEVENT
DTSTART;TZID=America/Detroit:20280524T090000
DTEND;TZID=America/Detroit:20280524T094500
DTSTAMP:20260424T232632
CREATED:20230717T191330Z
LAST-MODIFIED:20251121T143234Z
UID:10005529-1842771600-1842774300@saintthomaszanesville.org
SUMMARY:Mass
DESCRIPTION:
URL:https://saintthomaszanesville.org/event/mass-3/2028-05-24/
LOCATION:St Thomas
CATEGORIES:Mass
END:VEVENT
BEGIN:VEVENT
DTSTART;TZID=America/Detroit:20280525T090000
DTEND;TZID=America/Detroit:20280525T094500
DTSTAMP:20260424T232632
CREATED:20231025T130315Z
LAST-MODIFIED:20260219T151402Z
UID:10006047-1842858000-1842860700@saintthomaszanesville.org
SUMMARY:Mass
DESCRIPTION:
URL:https://saintthomaszanesville.org/event/mass-5-3/2028-05-25/
LOCATION:St Thomas
CATEGORIES:Mass
END:VEVENT
BEGIN:VEVENT
DTSTART;TZID=America/Detroit:20280526T090000
DTEND;TZID=America/Detroit:20280526T094500
DTSTAMP:20260424T232632
CREATED:20231026T143024Z
LAST-MODIFIED:20260219T151539Z
UID:10006306-1842944400-1842947100@saintthomaszanesville.org
SUMMARY:Mass
DESCRIPTION:
URL:https://saintthomaszanesville.org/event/mass-6-2/2028-05-26/
LOCATION:St Thomas
CATEGORIES:Mass
END:VEVENT
BEGIN:VEVENT
DTSTART;TZID=America/Detroit:20280527T163000
DTEND;TZID=America/Detroit:20280527T173000
DTSTAMP:20260424T232632
CREATED:20240626T171342Z
LAST-MODIFIED:20260219T153326Z
UID:10008120-1843057800-1843061400@saintthomaszanesville.org
SUMMARY:Mass
DESCRIPTION:
URL:https://saintthomaszanesville.org/event/mass/2028-05-27/
LOCATION:St Thomas
CATEGORIES:Mass
END:VEVENT
BEGIN:VEVENT
DTSTART;TZID=America/Detroit:20280528T074500
DTEND;TZID=America/Detroit:20280528T084500
DTSTAMP:20260424T232632
CREATED:20240626T174505Z
LAST-MODIFIED:20250917T124608Z
UID:10008924-1843112700-1843116300@saintthomaszanesville.org
SUMMARY:Mass
DESCRIPTION:
URL:https://saintthomaszanesville.org/event/mass-2-2/2028-05-28/
CATEGORIES:Mass
END:VEVENT
BEGIN:VEVENT
DTSTART;TZID=America/Detroit:20280528T110000
DTEND;TZID=America/Detroit:20280528T120000
DTSTAMP:20260424T232632
CREATED:20240626T174409Z
LAST-MODIFIED:20241205T172135Z
UID:10009189-1843124400-1843128000@saintthomaszanesville.org
SUMMARY:Mass
DESCRIPTION:
URL:https://saintthomaszanesville.org/event/mass-2/2028-05-28/
CATEGORIES:Mass
END:VEVENT
BEGIN:VEVENT
DTSTART;TZID=America/Detroit:20280530T090000
DTEND;TZID=America/Detroit:20280530T094500
DTSTAMP:20260424T232632
CREATED:20230717T191610Z
LAST-MODIFIED:20260219T151222Z
UID:10005789-1843290000-1843292700@saintthomaszanesville.org
SUMMARY:Mass
DESCRIPTION:
URL:https://saintthomaszanesville.org/event/mass-4/2028-05-30/
LOCATION:St Thomas
CATEGORIES:Mass
END:VEVENT
BEGIN:VEVENT
DTSTART;TZID=America/Detroit:20280531T090000
DTEND;TZID=America/Detroit:20280531T094500
DTSTAMP:20260424T232632
CREATED:20230717T191330Z
LAST-MODIFIED:20251121T143234Z
UID:10005530-1843376400-1843379100@saintthomaszanesville.org
SUMMARY:Mass
DESCRIPTION:
URL:https://saintthomaszanesville.org/event/mass-3/2028-05-31/
LOCATION:St Thomas
CATEGORIES:Mass
END:VEVENT
BEGIN:VEVENT
DTSTART;TZID=America/Detroit:20280601T090000
DTEND;TZID=America/Detroit:20280601T094500
DTSTAMP:20260424T232632
CREATED:20231025T130315Z
LAST-MODIFIED:20260219T151402Z
UID:10006048-1843462800-1843465500@saintthomaszanesville.org
SUMMARY:Mass
DESCRIPTION:
URL:https://saintthomaszanesville.org/event/mass-5-3/2028-06-01/
LOCATION:St Thomas
CATEGORIES:Mass
END:VEVENT
BEGIN:VEVENT
DTSTART;TZID=America/Detroit:20280602T090000
DTEND;TZID=America/Detroit:20280602T094500
DTSTAMP:20260424T232632
CREATED:20231026T143024Z
LAST-MODIFIED:20260219T151539Z
UID:10006307-1843549200-1843551900@saintthomaszanesville.org
SUMMARY:Mass
DESCRIPTION:
URL:https://saintthomaszanesville.org/event/mass-6-2/2028-06-02/
LOCATION:St Thomas
CATEGORIES:Mass
END:VEVENT
BEGIN:VEVENT
DTSTART;TZID=America/Detroit:20280603T163000
DTEND;TZID=America/Detroit:20280603T173000
DTSTAMP:20260424T232633
CREATED:20240626T171342Z
LAST-MODIFIED:20260219T153326Z
UID:10008121-1843662600-1843666200@saintthomaszanesville.org
SUMMARY:Mass
DESCRIPTION:
URL:https://saintthomaszanesville.org/event/mass/2028-06-03/
LOCATION:St Thomas
CATEGORIES:Mass
END:VEVENT
BEGIN:VEVENT
DTSTART;TZID=America/Detroit:20280604T074500
DTEND;TZID=America/Detroit:20280604T084500
DTSTAMP:20260424T232633
CREATED:20240626T174505Z
LAST-MODIFIED:20250917T124608Z
UID:10008925-1843717500-1843721100@saintthomaszanesville.org
SUMMARY:Mass
DESCRIPTION:
URL:https://saintthomaszanesville.org/event/mass-2-2/2028-06-04/
CATEGORIES:Mass
END:VEVENT
BEGIN:VEVENT
DTSTART;TZID=America/Detroit:20280604T110000
DTEND;TZID=America/Detroit:20280604T120000
DTSTAMP:20260424T232633
CREATED:20240626T174409Z
LAST-MODIFIED:20241205T172135Z
UID:10009190-1843729200-1843732800@saintthomaszanesville.org
SUMMARY:Mass
DESCRIPTION:
URL:https://saintthomaszanesville.org/event/mass-2/2028-06-04/
CATEGORIES:Mass
END:VEVENT
BEGIN:VEVENT
DTSTART;TZID=America/Detroit:20280606T090000
DTEND;TZID=America/Detroit:20280606T094500
DTSTAMP:20260424T232633
CREATED:20230717T191610Z
LAST-MODIFIED:20260219T151222Z
UID:10005790-1843894800-1843897500@saintthomaszanesville.org
SUMMARY:Mass
DESCRIPTION:
URL:https://saintthomaszanesville.org/event/mass-4/2028-06-06/
LOCATION:St Thomas
CATEGORIES:Mass
END:VEVENT
BEGIN:VEVENT
DTSTART;TZID=America/Detroit:20280607T090000
DTEND;TZID=America/Detroit:20280607T094500
DTSTAMP:20260424T232633
CREATED:20230717T191330Z
LAST-MODIFIED:20251121T143234Z
UID:10005531-1843981200-1843983900@saintthomaszanesville.org
SUMMARY:Mass
DESCRIPTION:
URL:https://saintthomaszanesville.org/event/mass-3/2028-06-07/
LOCATION:St Thomas
CATEGORIES:Mass
END:VEVENT
BEGIN:VEVENT
DTSTART;TZID=America/Detroit:20280608T090000
DTEND;TZID=America/Detroit:20280608T094500
DTSTAMP:20260424T232633
CREATED:20231025T130315Z
LAST-MODIFIED:20260219T151402Z
UID:10006049-1844067600-1844070300@saintthomaszanesville.org
SUMMARY:Mass
DESCRIPTION:
URL:https://saintthomaszanesville.org/event/mass-5-3/2028-06-08/
LOCATION:St Thomas
CATEGORIES:Mass
END:VEVENT
BEGIN:VEVENT
DTSTART;TZID=America/Detroit:20280609T090000
DTEND;TZID=America/Detroit:20280609T094500
DTSTAMP:20260424T232633
CREATED:20231026T143024Z
LAST-MODIFIED:20260219T151539Z
UID:10006308-1844154000-1844156700@saintthomaszanesville.org
SUMMARY:Mass
DESCRIPTION:
URL:https://saintthomaszanesville.org/event/mass-6-2/2028-06-09/
LOCATION:St Thomas
CATEGORIES:Mass
END:VEVENT
BEGIN:VEVENT
DTSTART;TZID=America/Detroit:20280610T163000
DTEND;TZID=America/Detroit:20280610T173000
DTSTAMP:20260424T232633
CREATED:20240626T171342Z
LAST-MODIFIED:20260219T153326Z
UID:10008122-1844267400-1844271000@saintthomaszanesville.org
SUMMARY:Mass
DESCRIPTION:
URL:https://saintthomaszanesville.org/event/mass/2028-06-10/
LOCATION:St Thomas
CATEGORIES:Mass
END:VEVENT
BEGIN:VEVENT
DTSTART;TZID=America/Detroit:20280611T074500
DTEND;TZID=America/Detroit:20280611T084500
DTSTAMP:20260424T232633
CREATED:20240626T174505Z
LAST-MODIFIED:20250917T124608Z
UID:10008926-1844322300-1844325900@saintthomaszanesville.org
SUMMARY:Mass
DESCRIPTION:
URL:https://saintthomaszanesville.org/event/mass-2-2/2028-06-11/
CATEGORIES:Mass
END:VEVENT
END:VCALENDAR