BEGIN:VCALENDAR
VERSION:2.0
PRODID:-//Saint Thomas Acquinas Zanesville - ECPv6.15.20//NONSGML v1.0//EN
CALSCALE:GREGORIAN
METHOD:PUBLISH
X-WR-CALNAME:Saint Thomas Acquinas Zanesville
X-ORIGINAL-URL:https://saintthomaszanesville.org
X-WR-CALDESC:Events for Saint Thomas Acquinas Zanesville
REFRESH-INTERVAL;VALUE=DURATION:PT1H
X-Robots-Tag:noindex
X-PUBLISHED-TTL:PT1H
BEGIN:VTIMEZONE
TZID:America/Detroit
BEGIN:DAYLIGHT
TZOFFSETFROM:-0500
TZOFFSETTO:-0400
TZNAME:EDT
DTSTART:20240310T070000
END:DAYLIGHT
BEGIN:STANDARD
TZOFFSETFROM:-0400
TZOFFSETTO:-0500
TZNAME:EST
DTSTART:20241103T060000
END:STANDARD
BEGIN:DAYLIGHT
TZOFFSETFROM:-0500
TZOFFSETTO:-0400
TZNAME:EDT
DTSTART:20250309T070000
END:DAYLIGHT
BEGIN:STANDARD
TZOFFSETFROM:-0400
TZOFFSETTO:-0500
TZNAME:EST
DTSTART:20251102T060000
END:STANDARD
BEGIN:DAYLIGHT
TZOFFSETFROM:-0500
TZOFFSETTO:-0400
TZNAME:EDT
DTSTART:20260308T070000
END:DAYLIGHT
BEGIN:STANDARD
TZOFFSETFROM:-0400
TZOFFSETTO:-0500
TZNAME:EST
DTSTART:20261101T060000
END:STANDARD
END:VTIMEZONE
BEGIN:VEVENT
DTSTART;TZID=America/Detroit:20250601T074500
DTEND;TZID=America/Detroit:20250601T084500
DTSTAMP:20260420T175223
CREATED:20240626T174505Z
LAST-MODIFIED:20250917T124608Z
UID:10008768-1748763900-1748767500@saintthomaszanesville.org
SUMMARY:Mass
DESCRIPTION:
URL:https://saintthomaszanesville.org/event/mass-2-2/2025-06-01/
CATEGORIES:Mass
END:VEVENT
BEGIN:VEVENT
DTSTART;TZID=America/Detroit:20250601T110000
DTEND;TZID=America/Detroit:20250601T120000
DTSTAMP:20260420T175223
CREATED:20240626T174409Z
LAST-MODIFIED:20241205T172135Z
UID:10009033-1748775600-1748779200@saintthomaszanesville.org
SUMMARY:Mass
DESCRIPTION:
URL:https://saintthomaszanesville.org/event/mass-2/2025-06-01/
CATEGORIES:Mass
END:VEVENT
BEGIN:VEVENT
DTSTART;TZID=America/Detroit:20250603T090000
DTEND;TZID=America/Detroit:20250603T094500
DTSTAMP:20260420T175223
CREATED:20230717T191610Z
LAST-MODIFIED:20260219T151222Z
UID:10005633-1748941200-1748943900@saintthomaszanesville.org
SUMMARY:Mass
DESCRIPTION:
URL:https://saintthomaszanesville.org/event/mass-4/2025-06-03/
LOCATION:St Thomas
CATEGORIES:Mass
END:VEVENT
BEGIN:VEVENT
DTSTART;TZID=America/Detroit:20250604T090000
DTEND;TZID=America/Detroit:20250604T094500
DTSTAMP:20260420T175223
CREATED:20230717T191330Z
LAST-MODIFIED:20251121T143234Z
UID:10005374-1749027600-1749030300@saintthomaszanesville.org
SUMMARY:Mass
DESCRIPTION:
URL:https://saintthomaszanesville.org/event/mass-3/2025-06-04/
LOCATION:St Thomas
CATEGORIES:Mass
END:VEVENT
BEGIN:VEVENT
DTSTART;TZID=America/Detroit:20250605T090000
DTEND;TZID=America/Detroit:20250605T094500
DTSTAMP:20260420T175223
CREATED:20231025T130315Z
LAST-MODIFIED:20260219T151402Z
UID:10005892-1749114000-1749116700@saintthomaszanesville.org
SUMMARY:Mass
DESCRIPTION:
URL:https://saintthomaszanesville.org/event/mass-5-3/2025-06-05/
LOCATION:St Thomas
CATEGORIES:Mass
END:VEVENT
BEGIN:VEVENT
DTSTART;TZID=America/Detroit:20250606T090000
DTEND;TZID=America/Detroit:20250606T094500
DTSTAMP:20260420T175223
CREATED:20231026T143024Z
LAST-MODIFIED:20260219T151539Z
UID:10006151-1749200400-1749203100@saintthomaszanesville.org
SUMMARY:Mass
DESCRIPTION:
URL:https://saintthomaszanesville.org/event/mass-6-2/2025-06-06/
LOCATION:St Thomas
CATEGORIES:Mass
END:VEVENT
BEGIN:VEVENT
DTSTART;TZID=America/Detroit:20250607T163000
DTEND;TZID=America/Detroit:20250607T173000
DTSTAMP:20260420T175223
CREATED:20240626T171342Z
LAST-MODIFIED:20260219T153326Z
UID:10007965-1749313800-1749317400@saintthomaszanesville.org
SUMMARY:Mass
DESCRIPTION:
URL:https://saintthomaszanesville.org/event/mass/2025-06-07/
LOCATION:St Thomas
CATEGORIES:Mass
END:VEVENT
BEGIN:VEVENT
DTSTART;TZID=America/Detroit:20250608T074500
DTEND;TZID=America/Detroit:20250608T084500
DTSTAMP:20260420T175223
CREATED:20240626T174505Z
LAST-MODIFIED:20250917T124608Z
UID:10008769-1749368700-1749372300@saintthomaszanesville.org
SUMMARY:Mass
DESCRIPTION:
URL:https://saintthomaszanesville.org/event/mass-2-2/2025-06-08/
CATEGORIES:Mass
END:VEVENT
BEGIN:VEVENT
DTSTART;TZID=America/Detroit:20250608T110000
DTEND;TZID=America/Detroit:20250608T120000
DTSTAMP:20260420T175223
CREATED:20240626T174409Z
LAST-MODIFIED:20241205T172135Z
UID:10009034-1749380400-1749384000@saintthomaszanesville.org
SUMMARY:Mass
DESCRIPTION:
URL:https://saintthomaszanesville.org/event/mass-2/2025-06-08/
CATEGORIES:Mass
END:VEVENT
BEGIN:VEVENT
DTSTART;TZID=America/Detroit:20250610T090000
DTEND;TZID=America/Detroit:20250610T094500
DTSTAMP:20260420T175223
CREATED:20230717T191610Z
LAST-MODIFIED:20260219T151222Z
UID:10005634-1749546000-1749548700@saintthomaszanesville.org
SUMMARY:Mass
DESCRIPTION:
URL:https://saintthomaszanesville.org/event/mass-4/2025-06-10/
LOCATION:St Thomas
CATEGORIES:Mass
END:VEVENT
BEGIN:VEVENT
DTSTART;TZID=America/Detroit:20250611T090000
DTEND;TZID=America/Detroit:20250611T094500
DTSTAMP:20260420T175223
CREATED:20230717T191330Z
LAST-MODIFIED:20251121T143234Z
UID:10005375-1749632400-1749635100@saintthomaszanesville.org
SUMMARY:Mass
DESCRIPTION:
URL:https://saintthomaszanesville.org/event/mass-3/2025-06-11/
LOCATION:St Thomas
CATEGORIES:Mass
END:VEVENT
BEGIN:VEVENT
DTSTART;TZID=America/Detroit:20250612T090000
DTEND;TZID=America/Detroit:20250612T094500
DTSTAMP:20260420T175223
CREATED:20231025T130315Z
LAST-MODIFIED:20260219T151402Z
UID:10005893-1749718800-1749721500@saintthomaszanesville.org
SUMMARY:Mass
DESCRIPTION:
URL:https://saintthomaszanesville.org/event/mass-5-3/2025-06-12/
LOCATION:St Thomas
CATEGORIES:Mass
END:VEVENT
BEGIN:VEVENT
DTSTART;TZID=America/Detroit:20250613T090000
DTEND;TZID=America/Detroit:20250613T094500
DTSTAMP:20260420T175223
CREATED:20231026T143024Z
LAST-MODIFIED:20260219T151539Z
UID:10006152-1749805200-1749807900@saintthomaszanesville.org
SUMMARY:Mass
DESCRIPTION:
URL:https://saintthomaszanesville.org/event/mass-6-2/2025-06-13/
LOCATION:St Thomas
CATEGORIES:Mass
END:VEVENT
BEGIN:VEVENT
DTSTART;TZID=America/Detroit:20250614T163000
DTEND;TZID=America/Detroit:20250614T173000
DTSTAMP:20260420T175223
CREATED:20240626T171342Z
LAST-MODIFIED:20260219T153326Z
UID:10007966-1749918600-1749922200@saintthomaszanesville.org
SUMMARY:Mass
DESCRIPTION:
URL:https://saintthomaszanesville.org/event/mass/2025-06-14/
LOCATION:St Thomas
CATEGORIES:Mass
END:VEVENT
BEGIN:VEVENT
DTSTART;TZID=America/Detroit:20250615T074500
DTEND;TZID=America/Detroit:20250615T084500
DTSTAMP:20260420T175223
CREATED:20240626T174505Z
LAST-MODIFIED:20250917T124608Z
UID:10008770-1749973500-1749977100@saintthomaszanesville.org
SUMMARY:Mass
DESCRIPTION:
URL:https://saintthomaszanesville.org/event/mass-2-2/2025-06-15/
CATEGORIES:Mass
END:VEVENT
BEGIN:VEVENT
DTSTART;TZID=America/Detroit:20250615T110000
DTEND;TZID=America/Detroit:20250615T120000
DTSTAMP:20260420T175223
CREATED:20240626T174409Z
LAST-MODIFIED:20241205T172135Z
UID:10009035-1749985200-1749988800@saintthomaszanesville.org
SUMMARY:Mass
DESCRIPTION:
URL:https://saintthomaszanesville.org/event/mass-2/2025-06-15/
CATEGORIES:Mass
END:VEVENT
BEGIN:VEVENT
DTSTART;TZID=America/Detroit:20250617T090000
DTEND;TZID=America/Detroit:20250617T094500
DTSTAMP:20260420T175223
CREATED:20230717T191610Z
LAST-MODIFIED:20260219T151222Z
UID:10005635-1750150800-1750153500@saintthomaszanesville.org
SUMMARY:Mass
DESCRIPTION:
URL:https://saintthomaszanesville.org/event/mass-4/2025-06-17/
LOCATION:St Thomas
CATEGORIES:Mass
END:VEVENT
BEGIN:VEVENT
DTSTART;TZID=America/Detroit:20250618T090000
DTEND;TZID=America/Detroit:20250618T094500
DTSTAMP:20260420T175223
CREATED:20230717T191330Z
LAST-MODIFIED:20251121T143234Z
UID:10005376-1750237200-1750239900@saintthomaszanesville.org
SUMMARY:Mass
DESCRIPTION:
URL:https://saintthomaszanesville.org/event/mass-3/2025-06-18/
LOCATION:St Thomas
CATEGORIES:Mass
END:VEVENT
BEGIN:VEVENT
DTSTART;TZID=America/Detroit:20250619T090000
DTEND;TZID=America/Detroit:20250619T094500
DTSTAMP:20260420T175223
CREATED:20231025T130315Z
LAST-MODIFIED:20260219T151402Z
UID:10005894-1750323600-1750326300@saintthomaszanesville.org
SUMMARY:Mass
DESCRIPTION:
URL:https://saintthomaszanesville.org/event/mass-5-3/2025-06-19/
LOCATION:St Thomas
CATEGORIES:Mass
END:VEVENT
BEGIN:VEVENT
DTSTART;TZID=America/Detroit:20250620T090000
DTEND;TZID=America/Detroit:20250620T094500
DTSTAMP:20260420T175223
CREATED:20231026T143024Z
LAST-MODIFIED:20260219T151539Z
UID:10006153-1750410000-1750412700@saintthomaszanesville.org
SUMMARY:Mass
DESCRIPTION:
URL:https://saintthomaszanesville.org/event/mass-6-2/2025-06-20/
LOCATION:St Thomas
CATEGORIES:Mass
END:VEVENT
BEGIN:VEVENT
DTSTART;TZID=America/Detroit:20250621T163000
DTEND;TZID=America/Detroit:20250621T173000
DTSTAMP:20260420T175223
CREATED:20240626T171342Z
LAST-MODIFIED:20260219T153326Z
UID:10007967-1750523400-1750527000@saintthomaszanesville.org
SUMMARY:Mass
DESCRIPTION:
URL:https://saintthomaszanesville.org/event/mass/2025-06-21/
LOCATION:St Thomas
CATEGORIES:Mass
END:VEVENT
BEGIN:VEVENT
DTSTART;TZID=America/Detroit:20250622T074500
DTEND;TZID=America/Detroit:20250622T084500
DTSTAMP:20260420T175223
CREATED:20240626T174505Z
LAST-MODIFIED:20250917T124608Z
UID:10008771-1750578300-1750581900@saintthomaszanesville.org
SUMMARY:Mass
DESCRIPTION:
URL:https://saintthomaszanesville.org/event/mass-2-2/2025-06-22/
CATEGORIES:Mass
END:VEVENT
BEGIN:VEVENT
DTSTART;TZID=America/Detroit:20250622T110000
DTEND;TZID=America/Detroit:20250622T120000
DTSTAMP:20260420T175223
CREATED:20240626T174409Z
LAST-MODIFIED:20241205T172135Z
UID:10009036-1750590000-1750593600@saintthomaszanesville.org
SUMMARY:Mass
DESCRIPTION:
URL:https://saintthomaszanesville.org/event/mass-2/2025-06-22/
CATEGORIES:Mass
END:VEVENT
BEGIN:VEVENT
DTSTART;TZID=America/Detroit:20250624T090000
DTEND;TZID=America/Detroit:20250624T094500
DTSTAMP:20260420T175223
CREATED:20230717T191610Z
LAST-MODIFIED:20260219T151222Z
UID:10005636-1750755600-1750758300@saintthomaszanesville.org
SUMMARY:Mass
DESCRIPTION:
URL:https://saintthomaszanesville.org/event/mass-4/2025-06-24/
LOCATION:St Thomas
CATEGORIES:Mass
END:VEVENT
BEGIN:VEVENT
DTSTART;TZID=America/Detroit:20250625T090000
DTEND;TZID=America/Detroit:20250625T094500
DTSTAMP:20260420T175223
CREATED:20230717T191330Z
LAST-MODIFIED:20251121T143234Z
UID:10005377-1750842000-1750844700@saintthomaszanesville.org
SUMMARY:Mass
DESCRIPTION:
URL:https://saintthomaszanesville.org/event/mass-3/2025-06-25/
LOCATION:St Thomas
CATEGORIES:Mass
END:VEVENT
BEGIN:VEVENT
DTSTART;TZID=America/Detroit:20250626T090000
DTEND;TZID=America/Detroit:20250626T094500
DTSTAMP:20260420T175223
CREATED:20231025T130315Z
LAST-MODIFIED:20260219T151402Z
UID:10005895-1750928400-1750931100@saintthomaszanesville.org
SUMMARY:Mass
DESCRIPTION:
URL:https://saintthomaszanesville.org/event/mass-5-3/2025-06-26/
LOCATION:St Thomas
CATEGORIES:Mass
END:VEVENT
BEGIN:VEVENT
DTSTART;TZID=America/Detroit:20250627T090000
DTEND;TZID=America/Detroit:20250627T094500
DTSTAMP:20260420T175223
CREATED:20231026T143024Z
LAST-MODIFIED:20260219T151539Z
UID:10006154-1751014800-1751017500@saintthomaszanesville.org
SUMMARY:Mass
DESCRIPTION:
URL:https://saintthomaszanesville.org/event/mass-6-2/2025-06-27/
LOCATION:St Thomas
CATEGORIES:Mass
END:VEVENT
BEGIN:VEVENT
DTSTART;TZID=America/Detroit:20250628T163000
DTEND;TZID=America/Detroit:20250628T173000
DTSTAMP:20260420T175223
CREATED:20240626T171342Z
LAST-MODIFIED:20260219T153326Z
UID:10007968-1751128200-1751131800@saintthomaszanesville.org
SUMMARY:Mass
DESCRIPTION:
URL:https://saintthomaszanesville.org/event/mass/2025-06-28/
LOCATION:St Thomas
CATEGORIES:Mass
END:VEVENT
BEGIN:VEVENT
DTSTART;TZID=America/Detroit:20250629T074500
DTEND;TZID=America/Detroit:20250629T084500
DTSTAMP:20260420T175223
CREATED:20240626T174505Z
LAST-MODIFIED:20250917T124608Z
UID:10008772-1751183100-1751186700@saintthomaszanesville.org
SUMMARY:Mass
DESCRIPTION:
URL:https://saintthomaszanesville.org/event/mass-2-2/2025-06-29/
CATEGORIES:Mass
END:VEVENT
BEGIN:VEVENT
DTSTART;TZID=America/Detroit:20250629T110000
DTEND;TZID=America/Detroit:20250629T120000
DTSTAMP:20260420T175223
CREATED:20240626T174409Z
LAST-MODIFIED:20241205T172135Z
UID:10009037-1751194800-1751198400@saintthomaszanesville.org
SUMMARY:Mass
DESCRIPTION:
URL:https://saintthomaszanesville.org/event/mass-2/2025-06-29/
CATEGORIES:Mass
END:VEVENT
END:VCALENDAR