BEGIN:VCALENDAR
VERSION:2.0
PRODID:-//Saint Thomas Acquinas Zanesville - ECPv6.15.20//NONSGML v1.0//EN
CALSCALE:GREGORIAN
METHOD:PUBLISH
X-WR-CALNAME:Saint Thomas Acquinas Zanesville
X-ORIGINAL-URL:https://saintthomaszanesville.org
X-WR-CALDESC:Events for Saint Thomas Acquinas Zanesville
REFRESH-INTERVAL;VALUE=DURATION:PT1H
X-Robots-Tag:noindex
X-PUBLISHED-TTL:PT1H
BEGIN:VTIMEZONE
TZID:America/Detroit
BEGIN:DAYLIGHT
TZOFFSETFROM:-0500
TZOFFSETTO:-0400
TZNAME:EDT
DTSTART:20230312T070000
END:DAYLIGHT
BEGIN:STANDARD
TZOFFSETFROM:-0400
TZOFFSETTO:-0500
TZNAME:EST
DTSTART:20231105T060000
END:STANDARD
BEGIN:DAYLIGHT
TZOFFSETFROM:-0500
TZOFFSETTO:-0400
TZNAME:EDT
DTSTART:20240310T070000
END:DAYLIGHT
BEGIN:STANDARD
TZOFFSETFROM:-0400
TZOFFSETTO:-0500
TZNAME:EST
DTSTART:20241103T060000
END:STANDARD
BEGIN:DAYLIGHT
TZOFFSETFROM:-0500
TZOFFSETTO:-0400
TZNAME:EDT
DTSTART:20250309T070000
END:DAYLIGHT
BEGIN:STANDARD
TZOFFSETFROM:-0400
TZOFFSETTO:-0500
TZNAME:EST
DTSTART:20251102T060000
END:STANDARD
END:VTIMEZONE
BEGIN:VEVENT
DTSTART;TZID=America/Detroit:20240201T090000
DTEND;TZID=America/Detroit:20240201T094500
DTSTAMP:20260422T203035
CREATED:20231025T130315Z
LAST-MODIFIED:20260219T151402Z
UID:10005822-1706778000-1706780700@saintthomaszanesville.org
SUMMARY:Mass
DESCRIPTION:
URL:https://saintthomaszanesville.org/event/mass-5-3/2024-02-01/
LOCATION:St Thomas
CATEGORIES:Mass
END:VEVENT
BEGIN:VEVENT
DTSTART;TZID=America/Detroit:20240202T090000
DTEND;TZID=America/Detroit:20240202T094500
DTSTAMP:20260422T203035
CREATED:20231026T143024Z
LAST-MODIFIED:20260219T151539Z
UID:10006081-1706864400-1706867100@saintthomaszanesville.org
SUMMARY:Mass
DESCRIPTION:
URL:https://saintthomaszanesville.org/event/mass-6-2/2024-02-02/
LOCATION:St Thomas
CATEGORIES:Mass
END:VEVENT
BEGIN:VEVENT
DTSTART;TZID=America/Detroit:20240206T090000
DTEND;TZID=America/Detroit:20240206T094500
DTSTAMP:20260422T203035
CREATED:20230717T191610Z
LAST-MODIFIED:20260219T151222Z
UID:10005564-1707210000-1707212700@saintthomaszanesville.org
SUMMARY:Mass
DESCRIPTION:
URL:https://saintthomaszanesville.org/event/mass-4/2024-02-06/
LOCATION:St Thomas
CATEGORIES:Mass
END:VEVENT
BEGIN:VEVENT
DTSTART;TZID=America/Detroit:20240207T090000
DTEND;TZID=America/Detroit:20240207T094500
DTSTAMP:20260422T203035
CREATED:20230717T191330Z
LAST-MODIFIED:20251121T143234Z
UID:10005305-1707296400-1707299100@saintthomaszanesville.org
SUMMARY:Mass
DESCRIPTION:
URL:https://saintthomaszanesville.org/event/mass-3/2024-02-07/
LOCATION:St Thomas
CATEGORIES:Mass
END:VEVENT
BEGIN:VEVENT
DTSTART;TZID=America/Detroit:20240213T090000
DTEND;TZID=America/Detroit:20240213T094500
DTSTAMP:20260422T203035
CREATED:20230717T191610Z
LAST-MODIFIED:20260219T151222Z
UID:10005565-1707814800-1707817500@saintthomaszanesville.org
SUMMARY:Mass
DESCRIPTION:
URL:https://saintthomaszanesville.org/event/mass-4/2024-02-13/
LOCATION:St Thomas
CATEGORIES:Mass
END:VEVENT
BEGIN:VEVENT
DTSTART;TZID=America/Detroit:20240215T090000
DTEND;TZID=America/Detroit:20240215T094500
DTSTAMP:20260422T203035
CREATED:20231025T130315Z
LAST-MODIFIED:20260219T151402Z
UID:10005824-1707987600-1707990300@saintthomaszanesville.org
SUMMARY:Mass
DESCRIPTION:
URL:https://saintthomaszanesville.org/event/mass-5-3/2024-02-15/
LOCATION:St Thomas
CATEGORIES:Mass
END:VEVENT
BEGIN:VEVENT
DTSTART;TZID=America/Detroit:20240216T090000
DTEND;TZID=America/Detroit:20240216T094500
DTSTAMP:20260422T203035
CREATED:20231026T143024Z
LAST-MODIFIED:20260219T151539Z
UID:10006083-1708074000-1708076700@saintthomaszanesville.org
SUMMARY:Mass
DESCRIPTION:
URL:https://saintthomaszanesville.org/event/mass-6-2/2024-02-16/
LOCATION:St Thomas
CATEGORIES:Mass
END:VEVENT
BEGIN:VEVENT
DTSTART;TZID=America/Detroit:20240220T090000
DTEND;TZID=America/Detroit:20240220T094500
DTSTAMP:20260422T203035
CREATED:20230717T191610Z
LAST-MODIFIED:20260219T151222Z
UID:10005566-1708419600-1708422300@saintthomaszanesville.org
SUMMARY:Mass
DESCRIPTION:
URL:https://saintthomaszanesville.org/event/mass-4/2024-02-20/
LOCATION:St Thomas
CATEGORIES:Mass
END:VEVENT
BEGIN:VEVENT
DTSTART;TZID=America/Detroit:20240221T090000
DTEND;TZID=America/Detroit:20240221T094500
DTSTAMP:20260422T203035
CREATED:20230717T191330Z
LAST-MODIFIED:20251121T143234Z
UID:10005307-1708506000-1708508700@saintthomaszanesville.org
SUMMARY:Mass
DESCRIPTION:
URL:https://saintthomaszanesville.org/event/mass-3/2024-02-21/
LOCATION:St Thomas
CATEGORIES:Mass
END:VEVENT
BEGIN:VEVENT
DTSTART;TZID=America/Detroit:20240222T090000
DTEND;TZID=America/Detroit:20240222T094500
DTSTAMP:20260422T203035
CREATED:20231025T130315Z
LAST-MODIFIED:20260219T151402Z
UID:10005825-1708592400-1708595100@saintthomaszanesville.org
SUMMARY:Mass
DESCRIPTION:
URL:https://saintthomaszanesville.org/event/mass-5-3/2024-02-22/
LOCATION:St Thomas
CATEGORIES:Mass
END:VEVENT
BEGIN:VEVENT
DTSTART;TZID=America/Detroit:20240223T090000
DTEND;TZID=America/Detroit:20240223T094500
DTSTAMP:20260422T203035
CREATED:20231026T143024Z
LAST-MODIFIED:20260219T151539Z
UID:10006084-1708678800-1708681500@saintthomaszanesville.org
SUMMARY:Mass
DESCRIPTION:
URL:https://saintthomaszanesville.org/event/mass-6-2/2024-02-23/
LOCATION:St Thomas
CATEGORIES:Mass
END:VEVENT
BEGIN:VEVENT
DTSTART;TZID=America/Detroit:20240227T090000
DTEND;TZID=America/Detroit:20240227T094500
DTSTAMP:20260422T203035
CREATED:20230717T191610Z
LAST-MODIFIED:20260219T151222Z
UID:10005567-1709024400-1709027100@saintthomaszanesville.org
SUMMARY:Mass
DESCRIPTION:
URL:https://saintthomaszanesville.org/event/mass-4/2024-02-27/
LOCATION:St Thomas
CATEGORIES:Mass
END:VEVENT
BEGIN:VEVENT
DTSTART;TZID=America/Detroit:20240228T090000
DTEND;TZID=America/Detroit:20240228T094500
DTSTAMP:20260422T203035
CREATED:20230717T191330Z
LAST-MODIFIED:20251121T143234Z
UID:10005308-1709110800-1709113500@saintthomaszanesville.org
SUMMARY:Mass
DESCRIPTION:
URL:https://saintthomaszanesville.org/event/mass-3/2024-02-28/
LOCATION:St Thomas
CATEGORIES:Mass
END:VEVENT
BEGIN:VEVENT
DTSTART;TZID=America/Detroit:20240229T090000
DTEND;TZID=America/Detroit:20240229T094500
DTSTAMP:20260422T203035
CREATED:20231025T130315Z
LAST-MODIFIED:20260219T151402Z
UID:10005826-1709197200-1709199900@saintthomaszanesville.org
SUMMARY:Mass
DESCRIPTION:
URL:https://saintthomaszanesville.org/event/mass-5-3/2024-02-29/
LOCATION:St Thomas
CATEGORIES:Mass
END:VEVENT
END:VCALENDAR