BEGIN:VCALENDAR
VERSION:2.0
PRODID:-//Saint Thomas Acquinas Zanesville - ECPv6.15.20//NONSGML v1.0//EN
CALSCALE:GREGORIAN
METHOD:PUBLISH
X-WR-CALNAME:Saint Thomas Acquinas Zanesville
X-ORIGINAL-URL:https://saintthomaszanesville.org
X-WR-CALDESC:Events for Saint Thomas Acquinas Zanesville
REFRESH-INTERVAL;VALUE=DURATION:PT1H
X-Robots-Tag:noindex
X-PUBLISHED-TTL:PT1H
BEGIN:VTIMEZONE
TZID:America/Detroit
BEGIN:DAYLIGHT
TZOFFSETFROM:-0500
TZOFFSETTO:-0400
TZNAME:EDT
DTSTART:20230312T070000
END:DAYLIGHT
BEGIN:STANDARD
TZOFFSETFROM:-0400
TZOFFSETTO:-0500
TZNAME:EST
DTSTART:20231105T060000
END:STANDARD
BEGIN:DAYLIGHT
TZOFFSETFROM:-0500
TZOFFSETTO:-0400
TZNAME:EDT
DTSTART:20240310T070000
END:DAYLIGHT
BEGIN:STANDARD
TZOFFSETFROM:-0400
TZOFFSETTO:-0500
TZNAME:EST
DTSTART:20241103T060000
END:STANDARD
BEGIN:DAYLIGHT
TZOFFSETFROM:-0500
TZOFFSETTO:-0400
TZNAME:EDT
DTSTART:20250309T070000
END:DAYLIGHT
BEGIN:STANDARD
TZOFFSETFROM:-0400
TZOFFSETTO:-0500
TZNAME:EST
DTSTART:20251102T060000
END:STANDARD
BEGIN:DAYLIGHT
TZOFFSETFROM:-0500
TZOFFSETTO:-0400
TZNAME:EDT
DTSTART:20260308T070000
END:DAYLIGHT
BEGIN:STANDARD
TZOFFSETFROM:-0400
TZOFFSETTO:-0500
TZNAME:EST
DTSTART:20261101T060000
END:STANDARD
END:VTIMEZONE
BEGIN:VEVENT
DTSTART;TZID=America/Detroit:20250409T100000
DTEND;TZID=America/Detroit:20250409T210000
DTSTAMP:20260420T174353
CREATED:20231025T130420Z
LAST-MODIFIED:20260219T151646Z
UID:10006401-1744192800-1744232400@saintthomaszanesville.org
SUMMARY:Eucharistic Exposition of the Blessed Sacrement
DESCRIPTION:
URL:https://saintthomaszanesville.org/event/eucharistic-exposition-of-the-blessed-sacrement-2-2/2025-04-09/
LOCATION:St Thomas
CATEGORIES:Eucharist
END:VEVENT
BEGIN:VEVENT
DTSTART;TZID=America/Detroit:20250402T100000
DTEND;TZID=America/Detroit:20250402T210000
DTSTAMP:20260420T174353
CREATED:20231025T130420Z
LAST-MODIFIED:20260219T151646Z
UID:10006400-1743588000-1743627600@saintthomaszanesville.org
SUMMARY:Eucharistic Exposition of the Blessed Sacrement
DESCRIPTION:
URL:https://saintthomaszanesville.org/event/eucharistic-exposition-of-the-blessed-sacrement-2-2/2025-04-02/
LOCATION:St Thomas
CATEGORIES:Eucharist
END:VEVENT
BEGIN:VEVENT
DTSTART;TZID=America/Detroit:20250326T100000
DTEND;TZID=America/Detroit:20250326T210000
DTSTAMP:20260420T174353
CREATED:20231025T130420Z
LAST-MODIFIED:20260219T151646Z
UID:10006399-1742983200-1743022800@saintthomaszanesville.org
SUMMARY:Eucharistic Exposition of the Blessed Sacrement
DESCRIPTION:
URL:https://saintthomaszanesville.org/event/eucharistic-exposition-of-the-blessed-sacrement-2-2/2025-03-26/
LOCATION:St Thomas
CATEGORIES:Eucharist
END:VEVENT
BEGIN:VEVENT
DTSTART;TZID=America/Detroit:20250319T100000
DTEND;TZID=America/Detroit:20250319T210000
DTSTAMP:20260420T174353
CREATED:20231025T130420Z
LAST-MODIFIED:20260219T151646Z
UID:10006398-1742378400-1742418000@saintthomaszanesville.org
SUMMARY:Eucharistic Exposition of the Blessed Sacrement
DESCRIPTION:
URL:https://saintthomaszanesville.org/event/eucharistic-exposition-of-the-blessed-sacrement-2-2/2025-03-19/
LOCATION:St Thomas
CATEGORIES:Eucharist
END:VEVENT
BEGIN:VEVENT
DTSTART;TZID=America/Detroit:20250312T100000
DTEND;TZID=America/Detroit:20250312T210000
DTSTAMP:20260420T174353
CREATED:20231025T130420Z
LAST-MODIFIED:20260219T151646Z
UID:10006397-1741773600-1741813200@saintthomaszanesville.org
SUMMARY:Eucharistic Exposition of the Blessed Sacrement
DESCRIPTION:
URL:https://saintthomaszanesville.org/event/eucharistic-exposition-of-the-blessed-sacrement-2-2/2025-03-12/
LOCATION:St Thomas
CATEGORIES:Eucharist
END:VEVENT
BEGIN:VEVENT
DTSTART;TZID=America/Detroit:20250226T100000
DTEND;TZID=America/Detroit:20250226T210000
DTSTAMP:20260420T174353
CREATED:20231025T130420Z
LAST-MODIFIED:20260219T151646Z
UID:10006395-1740564000-1740603600@saintthomaszanesville.org
SUMMARY:Eucharistic Exposition of the Blessed Sacrement
DESCRIPTION:
URL:https://saintthomaszanesville.org/event/eucharistic-exposition-of-the-blessed-sacrement-2-2/2025-02-26/
LOCATION:St Thomas
CATEGORIES:Eucharist
END:VEVENT
BEGIN:VEVENT
DTSTART;TZID=America/Detroit:20250219T100000
DTEND;TZID=America/Detroit:20250219T210000
DTSTAMP:20260420T174353
CREATED:20231025T130420Z
LAST-MODIFIED:20260219T151646Z
UID:10006394-1739959200-1739998800@saintthomaszanesville.org
SUMMARY:Eucharistic Exposition of the Blessed Sacrement
DESCRIPTION:
URL:https://saintthomaszanesville.org/event/eucharistic-exposition-of-the-blessed-sacrement-2-2/2025-02-19/
LOCATION:St Thomas
CATEGORIES:Eucharist
END:VEVENT
BEGIN:VEVENT
DTSTART;TZID=America/Detroit:20250212T100000
DTEND;TZID=America/Detroit:20250212T210000
DTSTAMP:20260420T174353
CREATED:20231025T130420Z
LAST-MODIFIED:20260219T151646Z
UID:10006393-1739354400-1739394000@saintthomaszanesville.org
SUMMARY:Eucharistic Exposition of the Blessed Sacrement
DESCRIPTION:
URL:https://saintthomaszanesville.org/event/eucharistic-exposition-of-the-blessed-sacrement-2-2/2025-02-12/
LOCATION:St Thomas
CATEGORIES:Eucharist
END:VEVENT
BEGIN:VEVENT
DTSTART;TZID=America/Detroit:20250205T100000
DTEND;TZID=America/Detroit:20250205T210000
DTSTAMP:20260420T174353
CREATED:20231025T130420Z
LAST-MODIFIED:20260219T151646Z
UID:10006392-1738749600-1738789200@saintthomaszanesville.org
SUMMARY:Eucharistic Exposition of the Blessed Sacrement
DESCRIPTION:
URL:https://saintthomaszanesville.org/event/eucharistic-exposition-of-the-blessed-sacrement-2-2/2025-02-05/
LOCATION:St Thomas
CATEGORIES:Eucharist
END:VEVENT
BEGIN:VEVENT
DTSTART;TZID=America/Detroit:20250129T100000
DTEND;TZID=America/Detroit:20250129T210000
DTSTAMP:20260420T174353
CREATED:20231025T130420Z
LAST-MODIFIED:20260219T151646Z
UID:10006391-1738144800-1738184400@saintthomaszanesville.org
SUMMARY:Eucharistic Exposition of the Blessed Sacrement
DESCRIPTION:
URL:https://saintthomaszanesville.org/event/eucharistic-exposition-of-the-blessed-sacrement-2-2/2025-01-29/
LOCATION:St Thomas
CATEGORIES:Eucharist
END:VEVENT
BEGIN:VEVENT
DTSTART;TZID=America/Detroit:20250122T100000
DTEND;TZID=America/Detroit:20250122T210000
DTSTAMP:20260420T174353
CREATED:20231025T130420Z
LAST-MODIFIED:20260219T151646Z
UID:10006390-1737540000-1737579600@saintthomaszanesville.org
SUMMARY:Eucharistic Exposition of the Blessed Sacrement
DESCRIPTION:
URL:https://saintthomaszanesville.org/event/eucharistic-exposition-of-the-blessed-sacrement-2-2/2025-01-22/
LOCATION:St Thomas
CATEGORIES:Eucharist
END:VEVENT
BEGIN:VEVENT
DTSTART;TZID=America/Detroit:20250115T100000
DTEND;TZID=America/Detroit:20250115T210000
DTSTAMP:20260420T174353
CREATED:20231025T130420Z
LAST-MODIFIED:20260219T151646Z
UID:10006389-1736935200-1736974800@saintthomaszanesville.org
SUMMARY:Eucharistic Exposition of the Blessed Sacrement
DESCRIPTION:
URL:https://saintthomaszanesville.org/event/eucharistic-exposition-of-the-blessed-sacrement-2-2/2025-01-15/
LOCATION:St Thomas
CATEGORIES:Eucharist
END:VEVENT
BEGIN:VEVENT
DTSTART;TZID=America/Detroit:20250108T100000
DTEND;TZID=America/Detroit:20250108T210000
DTSTAMP:20260420T174353
CREATED:20231025T130420Z
LAST-MODIFIED:20260219T151646Z
UID:10006388-1736330400-1736370000@saintthomaszanesville.org
SUMMARY:Eucharistic Exposition of the Blessed Sacrement
DESCRIPTION:
URL:https://saintthomaszanesville.org/event/eucharistic-exposition-of-the-blessed-sacrement-2-2/2025-01-08/
LOCATION:St Thomas
CATEGORIES:Eucharist
END:VEVENT
BEGIN:VEVENT
DTSTART;TZID=America/Detroit:20241218T100000
DTEND;TZID=America/Detroit:20241218T210000
DTSTAMP:20260420T174353
CREATED:20231025T130420Z
LAST-MODIFIED:20260219T151646Z
UID:10006385-1734516000-1734555600@saintthomaszanesville.org
SUMMARY:Eucharistic Exposition of the Blessed Sacrement
DESCRIPTION:
URL:https://saintthomaszanesville.org/event/eucharistic-exposition-of-the-blessed-sacrement-2-2/2024-12-18/
LOCATION:St Thomas
CATEGORIES:Eucharist
END:VEVENT
BEGIN:VEVENT
DTSTART;TZID=America/Detroit:20241211T100000
DTEND;TZID=America/Detroit:20241211T210000
DTSTAMP:20260420T174353
CREATED:20231025T130420Z
LAST-MODIFIED:20260219T151646Z
UID:10006384-1733911200-1733950800@saintthomaszanesville.org
SUMMARY:Eucharistic Exposition of the Blessed Sacrement
DESCRIPTION:
URL:https://saintthomaszanesville.org/event/eucharistic-exposition-of-the-blessed-sacrement-2-2/2024-12-11/
LOCATION:St Thomas
CATEGORIES:Eucharist
END:VEVENT
BEGIN:VEVENT
DTSTART;TZID=America/Detroit:20241204T100000
DTEND;TZID=America/Detroit:20241204T210000
DTSTAMP:20260420T174353
CREATED:20231025T130420Z
LAST-MODIFIED:20260219T151646Z
UID:10006383-1733306400-1733346000@saintthomaszanesville.org
SUMMARY:Eucharistic Exposition of the Blessed Sacrement
DESCRIPTION:
URL:https://saintthomaszanesville.org/event/eucharistic-exposition-of-the-blessed-sacrement-2-2/2024-12-04/
LOCATION:St Thomas
CATEGORIES:Eucharist
END:VEVENT
BEGIN:VEVENT
DTSTART;TZID=America/Detroit:20241127T100000
DTEND;TZID=America/Detroit:20241127T210000
DTSTAMP:20260420T174353
CREATED:20231025T130420Z
LAST-MODIFIED:20260219T151646Z
UID:10006382-1732701600-1732741200@saintthomaszanesville.org
SUMMARY:Eucharistic Exposition of the Blessed Sacrement
DESCRIPTION:
URL:https://saintthomaszanesville.org/event/eucharistic-exposition-of-the-blessed-sacrement-2-2/2024-11-27/
LOCATION:St Thomas
CATEGORIES:Eucharist
END:VEVENT
BEGIN:VEVENT
DTSTART;TZID=America/Detroit:20241120T100000
DTEND;TZID=America/Detroit:20241120T210000
DTSTAMP:20260420T174353
CREATED:20231025T130420Z
LAST-MODIFIED:20260219T151646Z
UID:10006381-1732096800-1732136400@saintthomaszanesville.org
SUMMARY:Eucharistic Exposition of the Blessed Sacrement
DESCRIPTION:
URL:https://saintthomaszanesville.org/event/eucharistic-exposition-of-the-blessed-sacrement-2-2/2024-11-20/
LOCATION:St Thomas
CATEGORIES:Eucharist
END:VEVENT
BEGIN:VEVENT
DTSTART;TZID=America/Detroit:20241113T100000
DTEND;TZID=America/Detroit:20241113T210000
DTSTAMP:20260420T174353
CREATED:20231025T130420Z
LAST-MODIFIED:20260219T151646Z
UID:10006380-1731492000-1731531600@saintthomaszanesville.org
SUMMARY:Eucharistic Exposition of the Blessed Sacrement
DESCRIPTION:
URL:https://saintthomaszanesville.org/event/eucharistic-exposition-of-the-blessed-sacrement-2-2/2024-11-13/
LOCATION:St Thomas
CATEGORIES:Eucharist
END:VEVENT
BEGIN:VEVENT
DTSTART;TZID=America/Detroit:20241106T100000
DTEND;TZID=America/Detroit:20241106T210000
DTSTAMP:20260420T174353
CREATED:20231025T130420Z
LAST-MODIFIED:20260219T151646Z
UID:10006379-1730887200-1730926800@saintthomaszanesville.org
SUMMARY:Eucharistic Exposition of the Blessed Sacrement
DESCRIPTION:
URL:https://saintthomaszanesville.org/event/eucharistic-exposition-of-the-blessed-sacrement-2-2/2024-11-06/
LOCATION:St Thomas
CATEGORIES:Eucharist
END:VEVENT
BEGIN:VEVENT
DTSTART;TZID=America/Detroit:20241030T100000
DTEND;TZID=America/Detroit:20241030T210000
DTSTAMP:20260420T174353
CREATED:20231025T130420Z
LAST-MODIFIED:20260219T151646Z
UID:10006378-1730282400-1730322000@saintthomaszanesville.org
SUMMARY:Eucharistic Exposition of the Blessed Sacrement
DESCRIPTION:
URL:https://saintthomaszanesville.org/event/eucharistic-exposition-of-the-blessed-sacrement-2-2/2024-10-30/
LOCATION:St Thomas
CATEGORIES:Eucharist
END:VEVENT
BEGIN:VEVENT
DTSTART;TZID=America/Detroit:20241023T100000
DTEND;TZID=America/Detroit:20241023T210000
DTSTAMP:20260420T174353
CREATED:20231025T130420Z
LAST-MODIFIED:20260219T151646Z
UID:10006377-1729677600-1729717200@saintthomaszanesville.org
SUMMARY:Eucharistic Exposition of the Blessed Sacrement
DESCRIPTION:
URL:https://saintthomaszanesville.org/event/eucharistic-exposition-of-the-blessed-sacrement-2-2/2024-10-23/
LOCATION:St Thomas
CATEGORIES:Eucharist
END:VEVENT
BEGIN:VEVENT
DTSTART;TZID=America/Detroit:20241016T100000
DTEND;TZID=America/Detroit:20241016T210000
DTSTAMP:20260420T174353
CREATED:20231025T130420Z
LAST-MODIFIED:20260219T151646Z
UID:10006376-1729072800-1729112400@saintthomaszanesville.org
SUMMARY:Eucharistic Exposition of the Blessed Sacrement
DESCRIPTION:
URL:https://saintthomaszanesville.org/event/eucharistic-exposition-of-the-blessed-sacrement-2-2/2024-10-16/
LOCATION:St Thomas
CATEGORIES:Eucharist
END:VEVENT
BEGIN:VEVENT
DTSTART;TZID=America/Detroit:20241009T100000
DTEND;TZID=America/Detroit:20241009T210000
DTSTAMP:20260420T174353
CREATED:20231025T130420Z
LAST-MODIFIED:20260219T151646Z
UID:10006375-1728468000-1728507600@saintthomaszanesville.org
SUMMARY:Eucharistic Exposition of the Blessed Sacrement
DESCRIPTION:
URL:https://saintthomaszanesville.org/event/eucharistic-exposition-of-the-blessed-sacrement-2-2/2024-10-09/
LOCATION:St Thomas
CATEGORIES:Eucharist
END:VEVENT
BEGIN:VEVENT
DTSTART;TZID=America/Detroit:20241002T100000
DTEND;TZID=America/Detroit:20241002T210000
DTSTAMP:20260420T174353
CREATED:20231025T130420Z
LAST-MODIFIED:20260219T151646Z
UID:10006374-1727863200-1727902800@saintthomaszanesville.org
SUMMARY:Eucharistic Exposition of the Blessed Sacrement
DESCRIPTION:
URL:https://saintthomaszanesville.org/event/eucharistic-exposition-of-the-blessed-sacrement-2-2/2024-10-02/
LOCATION:St Thomas
CATEGORIES:Eucharist
END:VEVENT
BEGIN:VEVENT
DTSTART;TZID=America/Detroit:20240925T100000
DTEND;TZID=America/Detroit:20240925T210000
DTSTAMP:20260420T174353
CREATED:20231025T130420Z
LAST-MODIFIED:20260219T151646Z
UID:10006373-1727258400-1727298000@saintthomaszanesville.org
SUMMARY:Eucharistic Exposition of the Blessed Sacrement
DESCRIPTION:
URL:https://saintthomaszanesville.org/event/eucharistic-exposition-of-the-blessed-sacrement-2-2/2024-09-25/
LOCATION:St Thomas
CATEGORIES:Eucharist
END:VEVENT
BEGIN:VEVENT
DTSTART;TZID=America/Detroit:20240918T100000
DTEND;TZID=America/Detroit:20240918T210000
DTSTAMP:20260420T174353
CREATED:20231025T130420Z
LAST-MODIFIED:20260219T151646Z
UID:10006372-1726653600-1726693200@saintthomaszanesville.org
SUMMARY:Eucharistic Exposition of the Blessed Sacrement
DESCRIPTION:
URL:https://saintthomaszanesville.org/event/eucharistic-exposition-of-the-blessed-sacrement-2-2/2024-09-18/
LOCATION:St Thomas
CATEGORIES:Eucharist
END:VEVENT
BEGIN:VEVENT
DTSTART;TZID=America/Detroit:20240911T100000
DTEND;TZID=America/Detroit:20240911T210000
DTSTAMP:20260420T174353
CREATED:20231025T130420Z
LAST-MODIFIED:20260219T151646Z
UID:10006371-1726048800-1726088400@saintthomaszanesville.org
SUMMARY:Eucharistic Exposition of the Blessed Sacrement
DESCRIPTION:
URL:https://saintthomaszanesville.org/event/eucharistic-exposition-of-the-blessed-sacrement-2-2/2024-09-11/
LOCATION:St Thomas
CATEGORIES:Eucharist
END:VEVENT
BEGIN:VEVENT
DTSTART;TZID=America/Detroit:20240904T100000
DTEND;TZID=America/Detroit:20240904T210000
DTSTAMP:20260420T174353
CREATED:20231025T130420Z
LAST-MODIFIED:20260219T151646Z
UID:10006370-1725444000-1725483600@saintthomaszanesville.org
SUMMARY:Eucharistic Exposition of the Blessed Sacrement
DESCRIPTION:
URL:https://saintthomaszanesville.org/event/eucharistic-exposition-of-the-blessed-sacrement-2-2/2024-09-04/
LOCATION:St Thomas
CATEGORIES:Eucharist
END:VEVENT
BEGIN:VEVENT
DTSTART;TZID=America/Detroit:20240828T100000
DTEND;TZID=America/Detroit:20240828T210000
DTSTAMP:20260420T174353
CREATED:20231025T130420Z
LAST-MODIFIED:20260219T151646Z
UID:10006369-1724839200-1724878800@saintthomaszanesville.org
SUMMARY:Eucharistic Exposition of the Blessed Sacrement
DESCRIPTION:
URL:https://saintthomaszanesville.org/event/eucharistic-exposition-of-the-blessed-sacrement-2-2/2024-08-28/
LOCATION:St Thomas
CATEGORIES:Eucharist
END:VEVENT
END:VCALENDAR