BEGIN:VCALENDAR
VERSION:2.0
PRODID:-//Saint Thomas Acquinas Zanesville - ECPv6.15.20//NONSGML v1.0//EN
CALSCALE:GREGORIAN
METHOD:PUBLISH
X-WR-CALNAME:Saint Thomas Acquinas Zanesville
X-ORIGINAL-URL:https://saintthomaszanesville.org
X-WR-CALDESC:Events for Saint Thomas Acquinas Zanesville
REFRESH-INTERVAL;VALUE=DURATION:PT1H
X-Robots-Tag:noindex
X-PUBLISHED-TTL:PT1H
BEGIN:VTIMEZONE
TZID:America/Detroit
BEGIN:DAYLIGHT
TZOFFSETFROM:-0500
TZOFFSETTO:-0400
TZNAME:EDT
DTSTART:20240310T070000
END:DAYLIGHT
BEGIN:STANDARD
TZOFFSETFROM:-0400
TZOFFSETTO:-0500
TZNAME:EST
DTSTART:20241103T060000
END:STANDARD
BEGIN:DAYLIGHT
TZOFFSETFROM:-0500
TZOFFSETTO:-0400
TZNAME:EDT
DTSTART:20250309T070000
END:DAYLIGHT
BEGIN:STANDARD
TZOFFSETFROM:-0400
TZOFFSETTO:-0500
TZNAME:EST
DTSTART:20251102T060000
END:STANDARD
BEGIN:DAYLIGHT
TZOFFSETFROM:-0500
TZOFFSETTO:-0400
TZNAME:EDT
DTSTART:20260308T070000
END:DAYLIGHT
BEGIN:STANDARD
TZOFFSETFROM:-0400
TZOFFSETTO:-0500
TZNAME:EST
DTSTART:20261101T060000
END:STANDARD
BEGIN:DAYLIGHT
TZOFFSETFROM:-0500
TZOFFSETTO:-0400
TZNAME:EDT
DTSTART:20270314T070000
END:DAYLIGHT
BEGIN:STANDARD
TZOFFSETFROM:-0400
TZOFFSETTO:-0500
TZNAME:EST
DTSTART:20271107T060000
END:STANDARD
END:VTIMEZONE
BEGIN:VEVENT
DTSTART;TZID=America/Detroit:20251112T100000
DTEND;TZID=America/Detroit:20251112T210000
DTSTAMP:20260421T005155
CREATED:20231025T130420Z
LAST-MODIFIED:20260219T151646Z
UID:10006432-1762941600-1762981200@saintthomaszanesville.org
SUMMARY:Eucharistic Exposition of the Blessed Sacrement
DESCRIPTION:
URL:https://saintthomaszanesville.org/event/eucharistic-exposition-of-the-blessed-sacrement-2-2/2025-11-12/
LOCATION:St Thomas
CATEGORIES:Eucharist
END:VEVENT
BEGIN:VEVENT
DTSTART;TZID=America/Detroit:20251119T100000
DTEND;TZID=America/Detroit:20251119T210000
DTSTAMP:20260421T005155
CREATED:20231025T130420Z
LAST-MODIFIED:20260219T151646Z
UID:10006433-1763546400-1763586000@saintthomaszanesville.org
SUMMARY:Eucharistic Exposition of the Blessed Sacrement
DESCRIPTION:
URL:https://saintthomaszanesville.org/event/eucharistic-exposition-of-the-blessed-sacrement-2-2/2025-11-19/
LOCATION:St Thomas
CATEGORIES:Eucharist
END:VEVENT
BEGIN:VEVENT
DTSTART;TZID=America/Detroit:20251203T100000
DTEND;TZID=America/Detroit:20251203T210000
DTSTAMP:20260421T005155
CREATED:20231025T130420Z
LAST-MODIFIED:20260219T151646Z
UID:10006435-1764756000-1764795600@saintthomaszanesville.org
SUMMARY:Eucharistic Exposition of the Blessed Sacrement
DESCRIPTION:
URL:https://saintthomaszanesville.org/event/eucharistic-exposition-of-the-blessed-sacrement-2-2/2025-12-03/
LOCATION:St Thomas
CATEGORIES:Eucharist
END:VEVENT
BEGIN:VEVENT
DTSTART;TZID=America/Detroit:20251210T100000
DTEND;TZID=America/Detroit:20251210T210000
DTSTAMP:20260421T005155
CREATED:20231025T130420Z
LAST-MODIFIED:20260219T151646Z
UID:10006436-1765360800-1765400400@saintthomaszanesville.org
SUMMARY:Eucharistic Exposition of the Blessed Sacrement
DESCRIPTION:
URL:https://saintthomaszanesville.org/event/eucharistic-exposition-of-the-blessed-sacrement-2-2/2025-12-10/
LOCATION:St Thomas
CATEGORIES:Eucharist
END:VEVENT
BEGIN:VEVENT
DTSTART;TZID=America/Detroit:20251217T100000
DTEND;TZID=America/Detroit:20251217T210000
DTSTAMP:20260421T005155
CREATED:20231025T130420Z
LAST-MODIFIED:20260219T151646Z
UID:10006437-1765965600-1766005200@saintthomaszanesville.org
SUMMARY:Eucharistic Exposition of the Blessed Sacrement
DESCRIPTION:
URL:https://saintthomaszanesville.org/event/eucharistic-exposition-of-the-blessed-sacrement-2-2/2025-12-17/
LOCATION:St Thomas
CATEGORIES:Eucharist
END:VEVENT
BEGIN:VEVENT
DTSTART;TZID=America/Detroit:20260107T100000
DTEND;TZID=America/Detroit:20260107T210000
DTSTAMP:20260421T005155
CREATED:20231025T130420Z
LAST-MODIFIED:20260219T151646Z
UID:10006440-1767780000-1767819600@saintthomaszanesville.org
SUMMARY:Eucharistic Exposition of the Blessed Sacrement
DESCRIPTION:
URL:https://saintthomaszanesville.org/event/eucharistic-exposition-of-the-blessed-sacrement-2-2/2026-01-07/
LOCATION:St Thomas
CATEGORIES:Eucharist
END:VEVENT
BEGIN:VEVENT
DTSTART;TZID=America/Detroit:20260114T100000
DTEND;TZID=America/Detroit:20260114T210000
DTSTAMP:20260421T005155
CREATED:20231025T130420Z
LAST-MODIFIED:20260219T151646Z
UID:10006441-1768384800-1768424400@saintthomaszanesville.org
SUMMARY:Eucharistic Exposition of the Blessed Sacrement
DESCRIPTION:
URL:https://saintthomaszanesville.org/event/eucharistic-exposition-of-the-blessed-sacrement-2-2/2026-01-14/
LOCATION:St Thomas
CATEGORIES:Eucharist
END:VEVENT
BEGIN:VEVENT
DTSTART;TZID=America/Detroit:20260121T100000
DTEND;TZID=America/Detroit:20260121T210000
DTSTAMP:20260421T005155
CREATED:20231025T130420Z
LAST-MODIFIED:20260219T151646Z
UID:10006442-1768989600-1769029200@saintthomaszanesville.org
SUMMARY:Eucharistic Exposition of the Blessed Sacrement
DESCRIPTION:
URL:https://saintthomaszanesville.org/event/eucharistic-exposition-of-the-blessed-sacrement-2-2/2026-01-21/
LOCATION:St Thomas
CATEGORIES:Eucharist
END:VEVENT
BEGIN:VEVENT
DTSTART;TZID=America/Detroit:20260128T100000
DTEND;TZID=America/Detroit:20260128T210000
DTSTAMP:20260421T005155
CREATED:20231025T130420Z
LAST-MODIFIED:20260219T151646Z
UID:10006443-1769594400-1769634000@saintthomaszanesville.org
SUMMARY:Eucharistic Exposition of the Blessed Sacrement
DESCRIPTION:
URL:https://saintthomaszanesville.org/event/eucharistic-exposition-of-the-blessed-sacrement-2-2/2026-01-28/
LOCATION:St Thomas
CATEGORIES:Eucharist
END:VEVENT
BEGIN:VEVENT
DTSTART;TZID=America/Detroit:20260204T100000
DTEND;TZID=America/Detroit:20260204T210000
DTSTAMP:20260421T005155
CREATED:20231025T130420Z
LAST-MODIFIED:20260219T151646Z
UID:10006444-1770199200-1770238800@saintthomaszanesville.org
SUMMARY:Eucharistic Exposition of the Blessed Sacrement
DESCRIPTION:
URL:https://saintthomaszanesville.org/event/eucharistic-exposition-of-the-blessed-sacrement-2-2/2026-02-04/
LOCATION:St Thomas
CATEGORIES:Eucharist
END:VEVENT
BEGIN:VEVENT
DTSTART;TZID=America/Detroit:20260211T100000
DTEND;TZID=America/Detroit:20260211T210000
DTSTAMP:20260421T005155
CREATED:20231025T130420Z
LAST-MODIFIED:20260219T151646Z
UID:10006445-1770804000-1770843600@saintthomaszanesville.org
SUMMARY:Eucharistic Exposition of the Blessed Sacrement
DESCRIPTION:
URL:https://saintthomaszanesville.org/event/eucharistic-exposition-of-the-blessed-sacrement-2-2/2026-02-11/
LOCATION:St Thomas
CATEGORIES:Eucharist
END:VEVENT
BEGIN:VEVENT
DTSTART;TZID=America/Detroit:20260218T100000
DTEND;TZID=America/Detroit:20260218T210000
DTSTAMP:20260421T005156
CREATED:20231025T130420Z
LAST-MODIFIED:20260219T151646Z
UID:10006446-1771408800-1771448400@saintthomaszanesville.org
SUMMARY:Eucharistic Exposition of the Blessed Sacrement
DESCRIPTION:
URL:https://saintthomaszanesville.org/event/eucharistic-exposition-of-the-blessed-sacrement-2-2/2026-02-18/
LOCATION:St Thomas
CATEGORIES:Eucharist
END:VEVENT
BEGIN:VEVENT
DTSTART;TZID=America/Detroit:20260225T100000
DTEND;TZID=America/Detroit:20260225T210000
DTSTAMP:20260421T005156
CREATED:20231025T130420Z
LAST-MODIFIED:20260219T151646Z
UID:10006447-1772013600-1772053200@saintthomaszanesville.org
SUMMARY:Eucharistic Exposition of the Blessed Sacrement
DESCRIPTION:
URL:https://saintthomaszanesville.org/event/eucharistic-exposition-of-the-blessed-sacrement-2-2/2026-02-25/
LOCATION:St Thomas
CATEGORIES:Eucharist
END:VEVENT
BEGIN:VEVENT
DTSTART;TZID=America/Detroit:20260304T100000
DTEND;TZID=America/Detroit:20260304T210000
DTSTAMP:20260421T005156
CREATED:20231025T130420Z
LAST-MODIFIED:20260219T151646Z
UID:10006448-1772618400-1772658000@saintthomaszanesville.org
SUMMARY:Eucharistic Exposition of the Blessed Sacrement
DESCRIPTION:
URL:https://saintthomaszanesville.org/event/eucharistic-exposition-of-the-blessed-sacrement-2-2/2026-03-04/
LOCATION:St Thomas
CATEGORIES:Eucharist
END:VEVENT
BEGIN:VEVENT
DTSTART;TZID=America/Detroit:20260311T100000
DTEND;TZID=America/Detroit:20260311T210000
DTSTAMP:20260421T005156
CREATED:20231025T130420Z
LAST-MODIFIED:20260219T151646Z
UID:10006449-1773223200-1773262800@saintthomaszanesville.org
SUMMARY:Eucharistic Exposition of the Blessed Sacrement
DESCRIPTION:
URL:https://saintthomaszanesville.org/event/eucharistic-exposition-of-the-blessed-sacrement-2-2/2026-03-11/
LOCATION:St Thomas
CATEGORIES:Eucharist
END:VEVENT
BEGIN:VEVENT
DTSTART;TZID=America/Detroit:20260318T100000
DTEND;TZID=America/Detroit:20260318T210000
DTSTAMP:20260421T005156
CREATED:20231025T130420Z
LAST-MODIFIED:20260219T151646Z
UID:10006450-1773828000-1773867600@saintthomaszanesville.org
SUMMARY:Eucharistic Exposition of the Blessed Sacrement
DESCRIPTION:
URL:https://saintthomaszanesville.org/event/eucharistic-exposition-of-the-blessed-sacrement-2-2/2026-03-18/
LOCATION:St Thomas
CATEGORIES:Eucharist
END:VEVENT
BEGIN:VEVENT
DTSTART;TZID=America/Detroit:20260325T100000
DTEND;TZID=America/Detroit:20260325T210000
DTSTAMP:20260421T005156
CREATED:20231025T130420Z
LAST-MODIFIED:20260219T151646Z
UID:10006451-1774432800-1774472400@saintthomaszanesville.org
SUMMARY:Eucharistic Exposition of the Blessed Sacrement
DESCRIPTION:
URL:https://saintthomaszanesville.org/event/eucharistic-exposition-of-the-blessed-sacrement-2-2/2026-03-25/
LOCATION:St Thomas
CATEGORIES:Eucharist
END:VEVENT
BEGIN:VEVENT
DTSTART;TZID=America/Detroit:20260408T100000
DTEND;TZID=America/Detroit:20260408T210000
DTSTAMP:20260421T005156
CREATED:20231025T130420Z
LAST-MODIFIED:20260219T151646Z
UID:10006453-1775642400-1775682000@saintthomaszanesville.org
SUMMARY:Eucharistic Exposition of the Blessed Sacrement
DESCRIPTION:
URL:https://saintthomaszanesville.org/event/eucharistic-exposition-of-the-blessed-sacrement-2-2/2026-04-08/
LOCATION:St Thomas
CATEGORIES:Eucharist
END:VEVENT
BEGIN:VEVENT
DTSTART;TZID=America/Detroit:20260415T100000
DTEND;TZID=America/Detroit:20260415T210000
DTSTAMP:20260421T005156
CREATED:20231025T130420Z
LAST-MODIFIED:20260219T151646Z
UID:10006454-1776247200-1776286800@saintthomaszanesville.org
SUMMARY:Eucharistic Exposition of the Blessed Sacrement
DESCRIPTION:
URL:https://saintthomaszanesville.org/event/eucharistic-exposition-of-the-blessed-sacrement-2-2/2026-04-15/
LOCATION:St Thomas
CATEGORIES:Eucharist
END:VEVENT
BEGIN:VEVENT
DTSTART;TZID=America/Detroit:20260422T100000
DTEND;TZID=America/Detroit:20260422T210000
DTSTAMP:20260421T005156
CREATED:20231025T130420Z
LAST-MODIFIED:20260219T151646Z
UID:10006455-1776852000-1776891600@saintthomaszanesville.org
SUMMARY:Eucharistic Exposition of the Blessed Sacrement
DESCRIPTION:
URL:https://saintthomaszanesville.org/event/eucharistic-exposition-of-the-blessed-sacrement-2-2/2026-04-22/
LOCATION:St Thomas
CATEGORIES:Eucharist
END:VEVENT
BEGIN:VEVENT
DTSTART;TZID=America/Detroit:20260429T100000
DTEND;TZID=America/Detroit:20260429T210000
DTSTAMP:20260421T005156
CREATED:20231025T130420Z
LAST-MODIFIED:20260219T151646Z
UID:10006456-1777456800-1777496400@saintthomaszanesville.org
SUMMARY:Eucharistic Exposition of the Blessed Sacrement
DESCRIPTION:
URL:https://saintthomaszanesville.org/event/eucharistic-exposition-of-the-blessed-sacrement-2-2/2026-04-29/
LOCATION:St Thomas
CATEGORIES:Eucharist
END:VEVENT
BEGIN:VEVENT
DTSTART;TZID=America/Detroit:20260506T100000
DTEND;TZID=America/Detroit:20260506T210000
DTSTAMP:20260421T005156
CREATED:20231025T130420Z
LAST-MODIFIED:20260219T151646Z
UID:10006457-1778061600-1778101200@saintthomaszanesville.org
SUMMARY:Eucharistic Exposition of the Blessed Sacrement
DESCRIPTION:
URL:https://saintthomaszanesville.org/event/eucharistic-exposition-of-the-blessed-sacrement-2-2/2026-05-06/
LOCATION:St Thomas
CATEGORIES:Eucharist
END:VEVENT
BEGIN:VEVENT
DTSTART;TZID=America/Detroit:20260513T100000
DTEND;TZID=America/Detroit:20260513T210000
DTSTAMP:20260421T005156
CREATED:20231025T130420Z
LAST-MODIFIED:20260219T151646Z
UID:10006458-1778666400-1778706000@saintthomaszanesville.org
SUMMARY:Eucharistic Exposition of the Blessed Sacrement
DESCRIPTION:
URL:https://saintthomaszanesville.org/event/eucharistic-exposition-of-the-blessed-sacrement-2-2/2026-05-13/
LOCATION:St Thomas
CATEGORIES:Eucharist
END:VEVENT
BEGIN:VEVENT
DTSTART;TZID=America/Detroit:20260520T100000
DTEND;TZID=America/Detroit:20260520T210000
DTSTAMP:20260421T005156
CREATED:20231025T130420Z
LAST-MODIFIED:20260219T151646Z
UID:10006459-1779271200-1779310800@saintthomaszanesville.org
SUMMARY:Eucharistic Exposition of the Blessed Sacrement
DESCRIPTION:
URL:https://saintthomaszanesville.org/event/eucharistic-exposition-of-the-blessed-sacrement-2-2/2026-05-20/
LOCATION:St Thomas
CATEGORIES:Eucharist
END:VEVENT
BEGIN:VEVENT
DTSTART;TZID=America/Detroit:20260527T100000
DTEND;TZID=America/Detroit:20260527T210000
DTSTAMP:20260421T005156
CREATED:20231025T130420Z
LAST-MODIFIED:20260219T151646Z
UID:10006460-1779876000-1779915600@saintthomaszanesville.org
SUMMARY:Eucharistic Exposition of the Blessed Sacrement
DESCRIPTION:
URL:https://saintthomaszanesville.org/event/eucharistic-exposition-of-the-blessed-sacrement-2-2/2026-05-27/
LOCATION:St Thomas
CATEGORIES:Eucharist
END:VEVENT
BEGIN:VEVENT
DTSTART;TZID=America/Detroit:20260603T100000
DTEND;TZID=America/Detroit:20260603T210000
DTSTAMP:20260421T005156
CREATED:20231025T130420Z
LAST-MODIFIED:20260219T151646Z
UID:10006461-1780480800-1780520400@saintthomaszanesville.org
SUMMARY:Eucharistic Exposition of the Blessed Sacrement
DESCRIPTION:
URL:https://saintthomaszanesville.org/event/eucharistic-exposition-of-the-blessed-sacrement-2-2/2026-06-03/
LOCATION:St Thomas
CATEGORIES:Eucharist
END:VEVENT
BEGIN:VEVENT
DTSTART;TZID=America/Detroit:20260610T100000
DTEND;TZID=America/Detroit:20260610T210000
DTSTAMP:20260421T005156
CREATED:20231025T130420Z
LAST-MODIFIED:20260219T151646Z
UID:10006462-1781085600-1781125200@saintthomaszanesville.org
SUMMARY:Eucharistic Exposition of the Blessed Sacrement
DESCRIPTION:
URL:https://saintthomaszanesville.org/event/eucharistic-exposition-of-the-blessed-sacrement-2-2/2026-06-10/
LOCATION:St Thomas
CATEGORIES:Eucharist
END:VEVENT
BEGIN:VEVENT
DTSTART;TZID=America/Detroit:20260617T100000
DTEND;TZID=America/Detroit:20260617T210000
DTSTAMP:20260421T005156
CREATED:20231025T130420Z
LAST-MODIFIED:20260219T151646Z
UID:10006463-1781690400-1781730000@saintthomaszanesville.org
SUMMARY:Eucharistic Exposition of the Blessed Sacrement
DESCRIPTION:
URL:https://saintthomaszanesville.org/event/eucharistic-exposition-of-the-blessed-sacrement-2-2/2026-06-17/
LOCATION:St Thomas
CATEGORIES:Eucharist
END:VEVENT
BEGIN:VEVENT
DTSTART;TZID=America/Detroit:20260624T100000
DTEND;TZID=America/Detroit:20260624T210000
DTSTAMP:20260421T005156
CREATED:20231025T130420Z
LAST-MODIFIED:20260219T151646Z
UID:10006464-1782295200-1782334800@saintthomaszanesville.org
SUMMARY:Eucharistic Exposition of the Blessed Sacrement
DESCRIPTION:
URL:https://saintthomaszanesville.org/event/eucharistic-exposition-of-the-blessed-sacrement-2-2/2026-06-24/
LOCATION:St Thomas
CATEGORIES:Eucharist
END:VEVENT
BEGIN:VEVENT
DTSTART;TZID=America/Detroit:20260701T100000
DTEND;TZID=America/Detroit:20260701T210000
DTSTAMP:20260421T005156
CREATED:20231025T130420Z
LAST-MODIFIED:20260219T151646Z
UID:10006465-1782900000-1782939600@saintthomaszanesville.org
SUMMARY:Eucharistic Exposition of the Blessed Sacrement
DESCRIPTION:
URL:https://saintthomaszanesville.org/event/eucharistic-exposition-of-the-blessed-sacrement-2-2/2026-07-01/
LOCATION:St Thomas
CATEGORIES:Eucharist
END:VEVENT
END:VCALENDAR