BEGIN:VCALENDAR
VERSION:2.0
PRODID:-//Saint Thomas Acquinas Zanesville - ECPv6.15.20//NONSGML v1.0//EN
CALSCALE:GREGORIAN
METHOD:PUBLISH
X-ORIGINAL-URL:https://saintthomaszanesville.org
X-WR-CALDESC:Events for Saint Thomas Acquinas Zanesville
REFRESH-INTERVAL;VALUE=DURATION:PT1H
X-Robots-Tag:noindex
X-PUBLISHED-TTL:PT1H
BEGIN:VTIMEZONE
TZID:America/Detroit
BEGIN:DAYLIGHT
TZOFFSETFROM:-0500
TZOFFSETTO:-0400
TZNAME:EDT
DTSTART:20240310T070000
END:DAYLIGHT
BEGIN:STANDARD
TZOFFSETFROM:-0400
TZOFFSETTO:-0500
TZNAME:EST
DTSTART:20241103T060000
END:STANDARD
BEGIN:DAYLIGHT
TZOFFSETFROM:-0500
TZOFFSETTO:-0400
TZNAME:EDT
DTSTART:20250309T070000
END:DAYLIGHT
BEGIN:STANDARD
TZOFFSETFROM:-0400
TZOFFSETTO:-0500
TZNAME:EST
DTSTART:20251102T060000
END:STANDARD
BEGIN:DAYLIGHT
TZOFFSETFROM:-0500
TZOFFSETTO:-0400
TZNAME:EDT
DTSTART:20260308T070000
END:DAYLIGHT
BEGIN:STANDARD
TZOFFSETFROM:-0400
TZOFFSETTO:-0500
TZNAME:EST
DTSTART:20261101T060000
END:STANDARD
BEGIN:DAYLIGHT
TZOFFSETFROM:-0500
TZOFFSETTO:-0400
TZNAME:EDT
DTSTART:20270314T070000
END:DAYLIGHT
BEGIN:STANDARD
TZOFFSETFROM:-0400
TZOFFSETTO:-0500
TZNAME:EST
DTSTART:20271107T060000
END:STANDARD
END:VTIMEZONE
BEGIN:VEVENT
DTSTART;TZID=America/Detroit:20260114T100000
DTEND;TZID=America/Detroit:20260114T210000
DTSTAMP:20260420T081424
CREATED:20231025T130420Z
LAST-MODIFIED:20260219T151646Z
UID:10006441-1768384800-1768424400@saintthomaszanesville.org
SUMMARY:Eucharistic Exposition of the Blessed Sacrement
DESCRIPTION:
URL:https://saintthomaszanesville.org/event/eucharistic-exposition-of-the-blessed-sacrement-2-2/2026-01-14/
LOCATION:St Thomas
CATEGORIES:Eucharist
END:VEVENT
BEGIN:VEVENT
DTSTART;TZID=America/Detroit:20260107T100000
DTEND;TZID=America/Detroit:20260107T210000
DTSTAMP:20260420T081424
CREATED:20231025T130420Z
LAST-MODIFIED:20260219T151646Z
UID:10006440-1767780000-1767819600@saintthomaszanesville.org
SUMMARY:Eucharistic Exposition of the Blessed Sacrement
DESCRIPTION:
URL:https://saintthomaszanesville.org/event/eucharistic-exposition-of-the-blessed-sacrement-2-2/2026-01-07/
LOCATION:St Thomas
CATEGORIES:Eucharist
END:VEVENT
BEGIN:VEVENT
DTSTART;TZID=America/Detroit:20251217T100000
DTEND;TZID=America/Detroit:20251217T210000
DTSTAMP:20260420T081424
CREATED:20231025T130420Z
LAST-MODIFIED:20260219T151646Z
UID:10006437-1765965600-1766005200@saintthomaszanesville.org
SUMMARY:Eucharistic Exposition of the Blessed Sacrement
DESCRIPTION:
URL:https://saintthomaszanesville.org/event/eucharistic-exposition-of-the-blessed-sacrement-2-2/2025-12-17/
LOCATION:St Thomas
CATEGORIES:Eucharist
END:VEVENT
BEGIN:VEVENT
DTSTART;TZID=America/Detroit:20251210T100000
DTEND;TZID=America/Detroit:20251210T210000
DTSTAMP:20260420T081424
CREATED:20231025T130420Z
LAST-MODIFIED:20260219T151646Z
UID:10006436-1765360800-1765400400@saintthomaszanesville.org
SUMMARY:Eucharistic Exposition of the Blessed Sacrement
DESCRIPTION:
URL:https://saintthomaszanesville.org/event/eucharistic-exposition-of-the-blessed-sacrement-2-2/2025-12-10/
LOCATION:St Thomas
CATEGORIES:Eucharist
END:VEVENT
BEGIN:VEVENT
DTSTART;TZID=America/Detroit:20251203T100000
DTEND;TZID=America/Detroit:20251203T210000
DTSTAMP:20260420T081424
CREATED:20231025T130420Z
LAST-MODIFIED:20260219T151646Z
UID:10006435-1764756000-1764795600@saintthomaszanesville.org
SUMMARY:Eucharistic Exposition of the Blessed Sacrement
DESCRIPTION:
URL:https://saintthomaszanesville.org/event/eucharistic-exposition-of-the-blessed-sacrement-2-2/2025-12-03/
LOCATION:St Thomas
CATEGORIES:Eucharist
END:VEVENT
BEGIN:VEVENT
DTSTART;TZID=America/Detroit:20251119T100000
DTEND;TZID=America/Detroit:20251119T210000
DTSTAMP:20260420T081424
CREATED:20231025T130420Z
LAST-MODIFIED:20260219T151646Z
UID:10006433-1763546400-1763586000@saintthomaszanesville.org
SUMMARY:Eucharistic Exposition of the Blessed Sacrement
DESCRIPTION:
URL:https://saintthomaszanesville.org/event/eucharistic-exposition-of-the-blessed-sacrement-2-2/2025-11-19/
LOCATION:St Thomas
CATEGORIES:Eucharist
END:VEVENT
BEGIN:VEVENT
DTSTART;TZID=America/Detroit:20251112T100000
DTEND;TZID=America/Detroit:20251112T210000
DTSTAMP:20260420T081424
CREATED:20231025T130420Z
LAST-MODIFIED:20260219T151646Z
UID:10006432-1762941600-1762981200@saintthomaszanesville.org
SUMMARY:Eucharistic Exposition of the Blessed Sacrement
DESCRIPTION:
URL:https://saintthomaszanesville.org/event/eucharistic-exposition-of-the-blessed-sacrement-2-2/2025-11-12/
LOCATION:St Thomas
CATEGORIES:Eucharist
END:VEVENT
BEGIN:VEVENT
DTSTART;TZID=America/Detroit:20251105T100000
DTEND;TZID=America/Detroit:20251105T210000
DTSTAMP:20260420T081424
CREATED:20231025T130420Z
LAST-MODIFIED:20260219T151646Z
UID:10006431-1762336800-1762376400@saintthomaszanesville.org
SUMMARY:Eucharistic Exposition of the Blessed Sacrement
DESCRIPTION:
URL:https://saintthomaszanesville.org/event/eucharistic-exposition-of-the-blessed-sacrement-2-2/2025-11-05/
LOCATION:St Thomas
CATEGORIES:Eucharist
END:VEVENT
BEGIN:VEVENT
DTSTART;TZID=America/Detroit:20251029T100000
DTEND;TZID=America/Detroit:20251029T210000
DTSTAMP:20260420T081424
CREATED:20231025T130420Z
LAST-MODIFIED:20260219T151646Z
UID:10006430-1761732000-1761771600@saintthomaszanesville.org
SUMMARY:Eucharistic Exposition of the Blessed Sacrement
DESCRIPTION:
URL:https://saintthomaszanesville.org/event/eucharistic-exposition-of-the-blessed-sacrement-2-2/2025-10-29/
LOCATION:St Thomas
CATEGORIES:Eucharist
END:VEVENT
BEGIN:VEVENT
DTSTART;TZID=America/Detroit:20251022T100000
DTEND;TZID=America/Detroit:20251022T210000
DTSTAMP:20260420T081424
CREATED:20231025T130420Z
LAST-MODIFIED:20260219T151646Z
UID:10006429-1761127200-1761166800@saintthomaszanesville.org
SUMMARY:Eucharistic Exposition of the Blessed Sacrement
DESCRIPTION:
URL:https://saintthomaszanesville.org/event/eucharistic-exposition-of-the-blessed-sacrement-2-2/2025-10-22/
LOCATION:St Thomas
CATEGORIES:Eucharist
END:VEVENT
BEGIN:VEVENT
DTSTART;TZID=America/Detroit:20251015T100000
DTEND;TZID=America/Detroit:20251015T210000
DTSTAMP:20260420T081424
CREATED:20231025T130420Z
LAST-MODIFIED:20260219T151646Z
UID:10006428-1760522400-1760562000@saintthomaszanesville.org
SUMMARY:Eucharistic Exposition of the Blessed Sacrement
DESCRIPTION:
URL:https://saintthomaszanesville.org/event/eucharistic-exposition-of-the-blessed-sacrement-2-2/2025-10-15/
LOCATION:St Thomas
CATEGORIES:Eucharist
END:VEVENT
BEGIN:VEVENT
DTSTART;TZID=America/Detroit:20251008T100000
DTEND;TZID=America/Detroit:20251008T210000
DTSTAMP:20260420T081424
CREATED:20231025T130420Z
LAST-MODIFIED:20260219T151646Z
UID:10006427-1759917600-1759957200@saintthomaszanesville.org
SUMMARY:Eucharistic Exposition of the Blessed Sacrement
DESCRIPTION:
URL:https://saintthomaszanesville.org/event/eucharistic-exposition-of-the-blessed-sacrement-2-2/2025-10-08/
LOCATION:St Thomas
CATEGORIES:Eucharist
END:VEVENT
BEGIN:VEVENT
DTSTART;TZID=America/Detroit:20251001T100000
DTEND;TZID=America/Detroit:20251001T210000
DTSTAMP:20260420T081424
CREATED:20231025T130420Z
LAST-MODIFIED:20260219T151646Z
UID:10006426-1759312800-1759352400@saintthomaszanesville.org
SUMMARY:Eucharistic Exposition of the Blessed Sacrement
DESCRIPTION:
URL:https://saintthomaszanesville.org/event/eucharistic-exposition-of-the-blessed-sacrement-2-2/2025-10-01/
LOCATION:St Thomas
CATEGORIES:Eucharist
END:VEVENT
BEGIN:VEVENT
DTSTART;TZID=America/Detroit:20250924T100000
DTEND;TZID=America/Detroit:20250924T210000
DTSTAMP:20260420T081424
CREATED:20231025T130420Z
LAST-MODIFIED:20260219T151646Z
UID:10006425-1758708000-1758747600@saintthomaszanesville.org
SUMMARY:Eucharistic Exposition of the Blessed Sacrement
DESCRIPTION:
URL:https://saintthomaszanesville.org/event/eucharistic-exposition-of-the-blessed-sacrement-2-2/2025-09-24/
LOCATION:St Thomas
CATEGORIES:Eucharist
END:VEVENT
BEGIN:VEVENT
DTSTART;TZID=America/Detroit:20250917T100000
DTEND;TZID=America/Detroit:20250917T210000
DTSTAMP:20260420T081424
CREATED:20231025T130420Z
LAST-MODIFIED:20260219T151646Z
UID:10006424-1758103200-1758142800@saintthomaszanesville.org
SUMMARY:Eucharistic Exposition of the Blessed Sacrement
DESCRIPTION:
URL:https://saintthomaszanesville.org/event/eucharistic-exposition-of-the-blessed-sacrement-2-2/2025-09-17/
LOCATION:St Thomas
CATEGORIES:Eucharist
END:VEVENT
BEGIN:VEVENT
DTSTART;TZID=America/Detroit:20250910T100000
DTEND;TZID=America/Detroit:20250910T210000
DTSTAMP:20260420T081424
CREATED:20231025T130420Z
LAST-MODIFIED:20260219T151646Z
UID:10006423-1757498400-1757538000@saintthomaszanesville.org
SUMMARY:Eucharistic Exposition of the Blessed Sacrement
DESCRIPTION:
URL:https://saintthomaszanesville.org/event/eucharistic-exposition-of-the-blessed-sacrement-2-2/2025-09-10/
LOCATION:St Thomas
CATEGORIES:Eucharist
END:VEVENT
BEGIN:VEVENT
DTSTART;TZID=America/Detroit:20250903T100000
DTEND;TZID=America/Detroit:20250903T210000
DTSTAMP:20260420T081424
CREATED:20231025T130420Z
LAST-MODIFIED:20260219T151646Z
UID:10006422-1756893600-1756933200@saintthomaszanesville.org
SUMMARY:Eucharistic Exposition of the Blessed Sacrement
DESCRIPTION:
URL:https://saintthomaszanesville.org/event/eucharistic-exposition-of-the-blessed-sacrement-2-2/2025-09-03/
LOCATION:St Thomas
CATEGORIES:Eucharist
END:VEVENT
BEGIN:VEVENT
DTSTART;TZID=America/Detroit:20250827T100000
DTEND;TZID=America/Detroit:20250827T210000
DTSTAMP:20260420T081424
CREATED:20231025T130420Z
LAST-MODIFIED:20260219T151646Z
UID:10006421-1756288800-1756328400@saintthomaszanesville.org
SUMMARY:Eucharistic Exposition of the Blessed Sacrement
DESCRIPTION:
URL:https://saintthomaszanesville.org/event/eucharistic-exposition-of-the-blessed-sacrement-2-2/2025-08-27/
LOCATION:St Thomas
CATEGORIES:Eucharist
END:VEVENT
BEGIN:VEVENT
DTSTART;TZID=America/Detroit:20250820T100000
DTEND;TZID=America/Detroit:20250820T210000
DTSTAMP:20260420T081424
CREATED:20231025T130420Z
LAST-MODIFIED:20260219T151646Z
UID:10006420-1755684000-1755723600@saintthomaszanesville.org
SUMMARY:Eucharistic Exposition of the Blessed Sacrement
DESCRIPTION:
URL:https://saintthomaszanesville.org/event/eucharistic-exposition-of-the-blessed-sacrement-2-2/2025-08-20/
LOCATION:St Thomas
CATEGORIES:Eucharist
END:VEVENT
BEGIN:VEVENT
DTSTART;TZID=America/Detroit:20250813T100000
DTEND;TZID=America/Detroit:20250813T210000
DTSTAMP:20260420T081424
CREATED:20231025T130420Z
LAST-MODIFIED:20260219T151646Z
UID:10006419-1755079200-1755118800@saintthomaszanesville.org
SUMMARY:Eucharistic Exposition of the Blessed Sacrement
DESCRIPTION:
URL:https://saintthomaszanesville.org/event/eucharistic-exposition-of-the-blessed-sacrement-2-2/2025-08-13/
LOCATION:St Thomas
CATEGORIES:Eucharist
END:VEVENT
BEGIN:VEVENT
DTSTART;TZID=America/Detroit:20250806T100000
DTEND;TZID=America/Detroit:20250806T210000
DTSTAMP:20260420T081424
CREATED:20231025T130420Z
LAST-MODIFIED:20260219T151646Z
UID:10006418-1754474400-1754514000@saintthomaszanesville.org
SUMMARY:Eucharistic Exposition of the Blessed Sacrement
DESCRIPTION:
URL:https://saintthomaszanesville.org/event/eucharistic-exposition-of-the-blessed-sacrement-2-2/2025-08-06/
LOCATION:St Thomas
CATEGORIES:Eucharist
END:VEVENT
BEGIN:VEVENT
DTSTART;TZID=America/Detroit:20250730T100000
DTEND;TZID=America/Detroit:20250730T210000
DTSTAMP:20260420T081424
CREATED:20231025T130420Z
LAST-MODIFIED:20260219T151646Z
UID:10006417-1753869600-1753909200@saintthomaszanesville.org
SUMMARY:Eucharistic Exposition of the Blessed Sacrement
DESCRIPTION:
URL:https://saintthomaszanesville.org/event/eucharistic-exposition-of-the-blessed-sacrement-2-2/2025-07-30/
LOCATION:St Thomas
CATEGORIES:Eucharist
END:VEVENT
BEGIN:VEVENT
DTSTART;TZID=America/Detroit:20250723T100000
DTEND;TZID=America/Detroit:20250723T210000
DTSTAMP:20260420T081424
CREATED:20231025T130420Z
LAST-MODIFIED:20260219T151646Z
UID:10006416-1753264800-1753304400@saintthomaszanesville.org
SUMMARY:Eucharistic Exposition of the Blessed Sacrement
DESCRIPTION:
URL:https://saintthomaszanesville.org/event/eucharistic-exposition-of-the-blessed-sacrement-2-2/2025-07-23/
LOCATION:St Thomas
CATEGORIES:Eucharist
END:VEVENT
BEGIN:VEVENT
DTSTART;TZID=America/Detroit:20250716T100000
DTEND;TZID=America/Detroit:20250716T210000
DTSTAMP:20260420T081424
CREATED:20231025T130420Z
LAST-MODIFIED:20260219T151646Z
UID:10006415-1752660000-1752699600@saintthomaszanesville.org
SUMMARY:Eucharistic Exposition of the Blessed Sacrement
DESCRIPTION:
URL:https://saintthomaszanesville.org/event/eucharistic-exposition-of-the-blessed-sacrement-2-2/2025-07-16/
LOCATION:St Thomas
CATEGORIES:Eucharist
END:VEVENT
BEGIN:VEVENT
DTSTART;TZID=America/Detroit:20250709T100000
DTEND;TZID=America/Detroit:20250709T210000
DTSTAMP:20260420T081424
CREATED:20231025T130420Z
LAST-MODIFIED:20260219T151646Z
UID:10006414-1752055200-1752094800@saintthomaszanesville.org
SUMMARY:Eucharistic Exposition of the Blessed Sacrement
DESCRIPTION:
URL:https://saintthomaszanesville.org/event/eucharistic-exposition-of-the-blessed-sacrement-2-2/2025-07-09/
LOCATION:St Thomas
CATEGORIES:Eucharist
END:VEVENT
BEGIN:VEVENT
DTSTART;TZID=America/Detroit:20250702T100000
DTEND;TZID=America/Detroit:20250702T210000
DTSTAMP:20260420T081424
CREATED:20231025T130420Z
LAST-MODIFIED:20260219T151646Z
UID:10006413-1751450400-1751490000@saintthomaszanesville.org
SUMMARY:Eucharistic Exposition of the Blessed Sacrement
DESCRIPTION:
URL:https://saintthomaszanesville.org/event/eucharistic-exposition-of-the-blessed-sacrement-2-2/2025-07-02/
LOCATION:St Thomas
CATEGORIES:Eucharist
END:VEVENT
BEGIN:VEVENT
DTSTART;TZID=America/Detroit:20250625T100000
DTEND;TZID=America/Detroit:20250625T210000
DTSTAMP:20260420T081424
CREATED:20231025T130420Z
LAST-MODIFIED:20260219T151646Z
UID:10006412-1750845600-1750885200@saintthomaszanesville.org
SUMMARY:Eucharistic Exposition of the Blessed Sacrement
DESCRIPTION:
URL:https://saintthomaszanesville.org/event/eucharistic-exposition-of-the-blessed-sacrement-2-2/2025-06-25/
LOCATION:St Thomas
CATEGORIES:Eucharist
END:VEVENT
BEGIN:VEVENT
DTSTART;TZID=America/Detroit:20250618T100000
DTEND;TZID=America/Detroit:20250618T210000
DTSTAMP:20260420T081424
CREATED:20231025T130420Z
LAST-MODIFIED:20260219T151646Z
UID:10006411-1750240800-1750280400@saintthomaszanesville.org
SUMMARY:Eucharistic Exposition of the Blessed Sacrement
DESCRIPTION:
URL:https://saintthomaszanesville.org/event/eucharistic-exposition-of-the-blessed-sacrement-2-2/2025-06-18/
LOCATION:St Thomas
CATEGORIES:Eucharist
END:VEVENT
BEGIN:VEVENT
DTSTART;TZID=America/Detroit:20250611T100000
DTEND;TZID=America/Detroit:20250611T210000
DTSTAMP:20260420T081424
CREATED:20231025T130420Z
LAST-MODIFIED:20260219T151646Z
UID:10006410-1749636000-1749675600@saintthomaszanesville.org
SUMMARY:Eucharistic Exposition of the Blessed Sacrement
DESCRIPTION:
URL:https://saintthomaszanesville.org/event/eucharistic-exposition-of-the-blessed-sacrement-2-2/2025-06-11/
LOCATION:St Thomas
CATEGORIES:Eucharist
END:VEVENT
BEGIN:VEVENT
DTSTART;TZID=America/Detroit:20250604T100000
DTEND;TZID=America/Detroit:20250604T210000
DTSTAMP:20260420T081424
CREATED:20231025T130420Z
LAST-MODIFIED:20260219T151646Z
UID:10006409-1749031200-1749070800@saintthomaszanesville.org
SUMMARY:Eucharistic Exposition of the Blessed Sacrement
DESCRIPTION:
URL:https://saintthomaszanesville.org/event/eucharistic-exposition-of-the-blessed-sacrement-2-2/2025-06-04/
LOCATION:St Thomas
CATEGORIES:Eucharist
END:VEVENT
END:VCALENDAR