BEGIN:VCALENDAR
VERSION:2.0
PRODID:-//Saint Thomas Acquinas Zanesville - ECPv6.15.20//NONSGML v1.0//EN
CALSCALE:GREGORIAN
METHOD:PUBLISH
X-ORIGINAL-URL:https://saintthomaszanesville.org
X-WR-CALDESC:Events for Saint Thomas Acquinas Zanesville
REFRESH-INTERVAL;VALUE=DURATION:PT1H
X-Robots-Tag:noindex
X-PUBLISHED-TTL:PT1H
BEGIN:VTIMEZONE
TZID:America/Detroit
BEGIN:DAYLIGHT
TZOFFSETFROM:-0500
TZOFFSETTO:-0400
TZNAME:EDT
DTSTART:20290311T070000
END:DAYLIGHT
BEGIN:STANDARD
TZOFFSETFROM:-0400
TZOFFSETTO:-0500
TZNAME:EST
DTSTART:20291104T060000
END:STANDARD
BEGIN:DAYLIGHT
TZOFFSETFROM:-0500
TZOFFSETTO:-0400
TZNAME:EDT
DTSTART:20300310T070000
END:DAYLIGHT
BEGIN:STANDARD
TZOFFSETFROM:-0400
TZOFFSETTO:-0500
TZNAME:EST
DTSTART:20301103T060000
END:STANDARD
BEGIN:DAYLIGHT
TZOFFSETFROM:-0500
TZOFFSETTO:-0400
TZNAME:EDT
DTSTART:20310309T070000
END:DAYLIGHT
BEGIN:STANDARD
TZOFFSETFROM:-0400
TZOFFSETTO:-0500
TZNAME:EST
DTSTART:20311102T060000
END:STANDARD
END:VTIMEZONE
BEGIN:VEVENT
DTSTART;TZID=America/Detroit:20300501T100000
DTEND;TZID=America/Detroit:20300501T210000
DTSTAMP:20260419T155252
CREATED:20231025T130420Z
LAST-MODIFIED:20260219T151646Z
UID:10010061-1903860000-1903899600@saintthomaszanesville.org
SUMMARY:Eucharistic Exposition of the Blessed Sacrement
DESCRIPTION:
URL:https://saintthomaszanesville.org/event/eucharistic-exposition-of-the-blessed-sacrement-2-2/2030-05-01/
LOCATION:St Thomas
CATEGORIES:Eucharist
END:VEVENT
BEGIN:VEVENT
DTSTART;TZID=America/Detroit:20300508T100000
DTEND;TZID=America/Detroit:20300508T210000
DTSTAMP:20260419T155252
CREATED:20231025T130420Z
LAST-MODIFIED:20260219T151646Z
UID:10010062-1904464800-1904504400@saintthomaszanesville.org
SUMMARY:Eucharistic Exposition of the Blessed Sacrement
DESCRIPTION:
URL:https://saintthomaszanesville.org/event/eucharistic-exposition-of-the-blessed-sacrement-2-2/2030-05-08/
LOCATION:St Thomas
CATEGORIES:Eucharist
END:VEVENT
BEGIN:VEVENT
DTSTART;TZID=America/Detroit:20300515T100000
DTEND;TZID=America/Detroit:20300515T210000
DTSTAMP:20260419T155252
CREATED:20231025T130420Z
LAST-MODIFIED:20260219T151646Z
UID:10010063-1905069600-1905109200@saintthomaszanesville.org
SUMMARY:Eucharistic Exposition of the Blessed Sacrement
DESCRIPTION:
URL:https://saintthomaszanesville.org/event/eucharistic-exposition-of-the-blessed-sacrement-2-2/2030-05-15/
LOCATION:St Thomas
CATEGORIES:Eucharist
END:VEVENT
BEGIN:VEVENT
DTSTART;TZID=America/Detroit:20300522T100000
DTEND;TZID=America/Detroit:20300522T210000
DTSTAMP:20260419T155252
CREATED:20231025T130420Z
LAST-MODIFIED:20260219T151646Z
UID:10010064-1905674400-1905714000@saintthomaszanesville.org
SUMMARY:Eucharistic Exposition of the Blessed Sacrement
DESCRIPTION:
URL:https://saintthomaszanesville.org/event/eucharistic-exposition-of-the-blessed-sacrement-2-2/2030-05-22/
LOCATION:St Thomas
CATEGORIES:Eucharist
END:VEVENT
BEGIN:VEVENT
DTSTART;TZID=America/Detroit:20300529T100000
DTEND;TZID=America/Detroit:20300529T210000
DTSTAMP:20260419T155252
CREATED:20231025T130420Z
LAST-MODIFIED:20260219T151646Z
UID:10010065-1906279200-1906318800@saintthomaszanesville.org
SUMMARY:Eucharistic Exposition of the Blessed Sacrement
DESCRIPTION:
URL:https://saintthomaszanesville.org/event/eucharistic-exposition-of-the-blessed-sacrement-2-2/2030-05-29/
LOCATION:St Thomas
CATEGORIES:Eucharist
END:VEVENT
BEGIN:VEVENT
DTSTART;TZID=America/Detroit:20300605T100000
DTEND;TZID=America/Detroit:20300605T210000
DTSTAMP:20260419T155252
CREATED:20231025T130420Z
LAST-MODIFIED:20260219T151646Z
UID:10010066-1906884000-1906923600@saintthomaszanesville.org
SUMMARY:Eucharistic Exposition of the Blessed Sacrement
DESCRIPTION:
URL:https://saintthomaszanesville.org/event/eucharistic-exposition-of-the-blessed-sacrement-2-2/2030-06-05/
LOCATION:St Thomas
CATEGORIES:Eucharist
END:VEVENT
BEGIN:VEVENT
DTSTART;TZID=America/Detroit:20300612T100000
DTEND;TZID=America/Detroit:20300612T210000
DTSTAMP:20260419T155252
CREATED:20231025T130420Z
LAST-MODIFIED:20260219T151646Z
UID:10010067-1907488800-1907528400@saintthomaszanesville.org
SUMMARY:Eucharistic Exposition of the Blessed Sacrement
DESCRIPTION:
URL:https://saintthomaszanesville.org/event/eucharistic-exposition-of-the-blessed-sacrement-2-2/2030-06-12/
LOCATION:St Thomas
CATEGORIES:Eucharist
END:VEVENT
BEGIN:VEVENT
DTSTART;TZID=America/Detroit:20300619T100000
DTEND;TZID=America/Detroit:20300619T210000
DTSTAMP:20260419T155252
CREATED:20231025T130420Z
LAST-MODIFIED:20260219T151646Z
UID:10010068-1908093600-1908133200@saintthomaszanesville.org
SUMMARY:Eucharistic Exposition of the Blessed Sacrement
DESCRIPTION:
URL:https://saintthomaszanesville.org/event/eucharistic-exposition-of-the-blessed-sacrement-2-2/2030-06-19/
LOCATION:St Thomas
CATEGORIES:Eucharist
END:VEVENT
BEGIN:VEVENT
DTSTART;TZID=America/Detroit:20300626T100000
DTEND;TZID=America/Detroit:20300626T210000
DTSTAMP:20260419T155252
CREATED:20231025T130420Z
LAST-MODIFIED:20260219T151646Z
UID:10010069-1908698400-1908738000@saintthomaszanesville.org
SUMMARY:Eucharistic Exposition of the Blessed Sacrement
DESCRIPTION:
URL:https://saintthomaszanesville.org/event/eucharistic-exposition-of-the-blessed-sacrement-2-2/2030-06-26/
LOCATION:St Thomas
CATEGORIES:Eucharist
END:VEVENT
BEGIN:VEVENT
DTSTART;TZID=America/Detroit:20300703T100000
DTEND;TZID=America/Detroit:20300703T210000
DTSTAMP:20260419T155252
CREATED:20231025T130420Z
LAST-MODIFIED:20260219T151646Z
UID:10010070-1909303200-1909342800@saintthomaszanesville.org
SUMMARY:Eucharistic Exposition of the Blessed Sacrement
DESCRIPTION:
URL:https://saintthomaszanesville.org/event/eucharistic-exposition-of-the-blessed-sacrement-2-2/2030-07-03/
LOCATION:St Thomas
CATEGORIES:Eucharist
END:VEVENT
BEGIN:VEVENT
DTSTART;TZID=America/Detroit:20300710T100000
DTEND;TZID=America/Detroit:20300710T210000
DTSTAMP:20260419T155252
CREATED:20231025T130420Z
LAST-MODIFIED:20260219T151646Z
UID:10010071-1909908000-1909947600@saintthomaszanesville.org
SUMMARY:Eucharistic Exposition of the Blessed Sacrement
DESCRIPTION:
URL:https://saintthomaszanesville.org/event/eucharistic-exposition-of-the-blessed-sacrement-2-2/2030-07-10/
LOCATION:St Thomas
CATEGORIES:Eucharist
END:VEVENT
BEGIN:VEVENT
DTSTART;TZID=America/Detroit:20300717T100000
DTEND;TZID=America/Detroit:20300717T210000
DTSTAMP:20260419T155253
CREATED:20231025T130420Z
LAST-MODIFIED:20260219T151646Z
UID:10010072-1910512800-1910552400@saintthomaszanesville.org
SUMMARY:Eucharistic Exposition of the Blessed Sacrement
DESCRIPTION:
URL:https://saintthomaszanesville.org/event/eucharistic-exposition-of-the-blessed-sacrement-2-2/2030-07-17/
LOCATION:St Thomas
CATEGORIES:Eucharist
END:VEVENT
BEGIN:VEVENT
DTSTART;TZID=America/Detroit:20300724T100000
DTEND;TZID=America/Detroit:20300724T210000
DTSTAMP:20260419T155253
CREATED:20231025T130420Z
LAST-MODIFIED:20260219T151646Z
UID:10010073-1911117600-1911157200@saintthomaszanesville.org
SUMMARY:Eucharistic Exposition of the Blessed Sacrement
DESCRIPTION:
URL:https://saintthomaszanesville.org/event/eucharistic-exposition-of-the-blessed-sacrement-2-2/2030-07-24/
LOCATION:St Thomas
CATEGORIES:Eucharist
END:VEVENT
BEGIN:VEVENT
DTSTART;TZID=America/Detroit:20300731T100000
DTEND;TZID=America/Detroit:20300731T210000
DTSTAMP:20260419T155253
CREATED:20231025T130420Z
LAST-MODIFIED:20260219T151646Z
UID:10010074-1911722400-1911762000@saintthomaszanesville.org
SUMMARY:Eucharistic Exposition of the Blessed Sacrement
DESCRIPTION:
URL:https://saintthomaszanesville.org/event/eucharistic-exposition-of-the-blessed-sacrement-2-2/2030-07-31/
LOCATION:St Thomas
CATEGORIES:Eucharist
END:VEVENT
BEGIN:VEVENT
DTSTART;TZID=America/Detroit:20300807T100000
DTEND;TZID=America/Detroit:20300807T210000
DTSTAMP:20260419T155253
CREATED:20231025T130420Z
LAST-MODIFIED:20260219T151646Z
UID:10010075-1912327200-1912366800@saintthomaszanesville.org
SUMMARY:Eucharistic Exposition of the Blessed Sacrement
DESCRIPTION:
URL:https://saintthomaszanesville.org/event/eucharistic-exposition-of-the-blessed-sacrement-2-2/2030-08-07/
LOCATION:St Thomas
CATEGORIES:Eucharist
END:VEVENT
BEGIN:VEVENT
DTSTART;TZID=America/Detroit:20300814T100000
DTEND;TZID=America/Detroit:20300814T210000
DTSTAMP:20260419T155253
CREATED:20231025T130420Z
LAST-MODIFIED:20260219T151646Z
UID:10010076-1912932000-1912971600@saintthomaszanesville.org
SUMMARY:Eucharistic Exposition of the Blessed Sacrement
DESCRIPTION:
URL:https://saintthomaszanesville.org/event/eucharistic-exposition-of-the-blessed-sacrement-2-2/2030-08-14/
LOCATION:St Thomas
CATEGORIES:Eucharist
END:VEVENT
BEGIN:VEVENT
DTSTART;TZID=America/Detroit:20300821T100000
DTEND;TZID=America/Detroit:20300821T210000
DTSTAMP:20260419T155253
CREATED:20231025T130420Z
LAST-MODIFIED:20260219T151646Z
UID:10010077-1913536800-1913576400@saintthomaszanesville.org
SUMMARY:Eucharistic Exposition of the Blessed Sacrement
DESCRIPTION:
URL:https://saintthomaszanesville.org/event/eucharistic-exposition-of-the-blessed-sacrement-2-2/2030-08-21/
LOCATION:St Thomas
CATEGORIES:Eucharist
END:VEVENT
BEGIN:VEVENT
DTSTART;TZID=America/Detroit:20300828T100000
DTEND;TZID=America/Detroit:20300828T210000
DTSTAMP:20260419T155253
CREATED:20231025T130420Z
LAST-MODIFIED:20260219T151646Z
UID:10010078-1914141600-1914181200@saintthomaszanesville.org
SUMMARY:Eucharistic Exposition of the Blessed Sacrement
DESCRIPTION:
URL:https://saintthomaszanesville.org/event/eucharistic-exposition-of-the-blessed-sacrement-2-2/2030-08-28/
LOCATION:St Thomas
CATEGORIES:Eucharist
END:VEVENT
BEGIN:VEVENT
DTSTART;TZID=America/Detroit:20300904T100000
DTEND;TZID=America/Detroit:20300904T210000
DTSTAMP:20260419T155253
CREATED:20231025T130420Z
LAST-MODIFIED:20260219T151646Z
UID:10010079-1914746400-1914786000@saintthomaszanesville.org
SUMMARY:Eucharistic Exposition of the Blessed Sacrement
DESCRIPTION:
URL:https://saintthomaszanesville.org/event/eucharistic-exposition-of-the-blessed-sacrement-2-2/2030-09-04/
LOCATION:St Thomas
CATEGORIES:Eucharist
END:VEVENT
BEGIN:VEVENT
DTSTART;TZID=America/Detroit:20300911T100000
DTEND;TZID=America/Detroit:20300911T210000
DTSTAMP:20260419T155253
CREATED:20231025T130420Z
LAST-MODIFIED:20260219T151646Z
UID:10010080-1915351200-1915390800@saintthomaszanesville.org
SUMMARY:Eucharistic Exposition of the Blessed Sacrement
DESCRIPTION:
URL:https://saintthomaszanesville.org/event/eucharistic-exposition-of-the-blessed-sacrement-2-2/2030-09-11/
LOCATION:St Thomas
CATEGORIES:Eucharist
END:VEVENT
BEGIN:VEVENT
DTSTART;TZID=America/Detroit:20300918T100000
DTEND;TZID=America/Detroit:20300918T210000
DTSTAMP:20260419T155253
CREATED:20231025T130420Z
LAST-MODIFIED:20260219T151646Z
UID:10010081-1915956000-1915995600@saintthomaszanesville.org
SUMMARY:Eucharistic Exposition of the Blessed Sacrement
DESCRIPTION:
URL:https://saintthomaszanesville.org/event/eucharistic-exposition-of-the-blessed-sacrement-2-2/2030-09-18/
LOCATION:St Thomas
CATEGORIES:Eucharist
END:VEVENT
BEGIN:VEVENT
DTSTART;TZID=America/Detroit:20300925T100000
DTEND;TZID=America/Detroit:20300925T210000
DTSTAMP:20260419T155253
CREATED:20231025T130420Z
LAST-MODIFIED:20260219T151646Z
UID:10010082-1916560800-1916600400@saintthomaszanesville.org
SUMMARY:Eucharistic Exposition of the Blessed Sacrement
DESCRIPTION:
URL:https://saintthomaszanesville.org/event/eucharistic-exposition-of-the-blessed-sacrement-2-2/2030-09-25/
LOCATION:St Thomas
CATEGORIES:Eucharist
END:VEVENT
BEGIN:VEVENT
DTSTART;TZID=America/Detroit:20301002T100000
DTEND;TZID=America/Detroit:20301002T210000
DTSTAMP:20260419T155253
CREATED:20231025T130420Z
LAST-MODIFIED:20260219T151646Z
UID:10010083-1917165600-1917205200@saintthomaszanesville.org
SUMMARY:Eucharistic Exposition of the Blessed Sacrement
DESCRIPTION:
URL:https://saintthomaszanesville.org/event/eucharistic-exposition-of-the-blessed-sacrement-2-2/2030-10-02/
LOCATION:St Thomas
CATEGORIES:Eucharist
END:VEVENT
BEGIN:VEVENT
DTSTART;TZID=America/Detroit:20301009T100000
DTEND;TZID=America/Detroit:20301009T210000
DTSTAMP:20260419T155253
CREATED:20231025T130420Z
LAST-MODIFIED:20260219T151646Z
UID:10010084-1917770400-1917810000@saintthomaszanesville.org
SUMMARY:Eucharistic Exposition of the Blessed Sacrement
DESCRIPTION:
URL:https://saintthomaszanesville.org/event/eucharistic-exposition-of-the-blessed-sacrement-2-2/2030-10-09/
LOCATION:St Thomas
CATEGORIES:Eucharist
END:VEVENT
BEGIN:VEVENT
DTSTART;TZID=America/Detroit:20301016T100000
DTEND;TZID=America/Detroit:20301016T210000
DTSTAMP:20260419T155253
CREATED:20231025T130420Z
LAST-MODIFIED:20260219T151646Z
UID:10010085-1918375200-1918414800@saintthomaszanesville.org
SUMMARY:Eucharistic Exposition of the Blessed Sacrement
DESCRIPTION:
URL:https://saintthomaszanesville.org/event/eucharistic-exposition-of-the-blessed-sacrement-2-2/2030-10-16/
LOCATION:St Thomas
CATEGORIES:Eucharist
END:VEVENT
BEGIN:VEVENT
DTSTART;TZID=America/Detroit:20301023T100000
DTEND;TZID=America/Detroit:20301023T210000
DTSTAMP:20260419T155253
CREATED:20231025T130420Z
LAST-MODIFIED:20260219T151646Z
UID:10010086-1918980000-1919019600@saintthomaszanesville.org
SUMMARY:Eucharistic Exposition of the Blessed Sacrement
DESCRIPTION:
URL:https://saintthomaszanesville.org/event/eucharistic-exposition-of-the-blessed-sacrement-2-2/2030-10-23/
LOCATION:St Thomas
CATEGORIES:Eucharist
END:VEVENT
BEGIN:VEVENT
DTSTART;TZID=America/Detroit:20301030T100000
DTEND;TZID=America/Detroit:20301030T210000
DTSTAMP:20260419T155253
CREATED:20231025T130420Z
LAST-MODIFIED:20260219T151646Z
UID:10010087-1919584800-1919624400@saintthomaszanesville.org
SUMMARY:Eucharistic Exposition of the Blessed Sacrement
DESCRIPTION:
URL:https://saintthomaszanesville.org/event/eucharistic-exposition-of-the-blessed-sacrement-2-2/2030-10-30/
LOCATION:St Thomas
CATEGORIES:Eucharist
END:VEVENT
BEGIN:VEVENT
DTSTART;TZID=America/Detroit:20301106T100000
DTEND;TZID=America/Detroit:20301106T210000
DTSTAMP:20260419T155253
CREATED:20231025T130420Z
LAST-MODIFIED:20260219T151646Z
UID:10010088-1920189600-1920229200@saintthomaszanesville.org
SUMMARY:Eucharistic Exposition of the Blessed Sacrement
DESCRIPTION:
URL:https://saintthomaszanesville.org/event/eucharistic-exposition-of-the-blessed-sacrement-2-2/2030-11-06/
LOCATION:St Thomas
CATEGORIES:Eucharist
END:VEVENT
BEGIN:VEVENT
DTSTART;TZID=America/Detroit:20301113T100000
DTEND;TZID=America/Detroit:20301113T210000
DTSTAMP:20260419T155253
CREATED:20231025T130420Z
LAST-MODIFIED:20260219T151646Z
UID:10010089-1920794400-1920834000@saintthomaszanesville.org
SUMMARY:Eucharistic Exposition of the Blessed Sacrement
DESCRIPTION:
URL:https://saintthomaszanesville.org/event/eucharistic-exposition-of-the-blessed-sacrement-2-2/2030-11-13/
LOCATION:St Thomas
CATEGORIES:Eucharist
END:VEVENT
BEGIN:VEVENT
DTSTART;TZID=America/Detroit:20301120T100000
DTEND;TZID=America/Detroit:20301120T210000
DTSTAMP:20260419T155253
CREATED:20231025T130420Z
LAST-MODIFIED:20260219T151646Z
UID:10010090-1921399200-1921438800@saintthomaszanesville.org
SUMMARY:Eucharistic Exposition of the Blessed Sacrement
DESCRIPTION:
URL:https://saintthomaszanesville.org/event/eucharistic-exposition-of-the-blessed-sacrement-2-2/2030-11-20/
LOCATION:St Thomas
CATEGORIES:Eucharist
END:VEVENT
END:VCALENDAR