BEGIN:VCALENDAR
VERSION:2.0
PRODID:-//Saint Thomas Acquinas Zanesville - ECPv6.15.20//NONSGML v1.0//EN
CALSCALE:GREGORIAN
METHOD:PUBLISH
X-ORIGINAL-URL:https://saintthomaszanesville.org
X-WR-CALDESC:Events for Saint Thomas Acquinas Zanesville
REFRESH-INTERVAL;VALUE=DURATION:PT1H
X-Robots-Tag:noindex
X-PUBLISHED-TTL:PT1H
BEGIN:VTIMEZONE
TZID:America/Detroit
BEGIN:DAYLIGHT
TZOFFSETFROM:-0500
TZOFFSETTO:-0400
TZNAME:EDT
DTSTART:20280312T070000
END:DAYLIGHT
BEGIN:STANDARD
TZOFFSETFROM:-0400
TZOFFSETTO:-0500
TZNAME:EST
DTSTART:20281105T060000
END:STANDARD
BEGIN:DAYLIGHT
TZOFFSETFROM:-0500
TZOFFSETTO:-0400
TZNAME:EDT
DTSTART:20290311T070000
END:DAYLIGHT
BEGIN:STANDARD
TZOFFSETFROM:-0400
TZOFFSETTO:-0500
TZNAME:EST
DTSTART:20291104T060000
END:STANDARD
BEGIN:DAYLIGHT
TZOFFSETFROM:-0500
TZOFFSETTO:-0400
TZNAME:EDT
DTSTART:20300310T070000
END:DAYLIGHT
BEGIN:STANDARD
TZOFFSETFROM:-0400
TZOFFSETTO:-0500
TZNAME:EST
DTSTART:20301103T060000
END:STANDARD
BEGIN:DAYLIGHT
TZOFFSETFROM:-0500
TZOFFSETTO:-0400
TZNAME:EDT
DTSTART:20310309T070000
END:DAYLIGHT
BEGIN:STANDARD
TZOFFSETFROM:-0400
TZOFFSETTO:-0500
TZNAME:EST
DTSTART:20311102T060000
END:STANDARD
END:VTIMEZONE
BEGIN:VEVENT
DTSTART;TZID=America/Detroit:20290822T100000
DTEND;TZID=America/Detroit:20290822T210000
DTSTAMP:20260419T141614
CREATED:20231025T130420Z
LAST-MODIFIED:20260219T151646Z
UID:10009531-1882087200-1882126800@saintthomaszanesville.org
SUMMARY:Eucharistic Exposition of the Blessed Sacrement
DESCRIPTION:
URL:https://saintthomaszanesville.org/event/eucharistic-exposition-of-the-blessed-sacrement-2-2/2029-08-22/
LOCATION:St Thomas
CATEGORIES:Eucharist
END:VEVENT
BEGIN:VEVENT
DTSTART;TZID=America/Detroit:20290829T100000
DTEND;TZID=America/Detroit:20290829T210000
DTSTAMP:20260419T141614
CREATED:20231025T130420Z
LAST-MODIFIED:20260219T151646Z
UID:10009532-1882692000-1882731600@saintthomaszanesville.org
SUMMARY:Eucharistic Exposition of the Blessed Sacrement
DESCRIPTION:
URL:https://saintthomaszanesville.org/event/eucharistic-exposition-of-the-blessed-sacrement-2-2/2029-08-29/
LOCATION:St Thomas
CATEGORIES:Eucharist
END:VEVENT
BEGIN:VEVENT
DTSTART;TZID=America/Detroit:20290905T100000
DTEND;TZID=America/Detroit:20290905T210000
DTSTAMP:20260419T141614
CREATED:20231025T130420Z
LAST-MODIFIED:20260219T151646Z
UID:10009533-1883296800-1883336400@saintthomaszanesville.org
SUMMARY:Eucharistic Exposition of the Blessed Sacrement
DESCRIPTION:
URL:https://saintthomaszanesville.org/event/eucharistic-exposition-of-the-blessed-sacrement-2-2/2029-09-05/
LOCATION:St Thomas
CATEGORIES:Eucharist
END:VEVENT
BEGIN:VEVENT
DTSTART;TZID=America/Detroit:20290912T100000
DTEND;TZID=America/Detroit:20290912T210000
DTSTAMP:20260419T141614
CREATED:20231025T130420Z
LAST-MODIFIED:20260219T151646Z
UID:10009534-1883901600-1883941200@saintthomaszanesville.org
SUMMARY:Eucharistic Exposition of the Blessed Sacrement
DESCRIPTION:
URL:https://saintthomaszanesville.org/event/eucharistic-exposition-of-the-blessed-sacrement-2-2/2029-09-12/
LOCATION:St Thomas
CATEGORIES:Eucharist
END:VEVENT
BEGIN:VEVENT
DTSTART;TZID=America/Detroit:20290919T100000
DTEND;TZID=America/Detroit:20290919T210000
DTSTAMP:20260419T141614
CREATED:20231025T130420Z
LAST-MODIFIED:20260219T151646Z
UID:10009535-1884506400-1884546000@saintthomaszanesville.org
SUMMARY:Eucharistic Exposition of the Blessed Sacrement
DESCRIPTION:
URL:https://saintthomaszanesville.org/event/eucharistic-exposition-of-the-blessed-sacrement-2-2/2029-09-19/
LOCATION:St Thomas
CATEGORIES:Eucharist
END:VEVENT
BEGIN:VEVENT
DTSTART;TZID=America/Detroit:20290926T100000
DTEND;TZID=America/Detroit:20290926T210000
DTSTAMP:20260419T141614
CREATED:20231025T130420Z
LAST-MODIFIED:20260219T151646Z
UID:10009536-1885111200-1885150800@saintthomaszanesville.org
SUMMARY:Eucharistic Exposition of the Blessed Sacrement
DESCRIPTION:
URL:https://saintthomaszanesville.org/event/eucharistic-exposition-of-the-blessed-sacrement-2-2/2029-09-26/
LOCATION:St Thomas
CATEGORIES:Eucharist
END:VEVENT
BEGIN:VEVENT
DTSTART;TZID=America/Detroit:20291003T100000
DTEND;TZID=America/Detroit:20291003T210000
DTSTAMP:20260419T141614
CREATED:20231025T130420Z
LAST-MODIFIED:20260219T151646Z
UID:10009537-1885716000-1885755600@saintthomaszanesville.org
SUMMARY:Eucharistic Exposition of the Blessed Sacrement
DESCRIPTION:
URL:https://saintthomaszanesville.org/event/eucharistic-exposition-of-the-blessed-sacrement-2-2/2029-10-03/
LOCATION:St Thomas
CATEGORIES:Eucharist
END:VEVENT
BEGIN:VEVENT
DTSTART;TZID=America/Detroit:20291010T100000
DTEND;TZID=America/Detroit:20291010T210000
DTSTAMP:20260419T141614
CREATED:20231025T130420Z
LAST-MODIFIED:20260219T151646Z
UID:10009538-1886320800-1886360400@saintthomaszanesville.org
SUMMARY:Eucharistic Exposition of the Blessed Sacrement
DESCRIPTION:
URL:https://saintthomaszanesville.org/event/eucharistic-exposition-of-the-blessed-sacrement-2-2/2029-10-10/
LOCATION:St Thomas
CATEGORIES:Eucharist
END:VEVENT
BEGIN:VEVENT
DTSTART;TZID=America/Detroit:20291017T100000
DTEND;TZID=America/Detroit:20291017T210000
DTSTAMP:20260419T141614
CREATED:20231025T130420Z
LAST-MODIFIED:20260219T151646Z
UID:10009539-1886925600-1886965200@saintthomaszanesville.org
SUMMARY:Eucharistic Exposition of the Blessed Sacrement
DESCRIPTION:
URL:https://saintthomaszanesville.org/event/eucharistic-exposition-of-the-blessed-sacrement-2-2/2029-10-17/
LOCATION:St Thomas
CATEGORIES:Eucharist
END:VEVENT
BEGIN:VEVENT
DTSTART;TZID=America/Detroit:20291024T100000
DTEND;TZID=America/Detroit:20291024T210000
DTSTAMP:20260419T141614
CREATED:20231025T130420Z
LAST-MODIFIED:20260219T151646Z
UID:10009540-1887530400-1887570000@saintthomaszanesville.org
SUMMARY:Eucharistic Exposition of the Blessed Sacrement
DESCRIPTION:
URL:https://saintthomaszanesville.org/event/eucharistic-exposition-of-the-blessed-sacrement-2-2/2029-10-24/
LOCATION:St Thomas
CATEGORIES:Eucharist
END:VEVENT
BEGIN:VEVENT
DTSTART;TZID=America/Detroit:20291031T100000
DTEND;TZID=America/Detroit:20291031T210000
DTSTAMP:20260419T141614
CREATED:20231025T130420Z
LAST-MODIFIED:20260219T151646Z
UID:10009541-1888135200-1888174800@saintthomaszanesville.org
SUMMARY:Eucharistic Exposition of the Blessed Sacrement
DESCRIPTION:
URL:https://saintthomaszanesville.org/event/eucharistic-exposition-of-the-blessed-sacrement-2-2/2029-10-31/
LOCATION:St Thomas
CATEGORIES:Eucharist
END:VEVENT
BEGIN:VEVENT
DTSTART;TZID=America/Detroit:20291107T100000
DTEND;TZID=America/Detroit:20291107T210000
DTSTAMP:20260419T141614
CREATED:20231025T130420Z
LAST-MODIFIED:20260219T151646Z
UID:10009542-1888740000-1888779600@saintthomaszanesville.org
SUMMARY:Eucharistic Exposition of the Blessed Sacrement
DESCRIPTION:
URL:https://saintthomaszanesville.org/event/eucharistic-exposition-of-the-blessed-sacrement-2-2/2029-11-07/
LOCATION:St Thomas
CATEGORIES:Eucharist
END:VEVENT
BEGIN:VEVENT
DTSTART;TZID=America/Detroit:20291114T100000
DTEND;TZID=America/Detroit:20291114T210000
DTSTAMP:20260419T141614
CREATED:20231025T130420Z
LAST-MODIFIED:20260219T151646Z
UID:10009543-1889344800-1889384400@saintthomaszanesville.org
SUMMARY:Eucharistic Exposition of the Blessed Sacrement
DESCRIPTION:
URL:https://saintthomaszanesville.org/event/eucharistic-exposition-of-the-blessed-sacrement-2-2/2029-11-14/
LOCATION:St Thomas
CATEGORIES:Eucharist
END:VEVENT
BEGIN:VEVENT
DTSTART;TZID=America/Detroit:20291121T100000
DTEND;TZID=America/Detroit:20291121T210000
DTSTAMP:20260419T141614
CREATED:20231025T130420Z
LAST-MODIFIED:20260219T151646Z
UID:10009544-1889949600-1889989200@saintthomaszanesville.org
SUMMARY:Eucharistic Exposition of the Blessed Sacrement
DESCRIPTION:
URL:https://saintthomaszanesville.org/event/eucharistic-exposition-of-the-blessed-sacrement-2-2/2029-11-21/
LOCATION:St Thomas
CATEGORIES:Eucharist
END:VEVENT
BEGIN:VEVENT
DTSTART;TZID=America/Detroit:20291128T100000
DTEND;TZID=America/Detroit:20291128T210000
DTSTAMP:20260419T141614
CREATED:20231025T130420Z
LAST-MODIFIED:20260219T151646Z
UID:10009711-1890554400-1890594000@saintthomaszanesville.org
SUMMARY:Eucharistic Exposition of the Blessed Sacrement
DESCRIPTION:
URL:https://saintthomaszanesville.org/event/eucharistic-exposition-of-the-blessed-sacrement-2-2/2029-11-28/
LOCATION:St Thomas
CATEGORIES:Eucharist
END:VEVENT
BEGIN:VEVENT
DTSTART;TZID=America/Detroit:20291205T100000
DTEND;TZID=America/Detroit:20291205T210000
DTSTAMP:20260419T141614
CREATED:20231025T130420Z
LAST-MODIFIED:20260219T151646Z
UID:10009712-1891159200-1891198800@saintthomaszanesville.org
SUMMARY:Eucharistic Exposition of the Blessed Sacrement
DESCRIPTION:
URL:https://saintthomaszanesville.org/event/eucharistic-exposition-of-the-blessed-sacrement-2-2/2029-12-05/
LOCATION:St Thomas
CATEGORIES:Eucharist
END:VEVENT
BEGIN:VEVENT
DTSTART;TZID=America/Detroit:20291212T100000
DTEND;TZID=America/Detroit:20291212T210000
DTSTAMP:20260419T141614
CREATED:20231025T130420Z
LAST-MODIFIED:20260219T151646Z
UID:10009732-1891764000-1891803600@saintthomaszanesville.org
SUMMARY:Eucharistic Exposition of the Blessed Sacrement
DESCRIPTION:
URL:https://saintthomaszanesville.org/event/eucharistic-exposition-of-the-blessed-sacrement-2-2/2029-12-12/
LOCATION:St Thomas
CATEGORIES:Eucharist
END:VEVENT
BEGIN:VEVENT
DTSTART;TZID=America/Detroit:20291219T100000
DTEND;TZID=America/Detroit:20291219T210000
DTSTAMP:20260419T141614
CREATED:20231025T130420Z
LAST-MODIFIED:20260219T151646Z
UID:10009733-1892368800-1892408400@saintthomaszanesville.org
SUMMARY:Eucharistic Exposition of the Blessed Sacrement
DESCRIPTION:
URL:https://saintthomaszanesville.org/event/eucharistic-exposition-of-the-blessed-sacrement-2-2/2029-12-19/
LOCATION:St Thomas
CATEGORIES:Eucharist
END:VEVENT
BEGIN:VEVENT
DTSTART;TZID=America/Detroit:20291226T100000
DTEND;TZID=America/Detroit:20291226T210000
DTSTAMP:20260419T141614
CREATED:20231025T130420Z
LAST-MODIFIED:20260219T151646Z
UID:10009734-1892973600-1893013200@saintthomaszanesville.org
SUMMARY:Eucharistic Exposition of the Blessed Sacrement
DESCRIPTION:
URL:https://saintthomaszanesville.org/event/eucharistic-exposition-of-the-blessed-sacrement-2-2/2029-12-26/
LOCATION:St Thomas
CATEGORIES:Eucharist
END:VEVENT
BEGIN:VEVENT
DTSTART;TZID=America/Detroit:20300102T100000
DTEND;TZID=America/Detroit:20300102T210000
DTSTAMP:20260419T141614
CREATED:20231025T130420Z
LAST-MODIFIED:20260219T151646Z
UID:10009735-1893578400-1893618000@saintthomaszanesville.org
SUMMARY:Eucharistic Exposition of the Blessed Sacrement
DESCRIPTION:
URL:https://saintthomaszanesville.org/event/eucharistic-exposition-of-the-blessed-sacrement-2-2/2030-01-02/
LOCATION:St Thomas
CATEGORIES:Eucharist
END:VEVENT
BEGIN:VEVENT
DTSTART;TZID=America/Detroit:20300109T100000
DTEND;TZID=America/Detroit:20300109T210000
DTSTAMP:20260419T141614
CREATED:20231025T130420Z
LAST-MODIFIED:20260219T151646Z
UID:10009736-1894183200-1894222800@saintthomaszanesville.org
SUMMARY:Eucharistic Exposition of the Blessed Sacrement
DESCRIPTION:
URL:https://saintthomaszanesville.org/event/eucharistic-exposition-of-the-blessed-sacrement-2-2/2030-01-09/
LOCATION:St Thomas
CATEGORIES:Eucharist
END:VEVENT
BEGIN:VEVENT
DTSTART;TZID=America/Detroit:20300116T100000
DTEND;TZID=America/Detroit:20300116T210000
DTSTAMP:20260419T141614
CREATED:20231025T130420Z
LAST-MODIFIED:20260219T151646Z
UID:10009737-1894788000-1894827600@saintthomaszanesville.org
SUMMARY:Eucharistic Exposition of the Blessed Sacrement
DESCRIPTION:
URL:https://saintthomaszanesville.org/event/eucharistic-exposition-of-the-blessed-sacrement-2-2/2030-01-16/
LOCATION:St Thomas
CATEGORIES:Eucharist
END:VEVENT
BEGIN:VEVENT
DTSTART;TZID=America/Detroit:20300123T100000
DTEND;TZID=America/Detroit:20300123T210000
DTSTAMP:20260419T141614
CREATED:20231025T130420Z
LAST-MODIFIED:20260219T151646Z
UID:10009738-1895392800-1895432400@saintthomaszanesville.org
SUMMARY:Eucharistic Exposition of the Blessed Sacrement
DESCRIPTION:
URL:https://saintthomaszanesville.org/event/eucharistic-exposition-of-the-blessed-sacrement-2-2/2030-01-23/
LOCATION:St Thomas
CATEGORIES:Eucharist
END:VEVENT
BEGIN:VEVENT
DTSTART;TZID=America/Detroit:20300130T100000
DTEND;TZID=America/Detroit:20300130T210000
DTSTAMP:20260419T141614
CREATED:20231025T130420Z
LAST-MODIFIED:20260219T151646Z
UID:10009739-1895997600-1896037200@saintthomaszanesville.org
SUMMARY:Eucharistic Exposition of the Blessed Sacrement
DESCRIPTION:
URL:https://saintthomaszanesville.org/event/eucharistic-exposition-of-the-blessed-sacrement-2-2/2030-01-30/
LOCATION:St Thomas
CATEGORIES:Eucharist
END:VEVENT
BEGIN:VEVENT
DTSTART;TZID=America/Detroit:20300206T100000
DTEND;TZID=America/Detroit:20300206T210000
DTSTAMP:20260419T141614
CREATED:20231025T130420Z
LAST-MODIFIED:20260219T151646Z
UID:10009740-1896602400-1896642000@saintthomaszanesville.org
SUMMARY:Eucharistic Exposition of the Blessed Sacrement
DESCRIPTION:
URL:https://saintthomaszanesville.org/event/eucharistic-exposition-of-the-blessed-sacrement-2-2/2030-02-06/
LOCATION:St Thomas
CATEGORIES:Eucharist
END:VEVENT
BEGIN:VEVENT
DTSTART;TZID=America/Detroit:20300213T100000
DTEND;TZID=America/Detroit:20300213T210000
DTSTAMP:20260419T141614
CREATED:20231025T130420Z
LAST-MODIFIED:20260219T151646Z
UID:10009741-1897207200-1897246800@saintthomaszanesville.org
SUMMARY:Eucharistic Exposition of the Blessed Sacrement
DESCRIPTION:
URL:https://saintthomaszanesville.org/event/eucharistic-exposition-of-the-blessed-sacrement-2-2/2030-02-13/
LOCATION:St Thomas
CATEGORIES:Eucharist
END:VEVENT
BEGIN:VEVENT
DTSTART;TZID=America/Detroit:20300220T100000
DTEND;TZID=America/Detroit:20300220T210000
DTSTAMP:20260419T141614
CREATED:20231025T130420Z
LAST-MODIFIED:20260219T151646Z
UID:10010051-1897812000-1897851600@saintthomaszanesville.org
SUMMARY:Eucharistic Exposition of the Blessed Sacrement
DESCRIPTION:
URL:https://saintthomaszanesville.org/event/eucharistic-exposition-of-the-blessed-sacrement-2-2/2030-02-20/
LOCATION:St Thomas
CATEGORIES:Eucharist
END:VEVENT
BEGIN:VEVENT
DTSTART;TZID=America/Detroit:20300227T100000
DTEND;TZID=America/Detroit:20300227T210000
DTSTAMP:20260419T141614
CREATED:20231025T130420Z
LAST-MODIFIED:20260219T151646Z
UID:10010052-1898416800-1898456400@saintthomaszanesville.org
SUMMARY:Eucharistic Exposition of the Blessed Sacrement
DESCRIPTION:
URL:https://saintthomaszanesville.org/event/eucharistic-exposition-of-the-blessed-sacrement-2-2/2030-02-27/
LOCATION:St Thomas
CATEGORIES:Eucharist
END:VEVENT
BEGIN:VEVENT
DTSTART;TZID=America/Detroit:20300306T100000
DTEND;TZID=America/Detroit:20300306T210000
DTSTAMP:20260419T141614
CREATED:20231025T130420Z
LAST-MODIFIED:20260219T151646Z
UID:10010053-1899021600-1899061200@saintthomaszanesville.org
SUMMARY:Eucharistic Exposition of the Blessed Sacrement
DESCRIPTION:
URL:https://saintthomaszanesville.org/event/eucharistic-exposition-of-the-blessed-sacrement-2-2/2030-03-06/
LOCATION:St Thomas
CATEGORIES:Eucharist
END:VEVENT
BEGIN:VEVENT
DTSTART;TZID=America/Detroit:20300313T100000
DTEND;TZID=America/Detroit:20300313T210000
DTSTAMP:20260419T141614
CREATED:20231025T130420Z
LAST-MODIFIED:20260219T151646Z
UID:10010054-1899626400-1899666000@saintthomaszanesville.org
SUMMARY:Eucharistic Exposition of the Blessed Sacrement
DESCRIPTION:
URL:https://saintthomaszanesville.org/event/eucharistic-exposition-of-the-blessed-sacrement-2-2/2030-03-13/
LOCATION:St Thomas
CATEGORIES:Eucharist
END:VEVENT
END:VCALENDAR