BEGIN:VCALENDAR
VERSION:2.0
PRODID:-//Saint Thomas Acquinas Zanesville - ECPv6.15.20//NONSGML v1.0//EN
CALSCALE:GREGORIAN
METHOD:PUBLISH
X-WR-CALNAME:Saint Thomas Acquinas Zanesville
X-ORIGINAL-URL:https://saintthomaszanesville.org
X-WR-CALDESC:Events for Saint Thomas Acquinas Zanesville
REFRESH-INTERVAL;VALUE=DURATION:PT1H
X-Robots-Tag:noindex
X-PUBLISHED-TTL:PT1H
BEGIN:VTIMEZONE
TZID:America/Detroit
BEGIN:DAYLIGHT
TZOFFSETFROM:-0500
TZOFFSETTO:-0400
TZNAME:EDT
DTSTART:20230312T070000
END:DAYLIGHT
BEGIN:STANDARD
TZOFFSETFROM:-0400
TZOFFSETTO:-0500
TZNAME:EST
DTSTART:20231105T060000
END:STANDARD
BEGIN:DAYLIGHT
TZOFFSETFROM:-0500
TZOFFSETTO:-0400
TZNAME:EDT
DTSTART:20240310T070000
END:DAYLIGHT
BEGIN:STANDARD
TZOFFSETFROM:-0400
TZOFFSETTO:-0500
TZNAME:EST
DTSTART:20241103T060000
END:STANDARD
BEGIN:DAYLIGHT
TZOFFSETFROM:-0500
TZOFFSETTO:-0400
TZNAME:EDT
DTSTART:20250309T070000
END:DAYLIGHT
BEGIN:STANDARD
TZOFFSETFROM:-0400
TZOFFSETTO:-0500
TZNAME:EST
DTSTART:20251102T060000
END:STANDARD
END:VTIMEZONE
BEGIN:VEVENT
DTSTART;TZID=America/Detroit:20240831T153000
DTEND;TZID=America/Detroit:20240831T161500
DTSTAMP:20260420T214136
CREATED:20230123T173105Z
LAST-MODIFIED:20260219T153419Z
UID:10003262-1725118200-1725120900@saintthomaszanesville.org
SUMMARY:Confessions
DESCRIPTION:
URL:https://saintthomaszanesville.org/event/confessions/2024-08-31/
LOCATION:St Thomas
CATEGORIES:Confessions
END:VEVENT
BEGIN:VEVENT
DTSTART;TZID=America/Detroit:20240824T153000
DTEND;TZID=America/Detroit:20240824T161500
DTSTAMP:20260420T214136
CREATED:20230123T173105Z
LAST-MODIFIED:20260219T153419Z
UID:10003261-1724513400-1724516100@saintthomaszanesville.org
SUMMARY:Confessions
DESCRIPTION:
URL:https://saintthomaszanesville.org/event/confessions/2024-08-24/
LOCATION:St Thomas
CATEGORIES:Confessions
END:VEVENT
BEGIN:VEVENT
DTSTART;TZID=America/Detroit:20240817T153000
DTEND;TZID=America/Detroit:20240817T161500
DTSTAMP:20260420T214136
CREATED:20230123T173105Z
LAST-MODIFIED:20260219T153419Z
UID:10003260-1723908600-1723911300@saintthomaszanesville.org
SUMMARY:Confessions
DESCRIPTION:
URL:https://saintthomaszanesville.org/event/confessions/2024-08-17/
LOCATION:St Thomas
CATEGORIES:Confessions
END:VEVENT
BEGIN:VEVENT
DTSTART;TZID=America/Detroit:20240810T153000
DTEND;TZID=America/Detroit:20240810T161500
DTSTAMP:20260420T214136
CREATED:20230123T173105Z
LAST-MODIFIED:20260219T153419Z
UID:10003259-1723303800-1723306500@saintthomaszanesville.org
SUMMARY:Confessions
DESCRIPTION:
URL:https://saintthomaszanesville.org/event/confessions/2024-08-10/
LOCATION:St Thomas
CATEGORIES:Confessions
END:VEVENT
BEGIN:VEVENT
DTSTART;TZID=America/Detroit:20240803T153000
DTEND;TZID=America/Detroit:20240803T161500
DTSTAMP:20260420T214136
CREATED:20230123T173105Z
LAST-MODIFIED:20260219T153419Z
UID:10003258-1722699000-1722701700@saintthomaszanesville.org
SUMMARY:Confessions
DESCRIPTION:
URL:https://saintthomaszanesville.org/event/confessions/2024-08-03/
LOCATION:St Thomas
CATEGORIES:Confessions
END:VEVENT
BEGIN:VEVENT
DTSTART;TZID=America/Detroit:20240727T153000
DTEND;TZID=America/Detroit:20240727T161500
DTSTAMP:20260420T214136
CREATED:20230123T173105Z
LAST-MODIFIED:20260219T153419Z
UID:10003257-1722094200-1722096900@saintthomaszanesville.org
SUMMARY:Confessions
DESCRIPTION:
URL:https://saintthomaszanesville.org/event/confessions/2024-07-27/
LOCATION:St Thomas
CATEGORIES:Confessions
END:VEVENT
BEGIN:VEVENT
DTSTART;TZID=America/Detroit:20240720T153000
DTEND;TZID=America/Detroit:20240720T161500
DTSTAMP:20260420T214136
CREATED:20230123T173105Z
LAST-MODIFIED:20260219T153419Z
UID:10003256-1721489400-1721492100@saintthomaszanesville.org
SUMMARY:Confessions
DESCRIPTION:
URL:https://saintthomaszanesville.org/event/confessions/2024-07-20/
LOCATION:St Thomas
CATEGORIES:Confessions
END:VEVENT
BEGIN:VEVENT
DTSTART;TZID=America/Detroit:20240713T153000
DTEND;TZID=America/Detroit:20240713T161500
DTSTAMP:20260420T214136
CREATED:20230123T173105Z
LAST-MODIFIED:20260219T153419Z
UID:10003255-1720884600-1720887300@saintthomaszanesville.org
SUMMARY:Confessions
DESCRIPTION:
URL:https://saintthomaszanesville.org/event/confessions/2024-07-13/
LOCATION:St Thomas
CATEGORIES:Confessions
END:VEVENT
BEGIN:VEVENT
DTSTART;TZID=America/Detroit:20240706T153000
DTEND;TZID=America/Detroit:20240706T161500
DTSTAMP:20260420T214136
CREATED:20230123T173105Z
LAST-MODIFIED:20260219T153419Z
UID:10003254-1720279800-1720282500@saintthomaszanesville.org
SUMMARY:Confessions
DESCRIPTION:
URL:https://saintthomaszanesville.org/event/confessions/2024-07-06/
LOCATION:St Thomas
CATEGORIES:Confessions
END:VEVENT
BEGIN:VEVENT
DTSTART;TZID=America/Detroit:20240629T153000
DTEND;TZID=America/Detroit:20240629T161500
DTSTAMP:20260420T214136
CREATED:20230123T173105Z
LAST-MODIFIED:20260219T153419Z
UID:10003253-1719675000-1719677700@saintthomaszanesville.org
SUMMARY:Confessions
DESCRIPTION:
URL:https://saintthomaszanesville.org/event/confessions/2024-06-29/
LOCATION:St Thomas
CATEGORIES:Confessions
END:VEVENT
BEGIN:VEVENT
DTSTART;TZID=America/Detroit:20240622T153000
DTEND;TZID=America/Detroit:20240622T161500
DTSTAMP:20260420T214136
CREATED:20230123T173105Z
LAST-MODIFIED:20260219T153419Z
UID:10003252-1719070200-1719072900@saintthomaszanesville.org
SUMMARY:Confessions
DESCRIPTION:
URL:https://saintthomaszanesville.org/event/confessions/2024-06-22/
LOCATION:St Thomas
CATEGORIES:Confessions
END:VEVENT
BEGIN:VEVENT
DTSTART;TZID=America/Detroit:20240615T153000
DTEND;TZID=America/Detroit:20240615T161500
DTSTAMP:20260420T214136
CREATED:20230123T173105Z
LAST-MODIFIED:20260219T153419Z
UID:10003251-1718465400-1718468100@saintthomaszanesville.org
SUMMARY:Confessions
DESCRIPTION:
URL:https://saintthomaszanesville.org/event/confessions/2024-06-15/
LOCATION:St Thomas
CATEGORIES:Confessions
END:VEVENT
BEGIN:VEVENT
DTSTART;TZID=America/Detroit:20240608T153000
DTEND;TZID=America/Detroit:20240608T161500
DTSTAMP:20260420T214136
CREATED:20230123T173105Z
LAST-MODIFIED:20260219T153419Z
UID:10003250-1717860600-1717863300@saintthomaszanesville.org
SUMMARY:Confessions
DESCRIPTION:
URL:https://saintthomaszanesville.org/event/confessions/2024-06-08/
LOCATION:St Thomas
CATEGORIES:Confessions
END:VEVENT
BEGIN:VEVENT
DTSTART;TZID=America/Detroit:20240601T153000
DTEND;TZID=America/Detroit:20240601T161500
DTSTAMP:20260420T214136
CREATED:20230123T173105Z
LAST-MODIFIED:20260219T153419Z
UID:10003249-1717255800-1717258500@saintthomaszanesville.org
SUMMARY:Confessions
DESCRIPTION:
URL:https://saintthomaszanesville.org/event/confessions/2024-06-01/
LOCATION:St Thomas
CATEGORIES:Confessions
END:VEVENT
BEGIN:VEVENT
DTSTART;TZID=America/Detroit:20240525T153000
DTEND;TZID=America/Detroit:20240525T161500
DTSTAMP:20260420T214136
CREATED:20230123T173105Z
LAST-MODIFIED:20260219T153419Z
UID:10003248-1716651000-1716653700@saintthomaszanesville.org
SUMMARY:Confessions
DESCRIPTION:
URL:https://saintthomaszanesville.org/event/confessions/2024-05-25/
LOCATION:St Thomas
CATEGORIES:Confessions
END:VEVENT
BEGIN:VEVENT
DTSTART;TZID=America/Detroit:20240518T153000
DTEND;TZID=America/Detroit:20240518T161500
DTSTAMP:20260420T214136
CREATED:20230123T173105Z
LAST-MODIFIED:20260219T153419Z
UID:10003247-1716046200-1716048900@saintthomaszanesville.org
SUMMARY:Confessions
DESCRIPTION:
URL:https://saintthomaszanesville.org/event/confessions/2024-05-18/
LOCATION:St Thomas
CATEGORIES:Confessions
END:VEVENT
BEGIN:VEVENT
DTSTART;TZID=America/Detroit:20240511T153000
DTEND;TZID=America/Detroit:20240511T161500
DTSTAMP:20260420T214136
CREATED:20230123T173105Z
LAST-MODIFIED:20260219T153419Z
UID:10003246-1715441400-1715444100@saintthomaszanesville.org
SUMMARY:Confessions
DESCRIPTION:
URL:https://saintthomaszanesville.org/event/confessions/2024-05-11/
LOCATION:St Thomas
CATEGORIES:Confessions
END:VEVENT
BEGIN:VEVENT
DTSTART;TZID=America/Detroit:20240504T153000
DTEND;TZID=America/Detroit:20240504T161500
DTSTAMP:20260420T214136
CREATED:20230123T173105Z
LAST-MODIFIED:20260219T153419Z
UID:10003245-1714836600-1714839300@saintthomaszanesville.org
SUMMARY:Confessions
DESCRIPTION:
URL:https://saintthomaszanesville.org/event/confessions/2024-05-04/
LOCATION:St Thomas
CATEGORIES:Confessions
END:VEVENT
BEGIN:VEVENT
DTSTART;TZID=America/Detroit:20240427T153000
DTEND;TZID=America/Detroit:20240427T161500
DTSTAMP:20260420T214137
CREATED:20230123T173105Z
LAST-MODIFIED:20260219T153419Z
UID:10003244-1714231800-1714234500@saintthomaszanesville.org
SUMMARY:Confessions
DESCRIPTION:
URL:https://saintthomaszanesville.org/event/confessions/2024-04-27/
LOCATION:St Thomas
CATEGORIES:Confessions
END:VEVENT
BEGIN:VEVENT
DTSTART;TZID=America/Detroit:20240420T153000
DTEND;TZID=America/Detroit:20240420T161500
DTSTAMP:20260420T214137
CREATED:20230123T173105Z
LAST-MODIFIED:20260219T153419Z
UID:10003243-1713627000-1713629700@saintthomaszanesville.org
SUMMARY:Confessions
DESCRIPTION:
URL:https://saintthomaszanesville.org/event/confessions/2024-04-20/
LOCATION:St Thomas
CATEGORIES:Confessions
END:VEVENT
BEGIN:VEVENT
DTSTART;TZID=America/Detroit:20240413T153000
DTEND;TZID=America/Detroit:20240413T161500
DTSTAMP:20260420T214137
CREATED:20230123T173105Z
LAST-MODIFIED:20260219T153419Z
UID:10003242-1713022200-1713024900@saintthomaszanesville.org
SUMMARY:Confessions
DESCRIPTION:
URL:https://saintthomaszanesville.org/event/confessions/2024-04-13/
LOCATION:St Thomas
CATEGORIES:Confessions
END:VEVENT
BEGIN:VEVENT
DTSTART;TZID=America/Detroit:20240406T153000
DTEND;TZID=America/Detroit:20240406T161500
DTSTAMP:20260420T214137
CREATED:20230123T173105Z
LAST-MODIFIED:20260219T153419Z
UID:10003241-1712417400-1712420100@saintthomaszanesville.org
SUMMARY:Confessions
DESCRIPTION:
URL:https://saintthomaszanesville.org/event/confessions/2024-04-06/
LOCATION:St Thomas
CATEGORIES:Confessions
END:VEVENT
BEGIN:VEVENT
DTSTART;TZID=America/Detroit:20240317T091500
DTEND;TZID=America/Detroit:20240317T101500
DTSTAMP:20260420T214137
CREATED:20230202T153157Z
LAST-MODIFIED:20240110T142844Z
UID:10007723-1710666900-1710670500@saintthomaszanesville.org
SUMMARY:Lenten Penance Service
DESCRIPTION:Activity Center
URL:https://saintthomaszanesville.org/event/lenten-penance-service/2024-03-17/
LOCATION:Activity Center
CATEGORIES:Confessions
END:VEVENT
BEGIN:VEVENT
DTSTART;TZID=America/Detroit:20240316T153000
DTEND;TZID=America/Detroit:20240316T161500
DTSTAMP:20260420T214137
CREATED:20230123T173105Z
LAST-MODIFIED:20260219T153419Z
UID:10003238-1710603000-1710605700@saintthomaszanesville.org
SUMMARY:Confessions
DESCRIPTION:
URL:https://saintthomaszanesville.org/event/confessions/2024-03-16/
LOCATION:St Thomas
CATEGORIES:Confessions
END:VEVENT
BEGIN:VEVENT
DTSTART;TZID=America/Detroit:20240310T091500
DTEND;TZID=America/Detroit:20240310T101500
DTSTAMP:20260420T214137
CREATED:20230202T153157Z
LAST-MODIFIED:20240110T142844Z
UID:10003997-1710062100-1710065700@saintthomaszanesville.org
SUMMARY:Lenten Penance Service
DESCRIPTION:Activity Center
URL:https://saintthomaszanesville.org/event/lenten-penance-service/2024-03-10/
LOCATION:Activity Center
CATEGORIES:Confessions
END:VEVENT
BEGIN:VEVENT
DTSTART;TZID=America/Detroit:20240309T153000
DTEND;TZID=America/Detroit:20240309T161500
DTSTAMP:20260420T214137
CREATED:20230123T173105Z
LAST-MODIFIED:20260219T153419Z
UID:10003237-1709998200-1710000900@saintthomaszanesville.org
SUMMARY:Confessions
DESCRIPTION:
URL:https://saintthomaszanesville.org/event/confessions/2024-03-09/
LOCATION:St Thomas
CATEGORIES:Confessions
END:VEVENT
BEGIN:VEVENT
DTSTART;TZID=America/Detroit:20240302T153000
DTEND;TZID=America/Detroit:20240302T161500
DTSTAMP:20260420T214137
CREATED:20230123T173105Z
LAST-MODIFIED:20260219T153419Z
UID:10003236-1709393400-1709396100@saintthomaszanesville.org
SUMMARY:Confessions
DESCRIPTION:
URL:https://saintthomaszanesville.org/event/confessions/2024-03-02/
LOCATION:St Thomas
CATEGORIES:Confessions
END:VEVENT
BEGIN:VEVENT
DTSTART;TZID=America/Detroit:20240224T153000
DTEND;TZID=America/Detroit:20240224T161500
DTSTAMP:20260420T214137
CREATED:20230123T173105Z
LAST-MODIFIED:20260219T153419Z
UID:10003235-1708788600-1708791300@saintthomaszanesville.org
SUMMARY:Confessions
DESCRIPTION:
URL:https://saintthomaszanesville.org/event/confessions/2024-02-24/
LOCATION:St Thomas
CATEGORIES:Confessions
END:VEVENT
BEGIN:VEVENT
DTSTART;TZID=America/Detroit:20240217T153000
DTEND;TZID=America/Detroit:20240217T161500
DTSTAMP:20260420T214137
CREATED:20230123T173105Z
LAST-MODIFIED:20260219T153419Z
UID:10003234-1708183800-1708186500@saintthomaszanesville.org
SUMMARY:Confessions
DESCRIPTION:
URL:https://saintthomaszanesville.org/event/confessions/2024-02-17/
LOCATION:St Thomas
CATEGORIES:Confessions
END:VEVENT
BEGIN:VEVENT
DTSTART;TZID=America/Detroit:20240210T153000
DTEND;TZID=America/Detroit:20240210T161500
DTSTAMP:20260420T214137
CREATED:20230123T173105Z
LAST-MODIFIED:20260219T153419Z
UID:10003233-1707579000-1707581700@saintthomaszanesville.org
SUMMARY:Confessions
DESCRIPTION:
URL:https://saintthomaszanesville.org/event/confessions/2024-02-10/
LOCATION:St Thomas
CATEGORIES:Confessions
END:VEVENT
END:VCALENDAR