BEGIN:VCALENDAR
VERSION:2.0
PRODID:-//Saint Thomas Acquinas Zanesville - ECPv6.15.20//NONSGML v1.0//EN
CALSCALE:GREGORIAN
METHOD:PUBLISH
X-ORIGINAL-URL:https://saintthomaszanesville.org
X-WR-CALDESC:Events for Saint Thomas Acquinas Zanesville
REFRESH-INTERVAL;VALUE=DURATION:PT1H
X-Robots-Tag:noindex
X-PUBLISHED-TTL:PT1H
BEGIN:VTIMEZONE
TZID:America/Detroit
BEGIN:DAYLIGHT
TZOFFSETFROM:-0500
TZOFFSETTO:-0400
TZNAME:EDT
DTSTART:20230312T070000
END:DAYLIGHT
BEGIN:STANDARD
TZOFFSETFROM:-0400
TZOFFSETTO:-0500
TZNAME:EST
DTSTART:20231105T060000
END:STANDARD
BEGIN:DAYLIGHT
TZOFFSETFROM:-0500
TZOFFSETTO:-0400
TZNAME:EDT
DTSTART:20240310T070000
END:DAYLIGHT
BEGIN:STANDARD
TZOFFSETFROM:-0400
TZOFFSETTO:-0500
TZNAME:EST
DTSTART:20241103T060000
END:STANDARD
BEGIN:DAYLIGHT
TZOFFSETFROM:-0500
TZOFFSETTO:-0400
TZNAME:EDT
DTSTART:20250309T070000
END:DAYLIGHT
BEGIN:STANDARD
TZOFFSETFROM:-0400
TZOFFSETTO:-0500
TZNAME:EST
DTSTART:20251102T060000
END:STANDARD
BEGIN:DAYLIGHT
TZOFFSETFROM:-0500
TZOFFSETTO:-0400
TZNAME:EDT
DTSTART:20260308T070000
END:DAYLIGHT
BEGIN:STANDARD
TZOFFSETFROM:-0400
TZOFFSETTO:-0500
TZNAME:EST
DTSTART:20261101T060000
END:STANDARD
END:VTIMEZONE
BEGIN:VEVENT
DTSTART;TZID=America/Detroit:20250222T153000
DTEND;TZID=America/Detroit:20250222T161500
DTSTAMP:20260420T180338
CREATED:20230123T173105Z
LAST-MODIFIED:20260219T153419Z
UID:10003287-1740238200-1740240900@saintthomaszanesville.org
SUMMARY:Confessions
DESCRIPTION:
URL:https://saintthomaszanesville.org/event/confessions/2025-02-22/
LOCATION:St Thomas
CATEGORIES:Confessions
END:VEVENT
BEGIN:VEVENT
DTSTART;TZID=America/Detroit:20250215T153000
DTEND;TZID=America/Detroit:20250215T161500
DTSTAMP:20260420T180338
CREATED:20230123T173105Z
LAST-MODIFIED:20260219T153419Z
UID:10003286-1739633400-1739636100@saintthomaszanesville.org
SUMMARY:Confessions
DESCRIPTION:
URL:https://saintthomaszanesville.org/event/confessions/2025-02-15/
LOCATION:St Thomas
CATEGORIES:Confessions
END:VEVENT
BEGIN:VEVENT
DTSTART;TZID=America/Detroit:20250208T153000
DTEND;TZID=America/Detroit:20250208T161500
DTSTAMP:20260420T180338
CREATED:20230123T173105Z
LAST-MODIFIED:20260219T153419Z
UID:10003285-1739028600-1739031300@saintthomaszanesville.org
SUMMARY:Confessions
DESCRIPTION:
URL:https://saintthomaszanesville.org/event/confessions/2025-02-08/
LOCATION:St Thomas
CATEGORIES:Confessions
END:VEVENT
BEGIN:VEVENT
DTSTART;TZID=America/Detroit:20250201T153000
DTEND;TZID=America/Detroit:20250201T161500
DTSTAMP:20260420T180338
CREATED:20230123T173105Z
LAST-MODIFIED:20260219T153419Z
UID:10003284-1738423800-1738426500@saintthomaszanesville.org
SUMMARY:Confessions
DESCRIPTION:
URL:https://saintthomaszanesville.org/event/confessions/2025-02-01/
LOCATION:St Thomas
CATEGORIES:Confessions
END:VEVENT
BEGIN:VEVENT
DTSTART;TZID=America/Detroit:20250125T153000
DTEND;TZID=America/Detroit:20250125T161500
DTSTAMP:20260420T180338
CREATED:20230123T173105Z
LAST-MODIFIED:20260219T153419Z
UID:10003283-1737819000-1737821700@saintthomaszanesville.org
SUMMARY:Confessions
DESCRIPTION:
URL:https://saintthomaszanesville.org/event/confessions/2025-01-25/
LOCATION:St Thomas
CATEGORIES:Confessions
END:VEVENT
BEGIN:VEVENT
DTSTART;TZID=America/Detroit:20250118T153000
DTEND;TZID=America/Detroit:20250118T161500
DTSTAMP:20260420T180338
CREATED:20230123T173105Z
LAST-MODIFIED:20260219T153419Z
UID:10003282-1737214200-1737216900@saintthomaszanesville.org
SUMMARY:Confessions
DESCRIPTION:
URL:https://saintthomaszanesville.org/event/confessions/2025-01-18/
LOCATION:St Thomas
CATEGORIES:Confessions
END:VEVENT
BEGIN:VEVENT
DTSTART;TZID=America/Detroit:20250111T153000
DTEND;TZID=America/Detroit:20250111T161500
DTSTAMP:20260420T180338
CREATED:20230123T173105Z
LAST-MODIFIED:20260219T153419Z
UID:10003281-1736609400-1736612100@saintthomaszanesville.org
SUMMARY:Confessions
DESCRIPTION:
URL:https://saintthomaszanesville.org/event/confessions/2025-01-11/
LOCATION:St Thomas
CATEGORIES:Confessions
END:VEVENT
BEGIN:VEVENT
DTSTART;TZID=America/Detroit:20250104T153000
DTEND;TZID=America/Detroit:20250104T161500
DTSTAMP:20260420T180338
CREATED:20230123T173105Z
LAST-MODIFIED:20260219T153419Z
UID:10003280-1736004600-1736007300@saintthomaszanesville.org
SUMMARY:Confessions
DESCRIPTION:
URL:https://saintthomaszanesville.org/event/confessions/2025-01-04/
LOCATION:St Thomas
CATEGORIES:Confessions
END:VEVENT
BEGIN:VEVENT
DTSTART;TZID=America/Detroit:20241228T153000
DTEND;TZID=America/Detroit:20241228T161500
DTSTAMP:20260420T180338
CREATED:20230123T173105Z
LAST-MODIFIED:20260219T153419Z
UID:10003279-1735399800-1735402500@saintthomaszanesville.org
SUMMARY:Confessions
DESCRIPTION:
URL:https://saintthomaszanesville.org/event/confessions/2024-12-28/
LOCATION:St Thomas
CATEGORIES:Confessions
END:VEVENT
BEGIN:VEVENT
DTSTART;TZID=America/Detroit:20241221T153000
DTEND;TZID=America/Detroit:20241221T161500
DTSTAMP:20260420T180338
CREATED:20230123T173105Z
LAST-MODIFIED:20260219T153419Z
UID:10003278-1734795000-1734797700@saintthomaszanesville.org
SUMMARY:Confessions
DESCRIPTION:
URL:https://saintthomaszanesville.org/event/confessions/2024-12-21/
LOCATION:St Thomas
CATEGORIES:Confessions
END:VEVENT
BEGIN:VEVENT
DTSTART;TZID=America/Detroit:20241214T153000
DTEND;TZID=America/Detroit:20241214T161500
DTSTAMP:20260420T180338
CREATED:20230123T173105Z
LAST-MODIFIED:20260219T153419Z
UID:10003277-1734190200-1734192900@saintthomaszanesville.org
SUMMARY:Confessions
DESCRIPTION:
URL:https://saintthomaszanesville.org/event/confessions/2024-12-14/
LOCATION:St Thomas
CATEGORIES:Confessions
END:VEVENT
BEGIN:VEVENT
DTSTART;TZID=America/Detroit:20241207T153000
DTEND;TZID=America/Detroit:20241207T161500
DTSTAMP:20260420T180338
CREATED:20230123T173105Z
LAST-MODIFIED:20260219T153419Z
UID:10003276-1733585400-1733588100@saintthomaszanesville.org
SUMMARY:Confessions
DESCRIPTION:
URL:https://saintthomaszanesville.org/event/confessions/2024-12-07/
LOCATION:St Thomas
CATEGORIES:Confessions
END:VEVENT
BEGIN:VEVENT
DTSTART;TZID=America/Detroit:20241130T153000
DTEND;TZID=America/Detroit:20241130T161500
DTSTAMP:20260420T180338
CREATED:20230123T173105Z
LAST-MODIFIED:20260219T153419Z
UID:10003275-1732980600-1732983300@saintthomaszanesville.org
SUMMARY:Confessions
DESCRIPTION:
URL:https://saintthomaszanesville.org/event/confessions/2024-11-30/
LOCATION:St Thomas
CATEGORIES:Confessions
END:VEVENT
BEGIN:VEVENT
DTSTART;TZID=America/Detroit:20241123T153000
DTEND;TZID=America/Detroit:20241123T161500
DTSTAMP:20260420T180338
CREATED:20230123T173105Z
LAST-MODIFIED:20260219T153419Z
UID:10003274-1732375800-1732378500@saintthomaszanesville.org
SUMMARY:Confessions
DESCRIPTION:
URL:https://saintthomaszanesville.org/event/confessions/2024-11-23/
LOCATION:St Thomas
CATEGORIES:Confessions
END:VEVENT
BEGIN:VEVENT
DTSTART;TZID=America/Detroit:20241116T153000
DTEND;TZID=America/Detroit:20241116T161500
DTSTAMP:20260420T180338
CREATED:20230123T173105Z
LAST-MODIFIED:20260219T153419Z
UID:10003273-1731771000-1731773700@saintthomaszanesville.org
SUMMARY:Confessions
DESCRIPTION:
URL:https://saintthomaszanesville.org/event/confessions/2024-11-16/
LOCATION:St Thomas
CATEGORIES:Confessions
END:VEVENT
BEGIN:VEVENT
DTSTART;TZID=America/Detroit:20241109T153000
DTEND;TZID=America/Detroit:20241109T161500
DTSTAMP:20260420T180338
CREATED:20230123T173105Z
LAST-MODIFIED:20260219T153419Z
UID:10003272-1731166200-1731168900@saintthomaszanesville.org
SUMMARY:Confessions
DESCRIPTION:
URL:https://saintthomaszanesville.org/event/confessions/2024-11-09/
LOCATION:St Thomas
CATEGORIES:Confessions
END:VEVENT
BEGIN:VEVENT
DTSTART;TZID=America/Detroit:20241102T153000
DTEND;TZID=America/Detroit:20241102T161500
DTSTAMP:20260420T180338
CREATED:20230123T173105Z
LAST-MODIFIED:20260219T153419Z
UID:10003271-1730561400-1730564100@saintthomaszanesville.org
SUMMARY:Confessions
DESCRIPTION:
URL:https://saintthomaszanesville.org/event/confessions/2024-11-02/
LOCATION:St Thomas
CATEGORIES:Confessions
END:VEVENT
BEGIN:VEVENT
DTSTART;TZID=America/Detroit:20241026T153000
DTEND;TZID=America/Detroit:20241026T161500
DTSTAMP:20260420T180338
CREATED:20230123T173105Z
LAST-MODIFIED:20260219T153419Z
UID:10003270-1729956600-1729959300@saintthomaszanesville.org
SUMMARY:Confessions
DESCRIPTION:
URL:https://saintthomaszanesville.org/event/confessions/2024-10-26/
LOCATION:St Thomas
CATEGORIES:Confessions
END:VEVENT
BEGIN:VEVENT
DTSTART;TZID=America/Detroit:20241019T153000
DTEND;TZID=America/Detroit:20241019T161500
DTSTAMP:20260420T180338
CREATED:20230123T173105Z
LAST-MODIFIED:20260219T153419Z
UID:10003269-1729351800-1729354500@saintthomaszanesville.org
SUMMARY:Confessions
DESCRIPTION:
URL:https://saintthomaszanesville.org/event/confessions/2024-10-19/
LOCATION:St Thomas
CATEGORIES:Confessions
END:VEVENT
BEGIN:VEVENT
DTSTART;TZID=America/Detroit:20241012T153000
DTEND;TZID=America/Detroit:20241012T161500
DTSTAMP:20260420T180339
CREATED:20230123T173105Z
LAST-MODIFIED:20260219T153419Z
UID:10003268-1728747000-1728749700@saintthomaszanesville.org
SUMMARY:Confessions
DESCRIPTION:
URL:https://saintthomaszanesville.org/event/confessions/2024-10-12/
LOCATION:St Thomas
CATEGORIES:Confessions
END:VEVENT
BEGIN:VEVENT
DTSTART;TZID=America/Detroit:20241005T153000
DTEND;TZID=America/Detroit:20241005T161500
DTSTAMP:20260420T180339
CREATED:20230123T173105Z
LAST-MODIFIED:20260219T153419Z
UID:10003267-1728142200-1728144900@saintthomaszanesville.org
SUMMARY:Confessions
DESCRIPTION:
URL:https://saintthomaszanesville.org/event/confessions/2024-10-05/
LOCATION:St Thomas
CATEGORIES:Confessions
END:VEVENT
BEGIN:VEVENT
DTSTART;TZID=America/Detroit:20240928T153000
DTEND;TZID=America/Detroit:20240928T161500
DTSTAMP:20260420T180339
CREATED:20230123T173105Z
LAST-MODIFIED:20260219T153419Z
UID:10003266-1727537400-1727540100@saintthomaszanesville.org
SUMMARY:Confessions
DESCRIPTION:
URL:https://saintthomaszanesville.org/event/confessions/2024-09-28/
LOCATION:St Thomas
CATEGORIES:Confessions
END:VEVENT
BEGIN:VEVENT
DTSTART;TZID=America/Detroit:20240921T153000
DTEND;TZID=America/Detroit:20240921T161500
DTSTAMP:20260420T180339
CREATED:20230123T173105Z
LAST-MODIFIED:20260219T153419Z
UID:10003265-1726932600-1726935300@saintthomaszanesville.org
SUMMARY:Confessions
DESCRIPTION:
URL:https://saintthomaszanesville.org/event/confessions/2024-09-21/
LOCATION:St Thomas
CATEGORIES:Confessions
END:VEVENT
BEGIN:VEVENT
DTSTART;TZID=America/Detroit:20240914T153000
DTEND;TZID=America/Detroit:20240914T161500
DTSTAMP:20260420T180339
CREATED:20230123T173105Z
LAST-MODIFIED:20260219T153419Z
UID:10003264-1726327800-1726330500@saintthomaszanesville.org
SUMMARY:Confessions
DESCRIPTION:
URL:https://saintthomaszanesville.org/event/confessions/2024-09-14/
LOCATION:St Thomas
CATEGORIES:Confessions
END:VEVENT
BEGIN:VEVENT
DTSTART;TZID=America/Detroit:20240831T153000
DTEND;TZID=America/Detroit:20240831T161500
DTSTAMP:20260420T180339
CREATED:20230123T173105Z
LAST-MODIFIED:20260219T153419Z
UID:10003262-1725118200-1725120900@saintthomaszanesville.org
SUMMARY:Confessions
DESCRIPTION:
URL:https://saintthomaszanesville.org/event/confessions/2024-08-31/
LOCATION:St Thomas
CATEGORIES:Confessions
END:VEVENT
BEGIN:VEVENT
DTSTART;TZID=America/Detroit:20240824T153000
DTEND;TZID=America/Detroit:20240824T161500
DTSTAMP:20260420T180339
CREATED:20230123T173105Z
LAST-MODIFIED:20260219T153419Z
UID:10003261-1724513400-1724516100@saintthomaszanesville.org
SUMMARY:Confessions
DESCRIPTION:
URL:https://saintthomaszanesville.org/event/confessions/2024-08-24/
LOCATION:St Thomas
CATEGORIES:Confessions
END:VEVENT
BEGIN:VEVENT
DTSTART;TZID=America/Detroit:20240817T153000
DTEND;TZID=America/Detroit:20240817T161500
DTSTAMP:20260420T180339
CREATED:20230123T173105Z
LAST-MODIFIED:20260219T153419Z
UID:10003260-1723908600-1723911300@saintthomaszanesville.org
SUMMARY:Confessions
DESCRIPTION:
URL:https://saintthomaszanesville.org/event/confessions/2024-08-17/
LOCATION:St Thomas
CATEGORIES:Confessions
END:VEVENT
BEGIN:VEVENT
DTSTART;TZID=America/Detroit:20240810T153000
DTEND;TZID=America/Detroit:20240810T161500
DTSTAMP:20260420T180339
CREATED:20230123T173105Z
LAST-MODIFIED:20260219T153419Z
UID:10003259-1723303800-1723306500@saintthomaszanesville.org
SUMMARY:Confessions
DESCRIPTION:
URL:https://saintthomaszanesville.org/event/confessions/2024-08-10/
LOCATION:St Thomas
CATEGORIES:Confessions
END:VEVENT
BEGIN:VEVENT
DTSTART;TZID=America/Detroit:20240803T153000
DTEND;TZID=America/Detroit:20240803T161500
DTSTAMP:20260420T180339
CREATED:20230123T173105Z
LAST-MODIFIED:20260219T153419Z
UID:10003258-1722699000-1722701700@saintthomaszanesville.org
SUMMARY:Confessions
DESCRIPTION:
URL:https://saintthomaszanesville.org/event/confessions/2024-08-03/
LOCATION:St Thomas
CATEGORIES:Confessions
END:VEVENT
BEGIN:VEVENT
DTSTART;TZID=America/Detroit:20240727T153000
DTEND;TZID=America/Detroit:20240727T161500
DTSTAMP:20260420T180339
CREATED:20230123T173105Z
LAST-MODIFIED:20260219T153419Z
UID:10003257-1722094200-1722096900@saintthomaszanesville.org
SUMMARY:Confessions
DESCRIPTION:
URL:https://saintthomaszanesville.org/event/confessions/2024-07-27/
LOCATION:St Thomas
CATEGORIES:Confessions
END:VEVENT
END:VCALENDAR