BEGIN:VCALENDAR
VERSION:2.0
PRODID:-//Saint Thomas Acquinas Zanesville - ECPv6.15.20//NONSGML v1.0//EN
CALSCALE:GREGORIAN
METHOD:PUBLISH
X-ORIGINAL-URL:https://saintthomaszanesville.org
X-WR-CALDESC:Events for Saint Thomas Acquinas Zanesville
REFRESH-INTERVAL;VALUE=DURATION:PT1H
X-Robots-Tag:noindex
X-PUBLISHED-TTL:PT1H
BEGIN:VTIMEZONE
TZID:America/Detroit
BEGIN:DAYLIGHT
TZOFFSETFROM:-0500
TZOFFSETTO:-0400
TZNAME:EDT
DTSTART:20290311T070000
END:DAYLIGHT
BEGIN:STANDARD
TZOFFSETFROM:-0400
TZOFFSETTO:-0500
TZNAME:EST
DTSTART:20291104T060000
END:STANDARD
BEGIN:DAYLIGHT
TZOFFSETFROM:-0500
TZOFFSETTO:-0400
TZNAME:EDT
DTSTART:20300310T070000
END:DAYLIGHT
BEGIN:STANDARD
TZOFFSETFROM:-0400
TZOFFSETTO:-0500
TZNAME:EST
DTSTART:20301103T060000
END:STANDARD
BEGIN:DAYLIGHT
TZOFFSETFROM:-0500
TZOFFSETTO:-0400
TZNAME:EDT
DTSTART:20310309T070000
END:DAYLIGHT
BEGIN:STANDARD
TZOFFSETFROM:-0400
TZOFFSETTO:-0500
TZNAME:EST
DTSTART:20311102T060000
END:STANDARD
BEGIN:DAYLIGHT
TZOFFSETFROM:-0500
TZOFFSETTO:-0400
TZNAME:EDT
DTSTART:20320314T070000
END:DAYLIGHT
BEGIN:STANDARD
TZOFFSETFROM:-0400
TZOFFSETTO:-0500
TZNAME:EST
DTSTART:20321107T060000
END:STANDARD
END:VTIMEZONE
BEGIN:VEVENT
DTSTART;TZID=America/Detroit:20301207T153000
DTEND;TZID=America/Detroit:20301207T161500
DTSTAMP:20260419T142309
CREATED:20230123T173105Z
LAST-MODIFIED:20260219T153419Z
UID:10010283-1922887800-1922890500@saintthomaszanesville.org
SUMMARY:Confessions
DESCRIPTION:
URL:https://saintthomaszanesville.org/event/confessions/2030-12-07/
LOCATION:St Thomas
CATEGORIES:Confessions
END:VEVENT
BEGIN:VEVENT
DTSTART;TZID=America/Detroit:20301214T153000
DTEND;TZID=America/Detroit:20301214T161500
DTSTAMP:20260419T142310
CREATED:20230123T173105Z
LAST-MODIFIED:20260219T153419Z
UID:10010284-1923492600-1923495300@saintthomaszanesville.org
SUMMARY:Confessions
DESCRIPTION:
URL:https://saintthomaszanesville.org/event/confessions/2030-12-14/
LOCATION:St Thomas
CATEGORIES:Confessions
END:VEVENT
BEGIN:VEVENT
DTSTART;TZID=America/Detroit:20301221T153000
DTEND;TZID=America/Detroit:20301221T161500
DTSTAMP:20260419T142310
CREATED:20230123T173105Z
LAST-MODIFIED:20260219T153419Z
UID:10010285-1924097400-1924100100@saintthomaszanesville.org
SUMMARY:Confessions
DESCRIPTION:
URL:https://saintthomaszanesville.org/event/confessions/2030-12-21/
LOCATION:St Thomas
CATEGORIES:Confessions
END:VEVENT
BEGIN:VEVENT
DTSTART;TZID=America/Detroit:20301228T153000
DTEND;TZID=America/Detroit:20301228T161500
DTSTAMP:20260419T142310
CREATED:20230123T173105Z
LAST-MODIFIED:20260219T153419Z
UID:10010286-1924702200-1924704900@saintthomaszanesville.org
SUMMARY:Confessions
DESCRIPTION:
URL:https://saintthomaszanesville.org/event/confessions/2030-12-28/
LOCATION:St Thomas
CATEGORIES:Confessions
END:VEVENT
BEGIN:VEVENT
DTSTART;TZID=America/Detroit:20310104T153000
DTEND;TZID=America/Detroit:20310104T161500
DTSTAMP:20260419T142310
CREATED:20230123T173105Z
LAST-MODIFIED:20260219T153419Z
UID:10010287-1925307000-1925309700@saintthomaszanesville.org
SUMMARY:Confessions
DESCRIPTION:
URL:https://saintthomaszanesville.org/event/confessions/2031-01-04/
LOCATION:St Thomas
CATEGORIES:Confessions
END:VEVENT
BEGIN:VEVENT
DTSTART;TZID=America/Detroit:20310111T153000
DTEND;TZID=America/Detroit:20310111T161500
DTSTAMP:20260419T142310
CREATED:20230123T173105Z
LAST-MODIFIED:20260219T153419Z
UID:10010288-1925911800-1925914500@saintthomaszanesville.org
SUMMARY:Confessions
DESCRIPTION:
URL:https://saintthomaszanesville.org/event/confessions/2031-01-11/
LOCATION:St Thomas
CATEGORIES:Confessions
END:VEVENT
BEGIN:VEVENT
DTSTART;TZID=America/Detroit:20310118T153000
DTEND;TZID=America/Detroit:20310118T161500
DTSTAMP:20260419T142310
CREATED:20230123T173105Z
LAST-MODIFIED:20260219T153419Z
UID:10010289-1926516600-1926519300@saintthomaszanesville.org
SUMMARY:Confessions
DESCRIPTION:
URL:https://saintthomaszanesville.org/event/confessions/2031-01-18/
LOCATION:St Thomas
CATEGORIES:Confessions
END:VEVENT
BEGIN:VEVENT
DTSTART;TZID=America/Detroit:20310125T153000
DTEND;TZID=America/Detroit:20310125T161500
DTSTAMP:20260419T142310
CREATED:20230123T173105Z
LAST-MODIFIED:20260219T153419Z
UID:10010290-1927121400-1927124100@saintthomaszanesville.org
SUMMARY:Confessions
DESCRIPTION:
URL:https://saintthomaszanesville.org/event/confessions/2031-01-25/
LOCATION:St Thomas
CATEGORIES:Confessions
END:VEVENT
BEGIN:VEVENT
DTSTART;TZID=America/Detroit:20310201T153000
DTEND;TZID=America/Detroit:20310201T161500
DTSTAMP:20260419T142310
CREATED:20230123T173105Z
LAST-MODIFIED:20260219T153419Z
UID:10010291-1927726200-1927728900@saintthomaszanesville.org
SUMMARY:Confessions
DESCRIPTION:
URL:https://saintthomaszanesville.org/event/confessions/2031-02-01/
LOCATION:St Thomas
CATEGORIES:Confessions
END:VEVENT
BEGIN:VEVENT
DTSTART;TZID=America/Detroit:20310208T153000
DTEND;TZID=America/Detroit:20310208T161500
DTSTAMP:20260419T142310
CREATED:20230123T173105Z
LAST-MODIFIED:20260219T153419Z
UID:10010292-1928331000-1928333700@saintthomaszanesville.org
SUMMARY:Confessions
DESCRIPTION:
URL:https://saintthomaszanesville.org/event/confessions/2031-02-08/
LOCATION:St Thomas
CATEGORIES:Confessions
END:VEVENT
BEGIN:VEVENT
DTSTART;TZID=America/Detroit:20310215T153000
DTEND;TZID=America/Detroit:20310215T161500
DTSTAMP:20260419T142310
CREATED:20230123T173105Z
LAST-MODIFIED:20260219T153419Z
UID:10010293-1928935800-1928938500@saintthomaszanesville.org
SUMMARY:Confessions
DESCRIPTION:
URL:https://saintthomaszanesville.org/event/confessions/2031-02-15/
LOCATION:St Thomas
CATEGORIES:Confessions
END:VEVENT
END:VCALENDAR