BEGIN:VCALENDAR
VERSION:2.0
PRODID:-//Saint Thomas Acquinas Zanesville - ECPv6.15.20//NONSGML v1.0//EN
CALSCALE:GREGORIAN
METHOD:PUBLISH
X-WR-CALNAME:Saint Thomas Acquinas Zanesville
X-ORIGINAL-URL:https://saintthomaszanesville.org
X-WR-CALDESC:Events for Saint Thomas Acquinas Zanesville
REFRESH-INTERVAL;VALUE=DURATION:PT1H
X-Robots-Tag:noindex
X-PUBLISHED-TTL:PT1H
BEGIN:VTIMEZONE
TZID:America/Detroit
BEGIN:DAYLIGHT
TZOFFSETFROM:-0500
TZOFFSETTO:-0400
TZNAME:EDT
DTSTART:20240310T070000
END:DAYLIGHT
BEGIN:STANDARD
TZOFFSETFROM:-0400
TZOFFSETTO:-0500
TZNAME:EST
DTSTART:20241103T060000
END:STANDARD
BEGIN:DAYLIGHT
TZOFFSETFROM:-0500
TZOFFSETTO:-0400
TZNAME:EDT
DTSTART:20250309T070000
END:DAYLIGHT
BEGIN:STANDARD
TZOFFSETFROM:-0400
TZOFFSETTO:-0500
TZNAME:EST
DTSTART:20251102T060000
END:STANDARD
BEGIN:DAYLIGHT
TZOFFSETFROM:-0500
TZOFFSETTO:-0400
TZNAME:EDT
DTSTART:20260308T070000
END:DAYLIGHT
BEGIN:STANDARD
TZOFFSETFROM:-0400
TZOFFSETTO:-0500
TZNAME:EST
DTSTART:20261101T060000
END:STANDARD
BEGIN:DAYLIGHT
TZOFFSETFROM:-0500
TZOFFSETTO:-0400
TZNAME:EDT
DTSTART:20270314T070000
END:DAYLIGHT
BEGIN:STANDARD
TZOFFSETFROM:-0400
TZOFFSETTO:-0500
TZNAME:EST
DTSTART:20271107T060000
END:STANDARD
END:VTIMEZONE
BEGIN:VEVENT
DTSTART;TZID=America/Detroit:20250920T153000
DTEND;TZID=America/Detroit:20250920T161500
DTSTAMP:20260421T021849
CREATED:20230123T173105Z
LAST-MODIFIED:20260219T153419Z
UID:10003317-1758382200-1758384900@saintthomaszanesville.org
SUMMARY:Confessions
DESCRIPTION:
URL:https://saintthomaszanesville.org/event/confessions/2025-09-20/
LOCATION:St Thomas
CATEGORIES:Confessions
END:VEVENT
BEGIN:VEVENT
DTSTART;TZID=America/Detroit:20250927T153000
DTEND;TZID=America/Detroit:20250927T161500
DTSTAMP:20260421T021849
CREATED:20230123T173105Z
LAST-MODIFIED:20260219T153419Z
UID:10003318-1758987000-1758989700@saintthomaszanesville.org
SUMMARY:Confessions
DESCRIPTION:
URL:https://saintthomaszanesville.org/event/confessions/2025-09-27/
LOCATION:St Thomas
CATEGORIES:Confessions
END:VEVENT
BEGIN:VEVENT
DTSTART;TZID=America/Detroit:20251004T153000
DTEND;TZID=America/Detroit:20251004T161500
DTSTAMP:20260421T021849
CREATED:20230123T173105Z
LAST-MODIFIED:20260219T153419Z
UID:10003319-1759591800-1759594500@saintthomaszanesville.org
SUMMARY:Confessions
DESCRIPTION:
URL:https://saintthomaszanesville.org/event/confessions/2025-10-04/
LOCATION:St Thomas
CATEGORIES:Confessions
END:VEVENT
BEGIN:VEVENT
DTSTART;TZID=America/Detroit:20251011T153000
DTEND;TZID=America/Detroit:20251011T161500
DTSTAMP:20260421T021849
CREATED:20230123T173105Z
LAST-MODIFIED:20260219T153419Z
UID:10003320-1760196600-1760199300@saintthomaszanesville.org
SUMMARY:Confessions
DESCRIPTION:
URL:https://saintthomaszanesville.org/event/confessions/2025-10-11/
LOCATION:St Thomas
CATEGORIES:Confessions
END:VEVENT
BEGIN:VEVENT
DTSTART;TZID=America/Detroit:20251018T153000
DTEND;TZID=America/Detroit:20251018T161500
DTSTAMP:20260421T021849
CREATED:20230123T173105Z
LAST-MODIFIED:20260219T153419Z
UID:10003321-1760801400-1760804100@saintthomaszanesville.org
SUMMARY:Confessions
DESCRIPTION:
URL:https://saintthomaszanesville.org/event/confessions/2025-10-18/
LOCATION:St Thomas
CATEGORIES:Confessions
END:VEVENT
BEGIN:VEVENT
DTSTART;TZID=America/Detroit:20251025T153000
DTEND;TZID=America/Detroit:20251025T161500
DTSTAMP:20260421T021849
CREATED:20230123T173105Z
LAST-MODIFIED:20260219T153419Z
UID:10003322-1761406200-1761408900@saintthomaszanesville.org
SUMMARY:Confessions
DESCRIPTION:
URL:https://saintthomaszanesville.org/event/confessions/2025-10-25/
LOCATION:St Thomas
CATEGORIES:Confessions
END:VEVENT
BEGIN:VEVENT
DTSTART;TZID=America/Detroit:20251101T153000
DTEND;TZID=America/Detroit:20251101T161500
DTSTAMP:20260421T021849
CREATED:20230123T173105Z
LAST-MODIFIED:20260219T153419Z
UID:10003323-1762011000-1762013700@saintthomaszanesville.org
SUMMARY:Confessions
DESCRIPTION:
URL:https://saintthomaszanesville.org/event/confessions/2025-11-01/
LOCATION:St Thomas
CATEGORIES:Confessions
END:VEVENT
BEGIN:VEVENT
DTSTART;TZID=America/Detroit:20251108T153000
DTEND;TZID=America/Detroit:20251108T161500
DTSTAMP:20260421T021849
CREATED:20230123T173105Z
LAST-MODIFIED:20260219T153419Z
UID:10003324-1762615800-1762618500@saintthomaszanesville.org
SUMMARY:Confessions
DESCRIPTION:
URL:https://saintthomaszanesville.org/event/confessions/2025-11-08/
LOCATION:St Thomas
CATEGORIES:Confessions
END:VEVENT
BEGIN:VEVENT
DTSTART;TZID=America/Detroit:20251115T153000
DTEND;TZID=America/Detroit:20251115T161500
DTSTAMP:20260421T021849
CREATED:20230123T173105Z
LAST-MODIFIED:20260219T153419Z
UID:10003325-1763220600-1763223300@saintthomaszanesville.org
SUMMARY:Confessions
DESCRIPTION:
URL:https://saintthomaszanesville.org/event/confessions/2025-11-15/
LOCATION:St Thomas
CATEGORIES:Confessions
END:VEVENT
BEGIN:VEVENT
DTSTART;TZID=America/Detroit:20251122T153000
DTEND;TZID=America/Detroit:20251122T161500
DTSTAMP:20260421T021849
CREATED:20230123T173105Z
LAST-MODIFIED:20260219T153419Z
UID:10003326-1763825400-1763828100@saintthomaszanesville.org
SUMMARY:Confessions
DESCRIPTION:
URL:https://saintthomaszanesville.org/event/confessions/2025-11-22/
LOCATION:St Thomas
CATEGORIES:Confessions
END:VEVENT
BEGIN:VEVENT
DTSTART;TZID=America/Detroit:20251129T153000
DTEND;TZID=America/Detroit:20251129T161500
DTSTAMP:20260421T021849
CREATED:20230123T173105Z
LAST-MODIFIED:20260219T153419Z
UID:10003327-1764430200-1764432900@saintthomaszanesville.org
SUMMARY:Confessions
DESCRIPTION:
URL:https://saintthomaszanesville.org/event/confessions/2025-11-29/
LOCATION:St Thomas
CATEGORIES:Confessions
END:VEVENT
BEGIN:VEVENT
DTSTART;TZID=America/Detroit:20251130T180000
DTEND;TZID=America/Detroit:20251130T200000
DTSTAMP:20260421T021849
CREATED:20231025T130810Z
LAST-MODIFIED:20251121T142326Z
UID:10007493-1764525600-1764532800@saintthomaszanesville.org
SUMMARY:Advent Penance Service
DESCRIPTION:Celebrate the Sacrament of Reconciliation as we prepare our hearts and minds for Christmas; several priests will join us to celebrate the Sacrament individually.
URL:https://saintthomaszanesville.org/event/advent-penance-service/
LOCATION:St Nicholas\, 925 E Main St\, zanesville\, OH\, 43701\, United States
CATEGORIES:Confessions
END:VEVENT
BEGIN:VEVENT
DTSTART;TZID=America/Detroit:20251206T153000
DTEND;TZID=America/Detroit:20251206T161500
DTSTAMP:20260421T021849
CREATED:20230123T173105Z
LAST-MODIFIED:20260219T153419Z
UID:10003328-1765035000-1765037700@saintthomaszanesville.org
SUMMARY:Confessions
DESCRIPTION:
URL:https://saintthomaszanesville.org/event/confessions/2025-12-06/
LOCATION:St Thomas
CATEGORIES:Confessions
END:VEVENT
BEGIN:VEVENT
DTSTART;TZID=America/Detroit:20251213T153000
DTEND;TZID=America/Detroit:20251213T161500
DTSTAMP:20260421T021849
CREATED:20230123T173105Z
LAST-MODIFIED:20260219T153419Z
UID:10003329-1765639800-1765642500@saintthomaszanesville.org
SUMMARY:Confessions
DESCRIPTION:
URL:https://saintthomaszanesville.org/event/confessions/2025-12-13/
LOCATION:St Thomas
CATEGORIES:Confessions
END:VEVENT
BEGIN:VEVENT
DTSTART;TZID=America/Detroit:20251220T153000
DTEND;TZID=America/Detroit:20251220T161500
DTSTAMP:20260421T021849
CREATED:20230123T173105Z
LAST-MODIFIED:20260219T153419Z
UID:10003330-1766244600-1766247300@saintthomaszanesville.org
SUMMARY:Confessions
DESCRIPTION:
URL:https://saintthomaszanesville.org/event/confessions/2025-12-20/
LOCATION:St Thomas
CATEGORIES:Confessions
END:VEVENT
BEGIN:VEVENT
DTSTART;TZID=America/Detroit:20251227T153000
DTEND;TZID=America/Detroit:20251227T161500
DTSTAMP:20260421T021849
CREATED:20230123T173105Z
LAST-MODIFIED:20260219T153419Z
UID:10003331-1766849400-1766852100@saintthomaszanesville.org
SUMMARY:Confessions
DESCRIPTION:
URL:https://saintthomaszanesville.org/event/confessions/2025-12-27/
LOCATION:St Thomas
CATEGORIES:Confessions
END:VEVENT
BEGIN:VEVENT
DTSTART;TZID=America/Detroit:20260103T153000
DTEND;TZID=America/Detroit:20260103T161500
DTSTAMP:20260421T021849
CREATED:20230123T173105Z
LAST-MODIFIED:20260219T153419Z
UID:10003332-1767454200-1767456900@saintthomaszanesville.org
SUMMARY:Confessions
DESCRIPTION:
URL:https://saintthomaszanesville.org/event/confessions/2026-01-03/
LOCATION:St Thomas
CATEGORIES:Confessions
END:VEVENT
BEGIN:VEVENT
DTSTART;TZID=America/Detroit:20260110T153000
DTEND;TZID=America/Detroit:20260110T161500
DTSTAMP:20260421T021849
CREATED:20230123T173105Z
LAST-MODIFIED:20260219T153419Z
UID:10003333-1768059000-1768061700@saintthomaszanesville.org
SUMMARY:Confessions
DESCRIPTION:
URL:https://saintthomaszanesville.org/event/confessions/2026-01-10/
LOCATION:St Thomas
CATEGORIES:Confessions
END:VEVENT
BEGIN:VEVENT
DTSTART;TZID=America/Detroit:20260117T153000
DTEND;TZID=America/Detroit:20260117T161500
DTSTAMP:20260421T021849
CREATED:20230123T173105Z
LAST-MODIFIED:20260219T153419Z
UID:10003334-1768663800-1768666500@saintthomaszanesville.org
SUMMARY:Confessions
DESCRIPTION:
URL:https://saintthomaszanesville.org/event/confessions/2026-01-17/
LOCATION:St Thomas
CATEGORIES:Confessions
END:VEVENT
BEGIN:VEVENT
DTSTART;TZID=America/Detroit:20260124T153000
DTEND;TZID=America/Detroit:20260124T161500
DTSTAMP:20260421T021849
CREATED:20230123T173105Z
LAST-MODIFIED:20260219T153419Z
UID:10003335-1769268600-1769271300@saintthomaszanesville.org
SUMMARY:Confessions
DESCRIPTION:
URL:https://saintthomaszanesville.org/event/confessions/2026-01-24/
LOCATION:St Thomas
CATEGORIES:Confessions
END:VEVENT
BEGIN:VEVENT
DTSTART;TZID=America/Detroit:20260131T153000
DTEND;TZID=America/Detroit:20260131T161500
DTSTAMP:20260421T021849
CREATED:20230123T173105Z
LAST-MODIFIED:20260219T153419Z
UID:10003336-1769873400-1769876100@saintthomaszanesville.org
SUMMARY:Confessions
DESCRIPTION:
URL:https://saintthomaszanesville.org/event/confessions/2026-01-31/
LOCATION:St Thomas
CATEGORIES:Confessions
END:VEVENT
BEGIN:VEVENT
DTSTART;TZID=America/Detroit:20260207T153000
DTEND;TZID=America/Detroit:20260207T161500
DTSTAMP:20260421T021849
CREATED:20230123T173105Z
LAST-MODIFIED:20260219T153419Z
UID:10003337-1770478200-1770480900@saintthomaszanesville.org
SUMMARY:Confessions
DESCRIPTION:
URL:https://saintthomaszanesville.org/event/confessions/2026-02-07/
LOCATION:St Thomas
CATEGORIES:Confessions
END:VEVENT
BEGIN:VEVENT
DTSTART;TZID=America/Detroit:20260214T153000
DTEND;TZID=America/Detroit:20260214T161500
DTSTAMP:20260421T021849
CREATED:20230123T173105Z
LAST-MODIFIED:20260219T153419Z
UID:10003338-1771083000-1771085700@saintthomaszanesville.org
SUMMARY:Confessions
DESCRIPTION:
URL:https://saintthomaszanesville.org/event/confessions/2026-02-14/
LOCATION:St Thomas
CATEGORIES:Confessions
END:VEVENT
BEGIN:VEVENT
DTSTART;TZID=America/Detroit:20260221T153000
DTEND;TZID=America/Detroit:20260221T161500
DTSTAMP:20260421T021849
CREATED:20230123T173105Z
LAST-MODIFIED:20260219T153419Z
UID:10003339-1771687800-1771690500@saintthomaszanesville.org
SUMMARY:Confessions
DESCRIPTION:
URL:https://saintthomaszanesville.org/event/confessions/2026-02-21/
LOCATION:St Thomas
CATEGORIES:Confessions
END:VEVENT
BEGIN:VEVENT
DTSTART;TZID=America/Detroit:20260228T153000
DTEND;TZID=America/Detroit:20260228T161500
DTSTAMP:20260421T021849
CREATED:20230123T173105Z
LAST-MODIFIED:20260219T153419Z
UID:10003340-1772292600-1772295300@saintthomaszanesville.org
SUMMARY:Confessions
DESCRIPTION:
URL:https://saintthomaszanesville.org/event/confessions/2026-02-28/
LOCATION:St Thomas
CATEGORIES:Confessions
END:VEVENT
BEGIN:VEVENT
DTSTART;TZID=America/Detroit:20260307T153000
DTEND;TZID=America/Detroit:20260307T161500
DTSTAMP:20260421T021849
CREATED:20230123T173105Z
LAST-MODIFIED:20260219T153419Z
UID:10003341-1772897400-1772900100@saintthomaszanesville.org
SUMMARY:Confessions
DESCRIPTION:
URL:https://saintthomaszanesville.org/event/confessions/2026-03-07/
LOCATION:St Thomas
CATEGORIES:Confessions
END:VEVENT
BEGIN:VEVENT
DTSTART;TZID=America/Detroit:20260314T153000
DTEND;TZID=America/Detroit:20260314T161500
DTSTAMP:20260421T021849
CREATED:20230123T173105Z
LAST-MODIFIED:20260219T153419Z
UID:10003342-1773502200-1773504900@saintthomaszanesville.org
SUMMARY:Confessions
DESCRIPTION:
URL:https://saintthomaszanesville.org/event/confessions/2026-03-14/
LOCATION:St Thomas
CATEGORIES:Confessions
END:VEVENT
BEGIN:VEVENT
DTSTART;TZID=America/Detroit:20260321T153000
DTEND;TZID=America/Detroit:20260321T161500
DTSTAMP:20260421T021849
CREATED:20230123T173105Z
LAST-MODIFIED:20260219T153419Z
UID:10003343-1774107000-1774109700@saintthomaszanesville.org
SUMMARY:Confessions
DESCRIPTION:
URL:https://saintthomaszanesville.org/event/confessions/2026-03-21/
LOCATION:St Thomas
CATEGORIES:Confessions
END:VEVENT
BEGIN:VEVENT
DTSTART;TZID=America/Detroit:20260328T153000
DTEND;TZID=America/Detroit:20260328T161500
DTSTAMP:20260421T021849
CREATED:20230123T173105Z
LAST-MODIFIED:20260219T153419Z
UID:10003344-1774711800-1774714500@saintthomaszanesville.org
SUMMARY:Confessions
DESCRIPTION:
URL:https://saintthomaszanesville.org/event/confessions/2026-03-28/
LOCATION:St Thomas
CATEGORIES:Confessions
END:VEVENT
BEGIN:VEVENT
DTSTART;TZID=America/Detroit:20260330T160000
DTEND;TZID=America/Detroit:20260330T190000
DTSTAMP:20260421T021849
CREATED:20230202T172216Z
LAST-MODIFIED:20260219T150744Z
UID:10004002-1774886400-1774897200@saintthomaszanesville.org
SUMMARY:Reconciliation Monday Confessions
DESCRIPTION:No Appointment Needed. Held at St Nicholas
URL:https://saintthomaszanesville.org/event/reconciliation-monday-confessions/
LOCATION:St Thomas
CATEGORIES:Confessions
END:VEVENT
END:VCALENDAR