BEGIN:VCALENDAR
VERSION:2.0
PRODID:-//Saint Thomas Acquinas Zanesville - ECPv6.15.20//NONSGML v1.0//EN
CALSCALE:GREGORIAN
METHOD:PUBLISH
X-ORIGINAL-URL:https://saintthomaszanesville.org
X-WR-CALDESC:Events for Saint Thomas Acquinas Zanesville
REFRESH-INTERVAL;VALUE=DURATION:PT1H
X-Robots-Tag:noindex
X-PUBLISHED-TTL:PT1H
BEGIN:VTIMEZONE
TZID:America/Detroit
BEGIN:DAYLIGHT
TZOFFSETFROM:-0500
TZOFFSETTO:-0400
TZNAME:EDT
DTSTART:20290311T070000
END:DAYLIGHT
BEGIN:STANDARD
TZOFFSETFROM:-0400
TZOFFSETTO:-0500
TZNAME:EST
DTSTART:20291104T060000
END:STANDARD
BEGIN:DAYLIGHT
TZOFFSETFROM:-0500
TZOFFSETTO:-0400
TZNAME:EDT
DTSTART:20300310T070000
END:DAYLIGHT
BEGIN:STANDARD
TZOFFSETFROM:-0400
TZOFFSETTO:-0500
TZNAME:EST
DTSTART:20301103T060000
END:STANDARD
BEGIN:DAYLIGHT
TZOFFSETFROM:-0500
TZOFFSETTO:-0400
TZNAME:EDT
DTSTART:20310309T070000
END:DAYLIGHT
BEGIN:STANDARD
TZOFFSETFROM:-0400
TZOFFSETTO:-0500
TZNAME:EST
DTSTART:20311102T060000
END:STANDARD
END:VTIMEZONE
BEGIN:VEVENT
DTSTART;TZID=America/Detroit:20300406T153000
DTEND;TZID=America/Detroit:20300406T161500
DTSTAMP:20260419T144734
CREATED:20230123T173105Z
LAST-MODIFIED:20260219T153419Z
UID:10010248-1901719800-1901722500@saintthomaszanesville.org
SUMMARY:Confessions
DESCRIPTION:
URL:https://saintthomaszanesville.org/event/confessions/2030-04-06/
LOCATION:St Thomas
CATEGORIES:Confessions
END:VEVENT
BEGIN:VEVENT
DTSTART;TZID=America/Detroit:20300413T153000
DTEND;TZID=America/Detroit:20300413T161500
DTSTAMP:20260419T144734
CREATED:20230123T173105Z
LAST-MODIFIED:20260219T153419Z
UID:10010249-1902324600-1902327300@saintthomaszanesville.org
SUMMARY:Confessions
DESCRIPTION:
URL:https://saintthomaszanesville.org/event/confessions/2030-04-13/
LOCATION:St Thomas
CATEGORIES:Confessions
END:VEVENT
BEGIN:VEVENT
DTSTART;TZID=America/Detroit:20300420T153000
DTEND;TZID=America/Detroit:20300420T161500
DTSTAMP:20260419T144734
CREATED:20230123T173105Z
LAST-MODIFIED:20260219T153419Z
UID:10010250-1902929400-1902932100@saintthomaszanesville.org
SUMMARY:Confessions
DESCRIPTION:
URL:https://saintthomaszanesville.org/event/confessions/2030-04-20/
LOCATION:St Thomas
CATEGORIES:Confessions
END:VEVENT
BEGIN:VEVENT
DTSTART;TZID=America/Detroit:20300427T153000
DTEND;TZID=America/Detroit:20300427T161500
DTSTAMP:20260419T144734
CREATED:20230123T173105Z
LAST-MODIFIED:20260219T153419Z
UID:10010251-1903534200-1903536900@saintthomaszanesville.org
SUMMARY:Confessions
DESCRIPTION:
URL:https://saintthomaszanesville.org/event/confessions/2030-04-27/
LOCATION:St Thomas
CATEGORIES:Confessions
END:VEVENT
BEGIN:VEVENT
DTSTART;TZID=America/Detroit:20300504T153000
DTEND;TZID=America/Detroit:20300504T161500
DTSTAMP:20260419T144734
CREATED:20230123T173105Z
LAST-MODIFIED:20260219T153419Z
UID:10010252-1904139000-1904141700@saintthomaszanesville.org
SUMMARY:Confessions
DESCRIPTION:
URL:https://saintthomaszanesville.org/event/confessions/2030-05-04/
LOCATION:St Thomas
CATEGORIES:Confessions
END:VEVENT
BEGIN:VEVENT
DTSTART;TZID=America/Detroit:20300511T153000
DTEND;TZID=America/Detroit:20300511T161500
DTSTAMP:20260419T144734
CREATED:20230123T173105Z
LAST-MODIFIED:20260219T153419Z
UID:10010253-1904743800-1904746500@saintthomaszanesville.org
SUMMARY:Confessions
DESCRIPTION:
URL:https://saintthomaszanesville.org/event/confessions/2030-05-11/
LOCATION:St Thomas
CATEGORIES:Confessions
END:VEVENT
BEGIN:VEVENT
DTSTART;TZID=America/Detroit:20300518T153000
DTEND;TZID=America/Detroit:20300518T161500
DTSTAMP:20260419T144734
CREATED:20230123T173105Z
LAST-MODIFIED:20260219T153419Z
UID:10010254-1905348600-1905351300@saintthomaszanesville.org
SUMMARY:Confessions
DESCRIPTION:
URL:https://saintthomaszanesville.org/event/confessions/2030-05-18/
LOCATION:St Thomas
CATEGORIES:Confessions
END:VEVENT
BEGIN:VEVENT
DTSTART;TZID=America/Detroit:20300525T153000
DTEND;TZID=America/Detroit:20300525T161500
DTSTAMP:20260419T144734
CREATED:20230123T173105Z
LAST-MODIFIED:20260219T153419Z
UID:10010255-1905953400-1905956100@saintthomaszanesville.org
SUMMARY:Confessions
DESCRIPTION:
URL:https://saintthomaszanesville.org/event/confessions/2030-05-25/
LOCATION:St Thomas
CATEGORIES:Confessions
END:VEVENT
BEGIN:VEVENT
DTSTART;TZID=America/Detroit:20300601T153000
DTEND;TZID=America/Detroit:20300601T161500
DTSTAMP:20260419T144734
CREATED:20230123T173105Z
LAST-MODIFIED:20260219T153419Z
UID:10010256-1906558200-1906560900@saintthomaszanesville.org
SUMMARY:Confessions
DESCRIPTION:
URL:https://saintthomaszanesville.org/event/confessions/2030-06-01/
LOCATION:St Thomas
CATEGORIES:Confessions
END:VEVENT
BEGIN:VEVENT
DTSTART;TZID=America/Detroit:20300608T153000
DTEND;TZID=America/Detroit:20300608T161500
DTSTAMP:20260419T144735
CREATED:20230123T173105Z
LAST-MODIFIED:20260219T153419Z
UID:10010257-1907163000-1907165700@saintthomaszanesville.org
SUMMARY:Confessions
DESCRIPTION:
URL:https://saintthomaszanesville.org/event/confessions/2030-06-08/
LOCATION:St Thomas
CATEGORIES:Confessions
END:VEVENT
BEGIN:VEVENT
DTSTART;TZID=America/Detroit:20300615T153000
DTEND;TZID=America/Detroit:20300615T161500
DTSTAMP:20260419T144735
CREATED:20230123T173105Z
LAST-MODIFIED:20260219T153419Z
UID:10010258-1907767800-1907770500@saintthomaszanesville.org
SUMMARY:Confessions
DESCRIPTION:
URL:https://saintthomaszanesville.org/event/confessions/2030-06-15/
LOCATION:St Thomas
CATEGORIES:Confessions
END:VEVENT
BEGIN:VEVENT
DTSTART;TZID=America/Detroit:20300622T153000
DTEND;TZID=America/Detroit:20300622T161500
DTSTAMP:20260419T144735
CREATED:20230123T173105Z
LAST-MODIFIED:20260219T153419Z
UID:10010259-1908372600-1908375300@saintthomaszanesville.org
SUMMARY:Confessions
DESCRIPTION:
URL:https://saintthomaszanesville.org/event/confessions/2030-06-22/
LOCATION:St Thomas
CATEGORIES:Confessions
END:VEVENT
BEGIN:VEVENT
DTSTART;TZID=America/Detroit:20300629T153000
DTEND;TZID=America/Detroit:20300629T161500
DTSTAMP:20260419T144735
CREATED:20230123T173105Z
LAST-MODIFIED:20260219T153419Z
UID:10010260-1908977400-1908980100@saintthomaszanesville.org
SUMMARY:Confessions
DESCRIPTION:
URL:https://saintthomaszanesville.org/event/confessions/2030-06-29/
LOCATION:St Thomas
CATEGORIES:Confessions
END:VEVENT
BEGIN:VEVENT
DTSTART;TZID=America/Detroit:20300706T153000
DTEND;TZID=America/Detroit:20300706T161500
DTSTAMP:20260419T144735
CREATED:20230123T173105Z
LAST-MODIFIED:20260219T153419Z
UID:10010261-1909582200-1909584900@saintthomaszanesville.org
SUMMARY:Confessions
DESCRIPTION:
URL:https://saintthomaszanesville.org/event/confessions/2030-07-06/
LOCATION:St Thomas
CATEGORIES:Confessions
END:VEVENT
BEGIN:VEVENT
DTSTART;TZID=America/Detroit:20300713T153000
DTEND;TZID=America/Detroit:20300713T161500
DTSTAMP:20260419T144735
CREATED:20230123T173105Z
LAST-MODIFIED:20260219T153419Z
UID:10010262-1910187000-1910189700@saintthomaszanesville.org
SUMMARY:Confessions
DESCRIPTION:
URL:https://saintthomaszanesville.org/event/confessions/2030-07-13/
LOCATION:St Thomas
CATEGORIES:Confessions
END:VEVENT
BEGIN:VEVENT
DTSTART;TZID=America/Detroit:20300720T153000
DTEND;TZID=America/Detroit:20300720T161500
DTSTAMP:20260419T144735
CREATED:20230123T173105Z
LAST-MODIFIED:20260219T153419Z
UID:10010263-1910791800-1910794500@saintthomaszanesville.org
SUMMARY:Confessions
DESCRIPTION:
URL:https://saintthomaszanesville.org/event/confessions/2030-07-20/
LOCATION:St Thomas
CATEGORIES:Confessions
END:VEVENT
BEGIN:VEVENT
DTSTART;TZID=America/Detroit:20300727T153000
DTEND;TZID=America/Detroit:20300727T161500
DTSTAMP:20260419T144735
CREATED:20230123T173105Z
LAST-MODIFIED:20260219T153419Z
UID:10010264-1911396600-1911399300@saintthomaszanesville.org
SUMMARY:Confessions
DESCRIPTION:
URL:https://saintthomaszanesville.org/event/confessions/2030-07-27/
LOCATION:St Thomas
CATEGORIES:Confessions
END:VEVENT
BEGIN:VEVENT
DTSTART;TZID=America/Detroit:20300803T153000
DTEND;TZID=America/Detroit:20300803T161500
DTSTAMP:20260419T144735
CREATED:20230123T173105Z
LAST-MODIFIED:20260219T153419Z
UID:10010265-1912001400-1912004100@saintthomaszanesville.org
SUMMARY:Confessions
DESCRIPTION:
URL:https://saintthomaszanesville.org/event/confessions/2030-08-03/
LOCATION:St Thomas
CATEGORIES:Confessions
END:VEVENT
BEGIN:VEVENT
DTSTART;TZID=America/Detroit:20300810T153000
DTEND;TZID=America/Detroit:20300810T161500
DTSTAMP:20260419T144735
CREATED:20230123T173105Z
LAST-MODIFIED:20260219T153419Z
UID:10010266-1912606200-1912608900@saintthomaszanesville.org
SUMMARY:Confessions
DESCRIPTION:
URL:https://saintthomaszanesville.org/event/confessions/2030-08-10/
LOCATION:St Thomas
CATEGORIES:Confessions
END:VEVENT
BEGIN:VEVENT
DTSTART;TZID=America/Detroit:20300817T153000
DTEND;TZID=America/Detroit:20300817T161500
DTSTAMP:20260419T144735
CREATED:20230123T173105Z
LAST-MODIFIED:20260219T153419Z
UID:10010267-1913211000-1913213700@saintthomaszanesville.org
SUMMARY:Confessions
DESCRIPTION:
URL:https://saintthomaszanesville.org/event/confessions/2030-08-17/
LOCATION:St Thomas
CATEGORIES:Confessions
END:VEVENT
BEGIN:VEVENT
DTSTART;TZID=America/Detroit:20300824T153000
DTEND;TZID=America/Detroit:20300824T161500
DTSTAMP:20260419T144735
CREATED:20230123T173105Z
LAST-MODIFIED:20260219T153419Z
UID:10010268-1913815800-1913818500@saintthomaszanesville.org
SUMMARY:Confessions
DESCRIPTION:
URL:https://saintthomaszanesville.org/event/confessions/2030-08-24/
LOCATION:St Thomas
CATEGORIES:Confessions
END:VEVENT
BEGIN:VEVENT
DTSTART;TZID=America/Detroit:20300831T153000
DTEND;TZID=America/Detroit:20300831T161500
DTSTAMP:20260419T144735
CREATED:20230123T173105Z
LAST-MODIFIED:20260219T153419Z
UID:10010269-1914420600-1914423300@saintthomaszanesville.org
SUMMARY:Confessions
DESCRIPTION:
URL:https://saintthomaszanesville.org/event/confessions/2030-08-31/
LOCATION:St Thomas
CATEGORIES:Confessions
END:VEVENT
BEGIN:VEVENT
DTSTART;TZID=America/Detroit:20300907T153000
DTEND;TZID=America/Detroit:20300907T161500
DTSTAMP:20260419T144735
CREATED:20230123T173105Z
LAST-MODIFIED:20260219T153419Z
UID:10010270-1915025400-1915028100@saintthomaszanesville.org
SUMMARY:Confessions
DESCRIPTION:
URL:https://saintthomaszanesville.org/event/confessions/2030-09-07/
LOCATION:St Thomas
CATEGORIES:Confessions
END:VEVENT
BEGIN:VEVENT
DTSTART;TZID=America/Detroit:20300914T153000
DTEND;TZID=America/Detroit:20300914T161500
DTSTAMP:20260419T144735
CREATED:20230123T173105Z
LAST-MODIFIED:20260219T153419Z
UID:10010271-1915630200-1915632900@saintthomaszanesville.org
SUMMARY:Confessions
DESCRIPTION:
URL:https://saintthomaszanesville.org/event/confessions/2030-09-14/
LOCATION:St Thomas
CATEGORIES:Confessions
END:VEVENT
BEGIN:VEVENT
DTSTART;TZID=America/Detroit:20300921T153000
DTEND;TZID=America/Detroit:20300921T161500
DTSTAMP:20260419T144735
CREATED:20230123T173105Z
LAST-MODIFIED:20260219T153419Z
UID:10010272-1916235000-1916237700@saintthomaszanesville.org
SUMMARY:Confessions
DESCRIPTION:
URL:https://saintthomaszanesville.org/event/confessions/2030-09-21/
LOCATION:St Thomas
CATEGORIES:Confessions
END:VEVENT
BEGIN:VEVENT
DTSTART;TZID=America/Detroit:20300928T153000
DTEND;TZID=America/Detroit:20300928T161500
DTSTAMP:20260419T144735
CREATED:20230123T173105Z
LAST-MODIFIED:20260219T153419Z
UID:10010273-1916839800-1916842500@saintthomaszanesville.org
SUMMARY:Confessions
DESCRIPTION:
URL:https://saintthomaszanesville.org/event/confessions/2030-09-28/
LOCATION:St Thomas
CATEGORIES:Confessions
END:VEVENT
BEGIN:VEVENT
DTSTART;TZID=America/Detroit:20301005T153000
DTEND;TZID=America/Detroit:20301005T161500
DTSTAMP:20260419T144735
CREATED:20230123T173105Z
LAST-MODIFIED:20260219T153419Z
UID:10010274-1917444600-1917447300@saintthomaszanesville.org
SUMMARY:Confessions
DESCRIPTION:
URL:https://saintthomaszanesville.org/event/confessions/2030-10-05/
LOCATION:St Thomas
CATEGORIES:Confessions
END:VEVENT
BEGIN:VEVENT
DTSTART;TZID=America/Detroit:20301012T153000
DTEND;TZID=America/Detroit:20301012T161500
DTSTAMP:20260419T144735
CREATED:20230123T173105Z
LAST-MODIFIED:20260219T153419Z
UID:10010275-1918049400-1918052100@saintthomaszanesville.org
SUMMARY:Confessions
DESCRIPTION:
URL:https://saintthomaszanesville.org/event/confessions/2030-10-12/
LOCATION:St Thomas
CATEGORIES:Confessions
END:VEVENT
BEGIN:VEVENT
DTSTART;TZID=America/Detroit:20301019T153000
DTEND;TZID=America/Detroit:20301019T161500
DTSTAMP:20260419T144735
CREATED:20230123T173105Z
LAST-MODIFIED:20260219T153419Z
UID:10010276-1918654200-1918656900@saintthomaszanesville.org
SUMMARY:Confessions
DESCRIPTION:
URL:https://saintthomaszanesville.org/event/confessions/2030-10-19/
LOCATION:St Thomas
CATEGORIES:Confessions
END:VEVENT
BEGIN:VEVENT
DTSTART;TZID=America/Detroit:20301026T153000
DTEND;TZID=America/Detroit:20301026T161500
DTSTAMP:20260419T144735
CREATED:20230123T173105Z
LAST-MODIFIED:20260219T153419Z
UID:10010277-1919259000-1919261700@saintthomaszanesville.org
SUMMARY:Confessions
DESCRIPTION:
URL:https://saintthomaszanesville.org/event/confessions/2030-10-26/
LOCATION:St Thomas
CATEGORIES:Confessions
END:VEVENT
END:VCALENDAR