BEGIN:VCALENDAR
VERSION:2.0
PRODID:-//Saint Thomas Acquinas Zanesville - ECPv6.15.20//NONSGML v1.0//EN
CALSCALE:GREGORIAN
METHOD:PUBLISH
X-WR-CALNAME:Saint Thomas Acquinas Zanesville
X-ORIGINAL-URL:https://saintthomaszanesville.org
X-WR-CALDESC:Events for Saint Thomas Acquinas Zanesville
REFRESH-INTERVAL;VALUE=DURATION:PT1H
X-Robots-Tag:noindex
X-PUBLISHED-TTL:PT1H
BEGIN:VTIMEZONE
TZID:America/Detroit
BEGIN:DAYLIGHT
TZOFFSETFROM:-0500
TZOFFSETTO:-0400
TZNAME:EDT
DTSTART:20270314T070000
END:DAYLIGHT
BEGIN:STANDARD
TZOFFSETFROM:-0400
TZOFFSETTO:-0500
TZNAME:EST
DTSTART:20271107T060000
END:STANDARD
BEGIN:DAYLIGHT
TZOFFSETFROM:-0500
TZOFFSETTO:-0400
TZNAME:EDT
DTSTART:20280312T070000
END:DAYLIGHT
BEGIN:STANDARD
TZOFFSETFROM:-0400
TZOFFSETTO:-0500
TZNAME:EST
DTSTART:20281105T060000
END:STANDARD
BEGIN:DAYLIGHT
TZOFFSETFROM:-0500
TZOFFSETTO:-0400
TZNAME:EDT
DTSTART:20290311T070000
END:DAYLIGHT
BEGIN:STANDARD
TZOFFSETFROM:-0400
TZOFFSETTO:-0500
TZNAME:EST
DTSTART:20291104T060000
END:STANDARD
END:VTIMEZONE
BEGIN:VEVENT
DTSTART;TZID=America/Detroit:20280401T153000
DTEND;TZID=America/Detroit:20280401T161500
DTSTAMP:20260422T213736
CREATED:20230123T173105Z
LAST-MODIFIED:20260219T153419Z
UID:10007725-1838215800-1838218500@saintthomaszanesville.org
SUMMARY:Confessions
DESCRIPTION:
URL:https://saintthomaszanesville.org/event/confessions/2028-04-01/
LOCATION:St Thomas
CATEGORIES:Confessions
END:VEVENT
BEGIN:VEVENT
DTSTART;TZID=America/Detroit:20280408T153000
DTEND;TZID=America/Detroit:20280408T161500
DTSTAMP:20260422T213736
CREATED:20230123T173105Z
LAST-MODIFIED:20260219T153419Z
UID:10007726-1838820600-1838823300@saintthomaszanesville.org
SUMMARY:Confessions
DESCRIPTION:
URL:https://saintthomaszanesville.org/event/confessions/2028-04-08/
LOCATION:St Thomas
CATEGORIES:Confessions
END:VEVENT
BEGIN:VEVENT
DTSTART;TZID=America/Detroit:20280415T153000
DTEND;TZID=America/Detroit:20280415T161500
DTSTAMP:20260422T213736
CREATED:20230123T173105Z
LAST-MODIFIED:20260219T153419Z
UID:10007727-1839425400-1839428100@saintthomaszanesville.org
SUMMARY:Confessions
DESCRIPTION:
URL:https://saintthomaszanesville.org/event/confessions/2028-04-15/
LOCATION:St Thomas
CATEGORIES:Confessions
END:VEVENT
BEGIN:VEVENT
DTSTART;TZID=America/Detroit:20280422T153000
DTEND;TZID=America/Detroit:20280422T161500
DTSTAMP:20260422T213736
CREATED:20230123T173105Z
LAST-MODIFIED:20260219T153419Z
UID:10007728-1840030200-1840032900@saintthomaszanesville.org
SUMMARY:Confessions
DESCRIPTION:
URL:https://saintthomaszanesville.org/event/confessions/2028-04-22/
LOCATION:St Thomas
CATEGORIES:Confessions
END:VEVENT
BEGIN:VEVENT
DTSTART;TZID=America/Detroit:20280429T153000
DTEND;TZID=America/Detroit:20280429T161500
DTSTAMP:20260422T213736
CREATED:20230123T173105Z
LAST-MODIFIED:20260219T153419Z
UID:10007729-1840635000-1840637700@saintthomaszanesville.org
SUMMARY:Confessions
DESCRIPTION:
URL:https://saintthomaszanesville.org/event/confessions/2028-04-29/
LOCATION:St Thomas
CATEGORIES:Confessions
END:VEVENT
END:VCALENDAR