BEGIN:VCALENDAR
VERSION:2.0
PRODID:-//Saint Thomas Acquinas Zanesville - ECPv6.15.20//NONSGML v1.0//EN
CALSCALE:GREGORIAN
METHOD:PUBLISH
X-ORIGINAL-URL:https://saintthomaszanesville.org
X-WR-CALDESC:Events for Saint Thomas Acquinas Zanesville
REFRESH-INTERVAL;VALUE=DURATION:PT1H
X-Robots-Tag:noindex
X-PUBLISHED-TTL:PT1H
BEGIN:VTIMEZONE
TZID:America/Detroit
BEGIN:DAYLIGHT
TZOFFSETFROM:-0500
TZOFFSETTO:-0400
TZNAME:EDT
DTSTART:20230312T070000
END:DAYLIGHT
BEGIN:STANDARD
TZOFFSETFROM:-0400
TZOFFSETTO:-0500
TZNAME:EST
DTSTART:20231105T060000
END:STANDARD
BEGIN:DAYLIGHT
TZOFFSETFROM:-0500
TZOFFSETTO:-0400
TZNAME:EDT
DTSTART:20240310T070000
END:DAYLIGHT
BEGIN:STANDARD
TZOFFSETFROM:-0400
TZOFFSETTO:-0500
TZNAME:EST
DTSTART:20241103T060000
END:STANDARD
BEGIN:DAYLIGHT
TZOFFSETFROM:-0500
TZOFFSETTO:-0400
TZNAME:EDT
DTSTART:20250309T070000
END:DAYLIGHT
BEGIN:STANDARD
TZOFFSETFROM:-0400
TZOFFSETTO:-0500
TZNAME:EST
DTSTART:20251102T060000
END:STANDARD
END:VTIMEZONE
BEGIN:VEVENT
DTSTART;TZID=America/Detroit:20241201T094500
DTEND;TZID=America/Detroit:20241201T223000
DTSTAMP:20260420T182707
CREATED:20231026T154327Z
LAST-MODIFIED:20240829T124728Z
UID:10006981-1733046300-1733092200@saintthomaszanesville.org
SUMMARY:Choir Rehearsal
DESCRIPTION:
URL:https://saintthomaszanesville.org/event/choir-rehersal-2/2024-12-01/
LOCATION:Activity Center
CATEGORIES:Choir
END:VEVENT
BEGIN:VEVENT
DTSTART;TZID=America/Detroit:20241124T094500
DTEND;TZID=America/Detroit:20241124T223000
DTSTAMP:20260420T182708
CREATED:20231026T154327Z
LAST-MODIFIED:20240829T124728Z
UID:10006980-1732441500-1732487400@saintthomaszanesville.org
SUMMARY:Choir Rehearsal
DESCRIPTION:
URL:https://saintthomaszanesville.org/event/choir-rehersal-2/2024-11-24/
LOCATION:Activity Center
CATEGORIES:Choir
END:VEVENT
BEGIN:VEVENT
DTSTART;TZID=America/Detroit:20241117T094500
DTEND;TZID=America/Detroit:20241117T223000
DTSTAMP:20260420T182708
CREATED:20231026T154327Z
LAST-MODIFIED:20240829T124728Z
UID:10006979-1731836700-1731882600@saintthomaszanesville.org
SUMMARY:Choir Rehearsal
DESCRIPTION:
URL:https://saintthomaszanesville.org/event/choir-rehersal-2/2024-11-17/
LOCATION:Activity Center
CATEGORIES:Choir
END:VEVENT
BEGIN:VEVENT
DTSTART;TZID=America/Detroit:20241110T094500
DTEND;TZID=America/Detroit:20241110T223000
DTSTAMP:20260420T182708
CREATED:20231026T154327Z
LAST-MODIFIED:20240829T124728Z
UID:10006978-1731231900-1731277800@saintthomaszanesville.org
SUMMARY:Choir Rehearsal
DESCRIPTION:
URL:https://saintthomaszanesville.org/event/choir-rehersal-2/2024-11-10/
LOCATION:Activity Center
CATEGORIES:Choir
END:VEVENT
BEGIN:VEVENT
DTSTART;TZID=America/Detroit:20241103T094500
DTEND;TZID=America/Detroit:20241103T223000
DTSTAMP:20260420T182708
CREATED:20231026T154327Z
LAST-MODIFIED:20240829T124728Z
UID:10006977-1730627100-1730673000@saintthomaszanesville.org
SUMMARY:Choir Rehearsal
DESCRIPTION:
URL:https://saintthomaszanesville.org/event/choir-rehersal-2/2024-11-03/
LOCATION:Activity Center
CATEGORIES:Choir
END:VEVENT
BEGIN:VEVENT
DTSTART;TZID=America/Detroit:20241027T094500
DTEND;TZID=America/Detroit:20241027T223000
DTSTAMP:20260420T182708
CREATED:20231026T154327Z
LAST-MODIFIED:20240829T124728Z
UID:10006976-1730022300-1730068200@saintthomaszanesville.org
SUMMARY:Choir Rehearsal
DESCRIPTION:
URL:https://saintthomaszanesville.org/event/choir-rehersal-2/2024-10-27/
LOCATION:Activity Center
CATEGORIES:Choir
END:VEVENT
BEGIN:VEVENT
DTSTART;TZID=America/Detroit:20241020T094500
DTEND;TZID=America/Detroit:20241020T223000
DTSTAMP:20260420T182708
CREATED:20231026T154327Z
LAST-MODIFIED:20240829T124728Z
UID:10006975-1729417500-1729463400@saintthomaszanesville.org
SUMMARY:Choir Rehearsal
DESCRIPTION:
URL:https://saintthomaszanesville.org/event/choir-rehersal-2/2024-10-20/
LOCATION:Activity Center
CATEGORIES:Choir
END:VEVENT
BEGIN:VEVENT
DTSTART;TZID=America/Detroit:20241013T094500
DTEND;TZID=America/Detroit:20241013T223000
DTSTAMP:20260420T182708
CREATED:20231026T154327Z
LAST-MODIFIED:20240829T124728Z
UID:10006974-1728812700-1728858600@saintthomaszanesville.org
SUMMARY:Choir Rehearsal
DESCRIPTION:
URL:https://saintthomaszanesville.org/event/choir-rehersal-2/2024-10-13/
LOCATION:Activity Center
CATEGORIES:Choir
END:VEVENT
BEGIN:VEVENT
DTSTART;TZID=America/Detroit:20241006T094500
DTEND;TZID=America/Detroit:20241006T223000
DTSTAMP:20260420T182708
CREATED:20231026T154327Z
LAST-MODIFIED:20240829T124728Z
UID:10006973-1728207900-1728253800@saintthomaszanesville.org
SUMMARY:Choir Rehearsal
DESCRIPTION:
URL:https://saintthomaszanesville.org/event/choir-rehersal-2/2024-10-06/
LOCATION:Activity Center
CATEGORIES:Choir
END:VEVENT
BEGIN:VEVENT
DTSTART;TZID=America/Detroit:20240929T094500
DTEND;TZID=America/Detroit:20240929T223000
DTSTAMP:20260420T182708
CREATED:20231026T154327Z
LAST-MODIFIED:20240829T124728Z
UID:10006972-1727603100-1727649000@saintthomaszanesville.org
SUMMARY:Choir Rehearsal
DESCRIPTION:
URL:https://saintthomaszanesville.org/event/choir-rehersal-2/2024-09-29/
LOCATION:Activity Center
CATEGORIES:Choir
END:VEVENT
BEGIN:VEVENT
DTSTART;TZID=America/Detroit:20240922T094500
DTEND;TZID=America/Detroit:20240922T223000
DTSTAMP:20260420T182708
CREATED:20231026T154327Z
LAST-MODIFIED:20240829T124728Z
UID:10006971-1726998300-1727044200@saintthomaszanesville.org
SUMMARY:Choir Rehearsal
DESCRIPTION:
URL:https://saintthomaszanesville.org/event/choir-rehersal-2/2024-09-22/
LOCATION:Activity Center
CATEGORIES:Choir
END:VEVENT
BEGIN:VEVENT
DTSTART;TZID=America/Detroit:20240915T094500
DTEND;TZID=America/Detroit:20240915T223000
DTSTAMP:20260420T182708
CREATED:20231026T154327Z
LAST-MODIFIED:20240829T124728Z
UID:10006970-1726393500-1726439400@saintthomaszanesville.org
SUMMARY:Choir Rehearsal
DESCRIPTION:
URL:https://saintthomaszanesville.org/event/choir-rehersal-2/2024-09-15/
LOCATION:Activity Center
CATEGORIES:Choir
END:VEVENT
BEGIN:VEVENT
DTSTART;TZID=America/Detroit:20240901T094500
DTEND;TZID=America/Detroit:20240901T223000
DTSTAMP:20260420T182708
CREATED:20231026T154327Z
LAST-MODIFIED:20240829T124728Z
UID:10006968-1725183900-1725229800@saintthomaszanesville.org
SUMMARY:Choir Rehearsal
DESCRIPTION:
URL:https://saintthomaszanesville.org/event/choir-rehersal-2/2024-09-01/
LOCATION:Activity Center
CATEGORIES:Choir
END:VEVENT
BEGIN:VEVENT
DTSTART;TZID=America/Detroit:20240825T094500
DTEND;TZID=America/Detroit:20240825T223000
DTSTAMP:20260420T182708
CREATED:20231026T154327Z
LAST-MODIFIED:20240829T124728Z
UID:10006967-1724579100-1724625000@saintthomaszanesville.org
SUMMARY:Choir Rehearsal
DESCRIPTION:
URL:https://saintthomaszanesville.org/event/choir-rehersal-2/2024-08-25/
LOCATION:Activity Center
CATEGORIES:Choir
END:VEVENT
BEGIN:VEVENT
DTSTART;TZID=America/Detroit:20240818T094500
DTEND;TZID=America/Detroit:20240818T223000
DTSTAMP:20260420T182708
CREATED:20231026T154327Z
LAST-MODIFIED:20240829T124728Z
UID:10006966-1723974300-1724020200@saintthomaszanesville.org
SUMMARY:Choir Rehearsal
DESCRIPTION:
URL:https://saintthomaszanesville.org/event/choir-rehersal-2/2024-08-18/
LOCATION:Activity Center
CATEGORIES:Choir
END:VEVENT
BEGIN:VEVENT
DTSTART;TZID=America/Detroit:20240811T094500
DTEND;TZID=America/Detroit:20240811T223000
DTSTAMP:20260420T182708
CREATED:20231026T154327Z
LAST-MODIFIED:20240829T124728Z
UID:10006965-1723369500-1723415400@saintthomaszanesville.org
SUMMARY:Choir Rehearsal
DESCRIPTION:
URL:https://saintthomaszanesville.org/event/choir-rehersal-2/2024-08-11/
LOCATION:Activity Center
CATEGORIES:Choir
END:VEVENT
BEGIN:VEVENT
DTSTART;TZID=America/Detroit:20240804T094500
DTEND;TZID=America/Detroit:20240804T223000
DTSTAMP:20260420T182708
CREATED:20231026T154327Z
LAST-MODIFIED:20240829T124728Z
UID:10006964-1722764700-1722810600@saintthomaszanesville.org
SUMMARY:Choir Rehearsal
DESCRIPTION:
URL:https://saintthomaszanesville.org/event/choir-rehersal-2/2024-08-04/
LOCATION:Activity Center
CATEGORIES:Choir
END:VEVENT
BEGIN:VEVENT
DTSTART;TZID=America/Detroit:20240728T094500
DTEND;TZID=America/Detroit:20240728T223000
DTSTAMP:20260420T182708
CREATED:20231026T154327Z
LAST-MODIFIED:20240829T124728Z
UID:10006963-1722159900-1722205800@saintthomaszanesville.org
SUMMARY:Choir Rehearsal
DESCRIPTION:
URL:https://saintthomaszanesville.org/event/choir-rehersal-2/2024-07-28/
LOCATION:Activity Center
CATEGORIES:Choir
END:VEVENT
BEGIN:VEVENT
DTSTART;TZID=America/Detroit:20240721T094500
DTEND;TZID=America/Detroit:20240721T223000
DTSTAMP:20260420T182708
CREATED:20231026T154327Z
LAST-MODIFIED:20240829T124728Z
UID:10006962-1721555100-1721601000@saintthomaszanesville.org
SUMMARY:Choir Rehearsal
DESCRIPTION:
URL:https://saintthomaszanesville.org/event/choir-rehersal-2/2024-07-21/
LOCATION:Activity Center
CATEGORIES:Choir
END:VEVENT
BEGIN:VEVENT
DTSTART;TZID=America/Detroit:20240714T094500
DTEND;TZID=America/Detroit:20240714T223000
DTSTAMP:20260420T182708
CREATED:20231026T154327Z
LAST-MODIFIED:20240829T124728Z
UID:10006961-1720950300-1720996200@saintthomaszanesville.org
SUMMARY:Choir Rehearsal
DESCRIPTION:
URL:https://saintthomaszanesville.org/event/choir-rehersal-2/2024-07-14/
LOCATION:Activity Center
CATEGORIES:Choir
END:VEVENT
BEGIN:VEVENT
DTSTART;TZID=America/Detroit:20240707T094500
DTEND;TZID=America/Detroit:20240707T223000
DTSTAMP:20260420T182708
CREATED:20231026T154327Z
LAST-MODIFIED:20240829T124728Z
UID:10006960-1720345500-1720391400@saintthomaszanesville.org
SUMMARY:Choir Rehearsal
DESCRIPTION:
URL:https://saintthomaszanesville.org/event/choir-rehersal-2/2024-07-07/
LOCATION:Activity Center
CATEGORIES:Choir
END:VEVENT
BEGIN:VEVENT
DTSTART;TZID=America/Detroit:20240630T094500
DTEND;TZID=America/Detroit:20240630T223000
DTSTAMP:20260420T182708
CREATED:20231026T154327Z
LAST-MODIFIED:20240829T124728Z
UID:10006959-1719740700-1719786600@saintthomaszanesville.org
SUMMARY:Choir Rehearsal
DESCRIPTION:
URL:https://saintthomaszanesville.org/event/choir-rehersal-2/2024-06-30/
LOCATION:Activity Center
CATEGORIES:Choir
END:VEVENT
BEGIN:VEVENT
DTSTART;TZID=America/Detroit:20240623T094500
DTEND;TZID=America/Detroit:20240623T223000
DTSTAMP:20260420T182708
CREATED:20231026T154327Z
LAST-MODIFIED:20240829T124728Z
UID:10006958-1719135900-1719181800@saintthomaszanesville.org
SUMMARY:Choir Rehearsal
DESCRIPTION:
URL:https://saintthomaszanesville.org/event/choir-rehersal-2/2024-06-23/
LOCATION:Activity Center
CATEGORIES:Choir
END:VEVENT
BEGIN:VEVENT
DTSTART;TZID=America/Detroit:20240616T094500
DTEND;TZID=America/Detroit:20240616T223000
DTSTAMP:20260420T182708
CREATED:20231026T154327Z
LAST-MODIFIED:20240829T124728Z
UID:10006957-1718531100-1718577000@saintthomaszanesville.org
SUMMARY:Choir Rehearsal
DESCRIPTION:
URL:https://saintthomaszanesville.org/event/choir-rehersal-2/2024-06-16/
LOCATION:Activity Center
CATEGORIES:Choir
END:VEVENT
BEGIN:VEVENT
DTSTART;TZID=America/Detroit:20240609T094500
DTEND;TZID=America/Detroit:20240609T223000
DTSTAMP:20260420T182708
CREATED:20231026T154327Z
LAST-MODIFIED:20240829T124728Z
UID:10006956-1717926300-1717972200@saintthomaszanesville.org
SUMMARY:Choir Rehearsal
DESCRIPTION:
URL:https://saintthomaszanesville.org/event/choir-rehersal-2/2024-06-09/
LOCATION:Activity Center
CATEGORIES:Choir
END:VEVENT
BEGIN:VEVENT
DTSTART;TZID=America/Detroit:20240602T094500
DTEND;TZID=America/Detroit:20240602T223000
DTSTAMP:20260420T182708
CREATED:20231026T154327Z
LAST-MODIFIED:20240829T124728Z
UID:10006955-1717321500-1717367400@saintthomaszanesville.org
SUMMARY:Choir Rehearsal
DESCRIPTION:
URL:https://saintthomaszanesville.org/event/choir-rehersal-2/2024-06-02/
LOCATION:Activity Center
CATEGORIES:Choir
END:VEVENT
BEGIN:VEVENT
DTSTART;TZID=America/Detroit:20240526T094500
DTEND;TZID=America/Detroit:20240526T223000
DTSTAMP:20260420T182708
CREATED:20231026T154327Z
LAST-MODIFIED:20240829T124728Z
UID:10006954-1716716700-1716762600@saintthomaszanesville.org
SUMMARY:Choir Rehearsal
DESCRIPTION:
URL:https://saintthomaszanesville.org/event/choir-rehersal-2/2024-05-26/
LOCATION:Activity Center
CATEGORIES:Choir
END:VEVENT
BEGIN:VEVENT
DTSTART;TZID=America/Detroit:20240519T094500
DTEND;TZID=America/Detroit:20240519T223000
DTSTAMP:20260420T182708
CREATED:20231026T154327Z
LAST-MODIFIED:20240829T124728Z
UID:10006953-1716111900-1716157800@saintthomaszanesville.org
SUMMARY:Choir Rehearsal
DESCRIPTION:
URL:https://saintthomaszanesville.org/event/choir-rehersal-2/2024-05-19/
LOCATION:Activity Center
CATEGORIES:Choir
END:VEVENT
BEGIN:VEVENT
DTSTART;TZID=America/Detroit:20240512T094500
DTEND;TZID=America/Detroit:20240512T223000
DTSTAMP:20260420T182708
CREATED:20231026T154327Z
LAST-MODIFIED:20240829T124728Z
UID:10006952-1715507100-1715553000@saintthomaszanesville.org
SUMMARY:Choir Rehearsal
DESCRIPTION:
URL:https://saintthomaszanesville.org/event/choir-rehersal-2/2024-05-12/
LOCATION:Activity Center
CATEGORIES:Choir
END:VEVENT
BEGIN:VEVENT
DTSTART;TZID=America/Detroit:20240505T094500
DTEND;TZID=America/Detroit:20240505T223000
DTSTAMP:20260420T182708
CREATED:20231026T154327Z
LAST-MODIFIED:20240829T124728Z
UID:10006951-1714902300-1714948200@saintthomaszanesville.org
SUMMARY:Choir Rehearsal
DESCRIPTION:
URL:https://saintthomaszanesville.org/event/choir-rehersal-2/2024-05-05/
LOCATION:Activity Center
CATEGORIES:Choir
END:VEVENT
END:VCALENDAR