BEGIN:VCALENDAR
VERSION:2.0
PRODID:-//Saint Thomas Acquinas Zanesville - ECPv6.15.20//NONSGML v1.0//EN
CALSCALE:GREGORIAN
METHOD:PUBLISH
X-ORIGINAL-URL:https://saintthomaszanesville.org
X-WR-CALDESC:Events for Saint Thomas Acquinas Zanesville
REFRESH-INTERVAL;VALUE=DURATION:PT1H
X-Robots-Tag:noindex
X-PUBLISHED-TTL:PT1H
BEGIN:VTIMEZONE
TZID:America/Detroit
BEGIN:DAYLIGHT
TZOFFSETFROM:-0500
TZOFFSETTO:-0400
TZNAME:EDT
DTSTART:20240310T070000
END:DAYLIGHT
BEGIN:STANDARD
TZOFFSETFROM:-0400
TZOFFSETTO:-0500
TZNAME:EST
DTSTART:20241103T060000
END:STANDARD
BEGIN:DAYLIGHT
TZOFFSETFROM:-0500
TZOFFSETTO:-0400
TZNAME:EDT
DTSTART:20250309T070000
END:DAYLIGHT
BEGIN:STANDARD
TZOFFSETFROM:-0400
TZOFFSETTO:-0500
TZNAME:EST
DTSTART:20251102T060000
END:STANDARD
BEGIN:DAYLIGHT
TZOFFSETFROM:-0500
TZOFFSETTO:-0400
TZNAME:EDT
DTSTART:20260308T070000
END:DAYLIGHT
BEGIN:STANDARD
TZOFFSETFROM:-0400
TZOFFSETTO:-0500
TZNAME:EST
DTSTART:20261101T060000
END:STANDARD
BEGIN:DAYLIGHT
TZOFFSETFROM:-0500
TZOFFSETTO:-0400
TZNAME:EDT
DTSTART:20270314T070000
END:DAYLIGHT
BEGIN:STANDARD
TZOFFSETFROM:-0400
TZOFFSETTO:-0500
TZNAME:EST
DTSTART:20271107T060000
END:STANDARD
END:VTIMEZONE
BEGIN:VEVENT
DTSTART;TZID=America/Detroit:20251207T094500
DTEND;TZID=America/Detroit:20251207T223000
DTSTAMP:20260421T005416
CREATED:20231026T154327Z
LAST-MODIFIED:20240829T124728Z
UID:10007034-1765100700-1765146600@saintthomaszanesville.org
SUMMARY:Choir Rehearsal
DESCRIPTION:
URL:https://saintthomaszanesville.org/event/choir-rehersal-2/2025-12-07/
LOCATION:Activity Center
CATEGORIES:Choir
END:VEVENT
BEGIN:VEVENT
DTSTART;TZID=America/Detroit:20251214T094500
DTEND;TZID=America/Detroit:20251214T223000
DTSTAMP:20260421T005416
CREATED:20231026T154327Z
LAST-MODIFIED:20240829T124728Z
UID:10007035-1765705500-1765751400@saintthomaszanesville.org
SUMMARY:Choir Rehearsal
DESCRIPTION:
URL:https://saintthomaszanesville.org/event/choir-rehersal-2/2025-12-14/
LOCATION:Activity Center
CATEGORIES:Choir
END:VEVENT
BEGIN:VEVENT
DTSTART;TZID=America/Detroit:20251221T094500
DTEND;TZID=America/Detroit:20251221T223000
DTSTAMP:20260421T005416
CREATED:20231026T154327Z
LAST-MODIFIED:20240829T124728Z
UID:10007036-1766310300-1766356200@saintthomaszanesville.org
SUMMARY:Choir Rehearsal
DESCRIPTION:
URL:https://saintthomaszanesville.org/event/choir-rehersal-2/2025-12-21/
LOCATION:Activity Center
CATEGORIES:Choir
END:VEVENT
BEGIN:VEVENT
DTSTART;TZID=America/Detroit:20251228T094500
DTEND;TZID=America/Detroit:20251228T223000
DTSTAMP:20260421T005416
CREATED:20231026T154327Z
LAST-MODIFIED:20240829T124728Z
UID:10007037-1766915100-1766961000@saintthomaszanesville.org
SUMMARY:Choir Rehearsal
DESCRIPTION:
URL:https://saintthomaszanesville.org/event/choir-rehersal-2/2025-12-28/
LOCATION:Activity Center
CATEGORIES:Choir
END:VEVENT
BEGIN:VEVENT
DTSTART;TZID=America/Detroit:20260104T094500
DTEND;TZID=America/Detroit:20260104T223000
DTSTAMP:20260421T005416
CREATED:20231026T154327Z
LAST-MODIFIED:20240829T124728Z
UID:10007038-1767519900-1767565800@saintthomaszanesville.org
SUMMARY:Choir Rehearsal
DESCRIPTION:
URL:https://saintthomaszanesville.org/event/choir-rehersal-2/2026-01-04/
LOCATION:Activity Center
CATEGORIES:Choir
END:VEVENT
BEGIN:VEVENT
DTSTART;TZID=America/Detroit:20260111T094500
DTEND;TZID=America/Detroit:20260111T223000
DTSTAMP:20260421T005416
CREATED:20231026T154327Z
LAST-MODIFIED:20240829T124728Z
UID:10007039-1768124700-1768170600@saintthomaszanesville.org
SUMMARY:Choir Rehearsal
DESCRIPTION:
URL:https://saintthomaszanesville.org/event/choir-rehersal-2/2026-01-11/
LOCATION:Activity Center
CATEGORIES:Choir
END:VEVENT
BEGIN:VEVENT
DTSTART;TZID=America/Detroit:20260118T094500
DTEND;TZID=America/Detroit:20260118T223000
DTSTAMP:20260421T005416
CREATED:20231026T154327Z
LAST-MODIFIED:20240829T124728Z
UID:10007040-1768729500-1768775400@saintthomaszanesville.org
SUMMARY:Choir Rehearsal
DESCRIPTION:
URL:https://saintthomaszanesville.org/event/choir-rehersal-2/2026-01-18/
LOCATION:Activity Center
CATEGORIES:Choir
END:VEVENT
BEGIN:VEVENT
DTSTART;TZID=America/Detroit:20260125T094500
DTEND;TZID=America/Detroit:20260125T223000
DTSTAMP:20260421T005416
CREATED:20231026T154327Z
LAST-MODIFIED:20240829T124728Z
UID:10007041-1769334300-1769380200@saintthomaszanesville.org
SUMMARY:Choir Rehearsal
DESCRIPTION:
URL:https://saintthomaszanesville.org/event/choir-rehersal-2/2026-01-25/
LOCATION:Activity Center
CATEGORIES:Choir
END:VEVENT
BEGIN:VEVENT
DTSTART;TZID=America/Detroit:20260201T094500
DTEND;TZID=America/Detroit:20260201T223000
DTSTAMP:20260421T005416
CREATED:20231026T154327Z
LAST-MODIFIED:20240829T124728Z
UID:10007042-1769939100-1769985000@saintthomaszanesville.org
SUMMARY:Choir Rehearsal
DESCRIPTION:
URL:https://saintthomaszanesville.org/event/choir-rehersal-2/2026-02-01/
LOCATION:Activity Center
CATEGORIES:Choir
END:VEVENT
BEGIN:VEVENT
DTSTART;TZID=America/Detroit:20260208T094500
DTEND;TZID=America/Detroit:20260208T223000
DTSTAMP:20260421T005416
CREATED:20231026T154327Z
LAST-MODIFIED:20240829T124728Z
UID:10007043-1770543900-1770589800@saintthomaszanesville.org
SUMMARY:Choir Rehearsal
DESCRIPTION:
URL:https://saintthomaszanesville.org/event/choir-rehersal-2/2026-02-08/
LOCATION:Activity Center
CATEGORIES:Choir
END:VEVENT
BEGIN:VEVENT
DTSTART;TZID=America/Detroit:20260215T094500
DTEND;TZID=America/Detroit:20260215T223000
DTSTAMP:20260421T005416
CREATED:20231026T154327Z
LAST-MODIFIED:20240829T124728Z
UID:10007044-1771148700-1771194600@saintthomaszanesville.org
SUMMARY:Choir Rehearsal
DESCRIPTION:
URL:https://saintthomaszanesville.org/event/choir-rehersal-2/2026-02-15/
LOCATION:Activity Center
CATEGORIES:Choir
END:VEVENT
BEGIN:VEVENT
DTSTART;TZID=America/Detroit:20260222T094500
DTEND;TZID=America/Detroit:20260222T223000
DTSTAMP:20260421T005416
CREATED:20231026T154327Z
LAST-MODIFIED:20240829T124728Z
UID:10007045-1771753500-1771799400@saintthomaszanesville.org
SUMMARY:Choir Rehearsal
DESCRIPTION:
URL:https://saintthomaszanesville.org/event/choir-rehersal-2/2026-02-22/
LOCATION:Activity Center
CATEGORIES:Choir
END:VEVENT
BEGIN:VEVENT
DTSTART;TZID=America/Detroit:20260301T094500
DTEND;TZID=America/Detroit:20260301T223000
DTSTAMP:20260421T005416
CREATED:20231026T154327Z
LAST-MODIFIED:20240829T124728Z
UID:10007046-1772358300-1772404200@saintthomaszanesville.org
SUMMARY:Choir Rehearsal
DESCRIPTION:
URL:https://saintthomaszanesville.org/event/choir-rehersal-2/2026-03-01/
LOCATION:Activity Center
CATEGORIES:Choir
END:VEVENT
BEGIN:VEVENT
DTSTART;TZID=America/Detroit:20260308T094500
DTEND;TZID=America/Detroit:20260308T223000
DTSTAMP:20260421T005416
CREATED:20231026T154327Z
LAST-MODIFIED:20240829T124728Z
UID:10007047-1772963100-1773009000@saintthomaszanesville.org
SUMMARY:Choir Rehearsal
DESCRIPTION:
URL:https://saintthomaszanesville.org/event/choir-rehersal-2/2026-03-08/
LOCATION:Activity Center
CATEGORIES:Choir
END:VEVENT
BEGIN:VEVENT
DTSTART;TZID=America/Detroit:20260315T094500
DTEND;TZID=America/Detroit:20260315T223000
DTSTAMP:20260421T005416
CREATED:20231026T154327Z
LAST-MODIFIED:20240829T124728Z
UID:10007048-1773567900-1773613800@saintthomaszanesville.org
SUMMARY:Choir Rehearsal
DESCRIPTION:
URL:https://saintthomaszanesville.org/event/choir-rehersal-2/2026-03-15/
LOCATION:Activity Center
CATEGORIES:Choir
END:VEVENT
BEGIN:VEVENT
DTSTART;TZID=America/Detroit:20260322T094500
DTEND;TZID=America/Detroit:20260322T223000
DTSTAMP:20260421T005416
CREATED:20231026T154327Z
LAST-MODIFIED:20240829T124728Z
UID:10007049-1774172700-1774218600@saintthomaszanesville.org
SUMMARY:Choir Rehearsal
DESCRIPTION:
URL:https://saintthomaszanesville.org/event/choir-rehersal-2/2026-03-22/
LOCATION:Activity Center
CATEGORIES:Choir
END:VEVENT
BEGIN:VEVENT
DTSTART;TZID=America/Detroit:20260329T094500
DTEND;TZID=America/Detroit:20260329T223000
DTSTAMP:20260421T005416
CREATED:20231026T154327Z
LAST-MODIFIED:20240829T124728Z
UID:10007050-1774777500-1774823400@saintthomaszanesville.org
SUMMARY:Choir Rehearsal
DESCRIPTION:
URL:https://saintthomaszanesville.org/event/choir-rehersal-2/2026-03-29/
LOCATION:Activity Center
CATEGORIES:Choir
END:VEVENT
BEGIN:VEVENT
DTSTART;TZID=America/Detroit:20260405T094500
DTEND;TZID=America/Detroit:20260405T223000
DTSTAMP:20260421T005416
CREATED:20231026T154327Z
LAST-MODIFIED:20240829T124728Z
UID:10007051-1775382300-1775428200@saintthomaszanesville.org
SUMMARY:Choir Rehearsal
DESCRIPTION:
URL:https://saintthomaszanesville.org/event/choir-rehersal-2/2026-04-05/
LOCATION:Activity Center
CATEGORIES:Choir
END:VEVENT
BEGIN:VEVENT
DTSTART;TZID=America/Detroit:20260412T094500
DTEND;TZID=America/Detroit:20260412T223000
DTSTAMP:20260421T005416
CREATED:20231026T154327Z
LAST-MODIFIED:20240829T124728Z
UID:10007052-1775987100-1776033000@saintthomaszanesville.org
SUMMARY:Choir Rehearsal
DESCRIPTION:
URL:https://saintthomaszanesville.org/event/choir-rehersal-2/2026-04-12/
LOCATION:Activity Center
CATEGORIES:Choir
END:VEVENT
BEGIN:VEVENT
DTSTART;TZID=America/Detroit:20260419T094500
DTEND;TZID=America/Detroit:20260419T223000
DTSTAMP:20260421T005416
CREATED:20231026T154327Z
LAST-MODIFIED:20240829T124728Z
UID:10007053-1776591900-1776637800@saintthomaszanesville.org
SUMMARY:Choir Rehearsal
DESCRIPTION:
URL:https://saintthomaszanesville.org/event/choir-rehersal-2/2026-04-19/
LOCATION:Activity Center
CATEGORIES:Choir
END:VEVENT
BEGIN:VEVENT
DTSTART;TZID=America/Detroit:20260426T094500
DTEND;TZID=America/Detroit:20260426T223000
DTSTAMP:20260421T005416
CREATED:20231026T154327Z
LAST-MODIFIED:20240829T124728Z
UID:10007054-1777196700-1777242600@saintthomaszanesville.org
SUMMARY:Choir Rehearsal
DESCRIPTION:
URL:https://saintthomaszanesville.org/event/choir-rehersal-2/2026-04-26/
LOCATION:Activity Center
CATEGORIES:Choir
END:VEVENT
BEGIN:VEVENT
DTSTART;TZID=America/Detroit:20260503T094500
DTEND;TZID=America/Detroit:20260503T223000
DTSTAMP:20260421T005416
CREATED:20231026T154327Z
LAST-MODIFIED:20240829T124728Z
UID:10007055-1777801500-1777847400@saintthomaszanesville.org
SUMMARY:Choir Rehearsal
DESCRIPTION:
URL:https://saintthomaszanesville.org/event/choir-rehersal-2/2026-05-03/
LOCATION:Activity Center
CATEGORIES:Choir
END:VEVENT
BEGIN:VEVENT
DTSTART;TZID=America/Detroit:20260510T094500
DTEND;TZID=America/Detroit:20260510T223000
DTSTAMP:20260421T005416
CREATED:20231026T154327Z
LAST-MODIFIED:20240829T124728Z
UID:10007056-1778406300-1778452200@saintthomaszanesville.org
SUMMARY:Choir Rehearsal
DESCRIPTION:
URL:https://saintthomaszanesville.org/event/choir-rehersal-2/2026-05-10/
LOCATION:Activity Center
CATEGORIES:Choir
END:VEVENT
BEGIN:VEVENT
DTSTART;TZID=America/Detroit:20260517T094500
DTEND;TZID=America/Detroit:20260517T223000
DTSTAMP:20260421T005416
CREATED:20231026T154327Z
LAST-MODIFIED:20240829T124728Z
UID:10007057-1779011100-1779057000@saintthomaszanesville.org
SUMMARY:Choir Rehearsal
DESCRIPTION:
URL:https://saintthomaszanesville.org/event/choir-rehersal-2/2026-05-17/
LOCATION:Activity Center
CATEGORIES:Choir
END:VEVENT
BEGIN:VEVENT
DTSTART;TZID=America/Detroit:20260524T094500
DTEND;TZID=America/Detroit:20260524T223000
DTSTAMP:20260421T005416
CREATED:20231026T154327Z
LAST-MODIFIED:20240829T124728Z
UID:10007058-1779615900-1779661800@saintthomaszanesville.org
SUMMARY:Choir Rehearsal
DESCRIPTION:
URL:https://saintthomaszanesville.org/event/choir-rehersal-2/2026-05-24/
LOCATION:Activity Center
CATEGORIES:Choir
END:VEVENT
BEGIN:VEVENT
DTSTART;TZID=America/Detroit:20260531T094500
DTEND;TZID=America/Detroit:20260531T223000
DTSTAMP:20260421T005416
CREATED:20231026T154327Z
LAST-MODIFIED:20240829T124728Z
UID:10007059-1780220700-1780266600@saintthomaszanesville.org
SUMMARY:Choir Rehearsal
DESCRIPTION:
URL:https://saintthomaszanesville.org/event/choir-rehersal-2/2026-05-31/
LOCATION:Activity Center
CATEGORIES:Choir
END:VEVENT
BEGIN:VEVENT
DTSTART;TZID=America/Detroit:20260607T094500
DTEND;TZID=America/Detroit:20260607T223000
DTSTAMP:20260421T005416
CREATED:20231026T154327Z
LAST-MODIFIED:20240829T124728Z
UID:10007060-1780825500-1780871400@saintthomaszanesville.org
SUMMARY:Choir Rehearsal
DESCRIPTION:
URL:https://saintthomaszanesville.org/event/choir-rehersal-2/2026-06-07/
LOCATION:Activity Center
CATEGORIES:Choir
END:VEVENT
BEGIN:VEVENT
DTSTART;TZID=America/Detroit:20260614T094500
DTEND;TZID=America/Detroit:20260614T223000
DTSTAMP:20260421T005416
CREATED:20231026T154327Z
LAST-MODIFIED:20240829T124728Z
UID:10007061-1781430300-1781476200@saintthomaszanesville.org
SUMMARY:Choir Rehearsal
DESCRIPTION:
URL:https://saintthomaszanesville.org/event/choir-rehersal-2/2026-06-14/
LOCATION:Activity Center
CATEGORIES:Choir
END:VEVENT
BEGIN:VEVENT
DTSTART;TZID=America/Detroit:20260621T094500
DTEND;TZID=America/Detroit:20260621T223000
DTSTAMP:20260421T005416
CREATED:20231026T154327Z
LAST-MODIFIED:20240829T124728Z
UID:10007062-1782035100-1782081000@saintthomaszanesville.org
SUMMARY:Choir Rehearsal
DESCRIPTION:
URL:https://saintthomaszanesville.org/event/choir-rehersal-2/2026-06-21/
LOCATION:Activity Center
CATEGORIES:Choir
END:VEVENT
BEGIN:VEVENT
DTSTART;TZID=America/Detroit:20260628T094500
DTEND;TZID=America/Detroit:20260628T223000
DTSTAMP:20260421T005416
CREATED:20231026T154327Z
LAST-MODIFIED:20240829T124728Z
UID:10007063-1782639900-1782685800@saintthomaszanesville.org
SUMMARY:Choir Rehearsal
DESCRIPTION:
URL:https://saintthomaszanesville.org/event/choir-rehersal-2/2026-06-28/
LOCATION:Activity Center
CATEGORIES:Choir
END:VEVENT
END:VCALENDAR