BEGIN:VCALENDAR
VERSION:2.0
PRODID:-//Saint Thomas Acquinas Zanesville - ECPv6.15.20//NONSGML v1.0//EN
CALSCALE:GREGORIAN
METHOD:PUBLISH
X-WR-CALNAME:Saint Thomas Acquinas Zanesville
X-ORIGINAL-URL:https://saintthomaszanesville.org
X-WR-CALDESC:Events for Saint Thomas Acquinas Zanesville
REFRESH-INTERVAL;VALUE=DURATION:PT1H
X-Robots-Tag:noindex
X-PUBLISHED-TTL:PT1H
BEGIN:VTIMEZONE
TZID:America/Detroit
BEGIN:DAYLIGHT
TZOFFSETFROM:-0500
TZOFFSETTO:-0400
TZNAME:EDT
DTSTART:20220313T070000
END:DAYLIGHT
BEGIN:STANDARD
TZOFFSETFROM:-0400
TZOFFSETTO:-0500
TZNAME:EST
DTSTART:20221106T060000
END:STANDARD
BEGIN:DAYLIGHT
TZOFFSETFROM:-0500
TZOFFSETTO:-0400
TZNAME:EDT
DTSTART:20230312T070000
END:DAYLIGHT
BEGIN:STANDARD
TZOFFSETFROM:-0400
TZOFFSETTO:-0500
TZNAME:EST
DTSTART:20231105T060000
END:STANDARD
BEGIN:DAYLIGHT
TZOFFSETFROM:-0500
TZOFFSETTO:-0400
TZNAME:EDT
DTSTART:20240310T070000
END:DAYLIGHT
BEGIN:STANDARD
TZOFFSETFROM:-0400
TZOFFSETTO:-0500
TZNAME:EST
DTSTART:20241103T060000
END:STANDARD
END:VTIMEZONE
BEGIN:VEVENT
DTSTART;TZID=America/Detroit:20230402T093000
DTEND;TZID=America/Detroit:20230402T093000
DTSTAMP:20260421T051401
CREATED:20230123T043430Z
LAST-MODIFIED:20230123T044642Z
UID:10000811-1680427800-1680427800@saintthomaszanesville.org
SUMMARY:Choir Rehearsal
DESCRIPTION:
URL:https://saintthomaszanesville.org/event/choir-rehearsal/2023-04-02/
CATEGORIES:Choir
END:VEVENT
BEGIN:VEVENT
DTSTART;TZID=America/Detroit:20230326T093000
DTEND;TZID=America/Detroit:20230326T093000
DTSTAMP:20260421T051401
CREATED:20230123T043430Z
LAST-MODIFIED:20230123T044642Z
UID:10000810-1679823000-1679823000@saintthomaszanesville.org
SUMMARY:Choir Rehearsal
DESCRIPTION:
URL:https://saintthomaszanesville.org/event/choir-rehearsal/2023-03-26/
CATEGORIES:Choir
END:VEVENT
BEGIN:VEVENT
DTSTART;TZID=America/Detroit:20230319T093000
DTEND;TZID=America/Detroit:20230319T093000
DTSTAMP:20260421T051402
CREATED:20230123T043430Z
LAST-MODIFIED:20230123T044642Z
UID:10000809-1679218200-1679218200@saintthomaszanesville.org
SUMMARY:Choir Rehearsal
DESCRIPTION:
URL:https://saintthomaszanesville.org/event/choir-rehearsal/2023-03-19/
CATEGORIES:Choir
END:VEVENT
BEGIN:VEVENT
DTSTART;TZID=America/Detroit:20230312T093000
DTEND;TZID=America/Detroit:20230312T093000
DTSTAMP:20260421T051402
CREATED:20230123T043430Z
LAST-MODIFIED:20230123T044642Z
UID:10000808-1678613400-1678613400@saintthomaszanesville.org
SUMMARY:Choir Rehearsal
DESCRIPTION:
URL:https://saintthomaszanesville.org/event/choir-rehearsal/2023-03-12/
CATEGORIES:Choir
END:VEVENT
BEGIN:VEVENT
DTSTART;TZID=America/Detroit:20230305T093000
DTEND;TZID=America/Detroit:20230305T093000
DTSTAMP:20260421T051402
CREATED:20230123T043430Z
LAST-MODIFIED:20230123T044642Z
UID:10000807-1678008600-1678008600@saintthomaszanesville.org
SUMMARY:Choir Rehearsal
DESCRIPTION:
URL:https://saintthomaszanesville.org/event/choir-rehearsal/2023-03-05/
CATEGORIES:Choir
END:VEVENT
BEGIN:VEVENT
DTSTART;TZID=America/Detroit:20230226T093000
DTEND;TZID=America/Detroit:20230226T093000
DTSTAMP:20260421T051402
CREATED:20230123T043430Z
LAST-MODIFIED:20230123T044642Z
UID:10000806-1677403800-1677403800@saintthomaszanesville.org
SUMMARY:Choir Rehearsal
DESCRIPTION:
URL:https://saintthomaszanesville.org/event/choir-rehearsal/2023-02-26/
CATEGORIES:Choir
END:VEVENT
BEGIN:VEVENT
DTSTART;TZID=America/Detroit:20230219T093000
DTEND;TZID=America/Detroit:20230219T093000
DTSTAMP:20260421T051402
CREATED:20230123T043430Z
LAST-MODIFIED:20230123T044642Z
UID:10000805-1676799000-1676799000@saintthomaszanesville.org
SUMMARY:Choir Rehearsal
DESCRIPTION:
URL:https://saintthomaszanesville.org/event/choir-rehearsal/2023-02-19/
CATEGORIES:Choir
END:VEVENT
BEGIN:VEVENT
DTSTART;TZID=America/Detroit:20230212T093000
DTEND;TZID=America/Detroit:20230212T093000
DTSTAMP:20260421T051402
CREATED:20230123T043430Z
LAST-MODIFIED:20230123T044642Z
UID:10000804-1676194200-1676194200@saintthomaszanesville.org
SUMMARY:Choir Rehearsal
DESCRIPTION:
URL:https://saintthomaszanesville.org/event/choir-rehearsal/2023-02-12/
CATEGORIES:Choir
END:VEVENT
BEGIN:VEVENT
DTSTART;TZID=America/Detroit:20230205T093000
DTEND;TZID=America/Detroit:20230205T093000
DTSTAMP:20260421T051402
CREATED:20230123T043430Z
LAST-MODIFIED:20230123T044642Z
UID:10000803-1675589400-1675589400@saintthomaszanesville.org
SUMMARY:Choir Rehearsal
DESCRIPTION:
URL:https://saintthomaszanesville.org/event/choir-rehearsal/2023-02-05/
CATEGORIES:Choir
END:VEVENT
BEGIN:VEVENT
DTSTART;TZID=America/Detroit:20230129T093000
DTEND;TZID=America/Detroit:20230129T093000
DTSTAMP:20260421T051402
CREATED:20230123T043430Z
LAST-MODIFIED:20230123T044642Z
UID:10000802-1674984600-1674984600@saintthomaszanesville.org
SUMMARY:Choir Rehearsal
DESCRIPTION:
URL:https://saintthomaszanesville.org/event/choir-rehearsal/2023-01-29/
CATEGORIES:Choir
END:VEVENT
BEGIN:VEVENT
DTSTART;TZID=America/Detroit:20230122T093000
DTEND;TZID=America/Detroit:20230122T093000
DTSTAMP:20260421T051402
CREATED:20230123T043430Z
LAST-MODIFIED:20230123T044642Z
UID:10000801-1674379800-1674379800@saintthomaszanesville.org
SUMMARY:Choir Rehearsal
DESCRIPTION:
URL:https://saintthomaszanesville.org/event/choir-rehearsal/2023-01-22/
CATEGORIES:Choir
END:VEVENT
BEGIN:VEVENT
DTSTART;TZID=America/Detroit:20230115T093000
DTEND;TZID=America/Detroit:20230115T093000
DTSTAMP:20260421T051402
CREATED:20230123T043430Z
LAST-MODIFIED:20230123T044642Z
UID:10000800-1673775000-1673775000@saintthomaszanesville.org
SUMMARY:Choir Rehearsal
DESCRIPTION:
URL:https://saintthomaszanesville.org/event/choir-rehearsal/2023-01-15/
CATEGORIES:Choir
END:VEVENT
BEGIN:VEVENT
DTSTART;TZID=America/Detroit:20230108T093000
DTEND;TZID=America/Detroit:20230108T093000
DTSTAMP:20260421T051402
CREATED:20230123T043430Z
LAST-MODIFIED:20230123T044642Z
UID:10000799-1673170200-1673170200@saintthomaszanesville.org
SUMMARY:Choir Rehearsal
DESCRIPTION:
URL:https://saintthomaszanesville.org/event/choir-rehearsal/2023-01-08/
CATEGORIES:Choir
END:VEVENT
BEGIN:VEVENT
DTSTART;TZID=America/Detroit:20230101T093000
DTEND;TZID=America/Detroit:20230101T093000
DTSTAMP:20260421T051402
CREATED:20230123T043430Z
LAST-MODIFIED:20230123T044642Z
UID:10000798-1672565400-1672565400@saintthomaszanesville.org
SUMMARY:Choir Rehearsal
DESCRIPTION:
URL:https://saintthomaszanesville.org/event/choir-rehearsal/2023-01-01/
CATEGORIES:Choir
END:VEVENT
END:VCALENDAR