BEGIN:VCALENDAR
VERSION:2.0
PRODID:-//Saint Thomas Acquinas Zanesville - ECPv6.15.20//NONSGML v1.0//EN
CALSCALE:GREGORIAN
METHOD:PUBLISH
X-WR-CALNAME:Saint Thomas Acquinas Zanesville
X-ORIGINAL-URL:https://saintthomaszanesville.org
X-WR-CALDESC:Events for Saint Thomas Acquinas Zanesville
REFRESH-INTERVAL;VALUE=DURATION:PT1H
X-Robots-Tag:noindex
X-PUBLISHED-TTL:PT1H
BEGIN:VTIMEZONE
TZID:America/Detroit
BEGIN:DAYLIGHT
TZOFFSETFROM:-0500
TZOFFSETTO:-0400
TZNAME:EDT
DTSTART:20270314T070000
END:DAYLIGHT
BEGIN:STANDARD
TZOFFSETFROM:-0400
TZOFFSETTO:-0500
TZNAME:EST
DTSTART:20271107T060000
END:STANDARD
BEGIN:DAYLIGHT
TZOFFSETFROM:-0500
TZOFFSETTO:-0400
TZNAME:EDT
DTSTART:20280312T070000
END:DAYLIGHT
BEGIN:STANDARD
TZOFFSETFROM:-0400
TZOFFSETTO:-0500
TZNAME:EST
DTSTART:20281105T060000
END:STANDARD
BEGIN:DAYLIGHT
TZOFFSETFROM:-0500
TZOFFSETTO:-0400
TZNAME:EDT
DTSTART:20290311T070000
END:DAYLIGHT
BEGIN:STANDARD
TZOFFSETFROM:-0400
TZOFFSETTO:-0500
TZNAME:EST
DTSTART:20291104T060000
END:STANDARD
END:VTIMEZONE
BEGIN:VEVENT
DTSTART;TZID=America/Detroit:20280206T094500
DTEND;TZID=America/Detroit:20280206T223000
DTSTAMP:20260422T200035
CREATED:20231026T154327Z
LAST-MODIFIED:20240829T124728Z
UID:10007147-1833443100-1833489000@saintthomaszanesville.org
SUMMARY:Choir Rehearsal
DESCRIPTION:
URL:https://saintthomaszanesville.org/event/choir-rehersal-2/2028-02-06/
LOCATION:Activity Center
CATEGORIES:Choir
END:VEVENT
BEGIN:VEVENT
DTSTART;TZID=America/Detroit:20280213T094500
DTEND;TZID=America/Detroit:20280213T223000
DTSTAMP:20260422T200035
CREATED:20231026T154327Z
LAST-MODIFIED:20240829T124728Z
UID:10007148-1834047900-1834093800@saintthomaszanesville.org
SUMMARY:Choir Rehearsal
DESCRIPTION:
URL:https://saintthomaszanesville.org/event/choir-rehersal-2/2028-02-13/
LOCATION:Activity Center
CATEGORIES:Choir
END:VEVENT
BEGIN:VEVENT
DTSTART;TZID=America/Detroit:20280220T094500
DTEND;TZID=America/Detroit:20280220T223000
DTSTAMP:20260422T200035
CREATED:20231026T154327Z
LAST-MODIFIED:20240829T124728Z
UID:10007149-1834652700-1834698600@saintthomaszanesville.org
SUMMARY:Choir Rehearsal
DESCRIPTION:
URL:https://saintthomaszanesville.org/event/choir-rehersal-2/2028-02-20/
LOCATION:Activity Center
CATEGORIES:Choir
END:VEVENT
BEGIN:VEVENT
DTSTART;TZID=America/Detroit:20280227T094500
DTEND;TZID=America/Detroit:20280227T223000
DTSTAMP:20260422T200035
CREATED:20231026T154327Z
LAST-MODIFIED:20240829T124728Z
UID:10007150-1835257500-1835303400@saintthomaszanesville.org
SUMMARY:Choir Rehearsal
DESCRIPTION:
URL:https://saintthomaszanesville.org/event/choir-rehersal-2/2028-02-27/
LOCATION:Activity Center
CATEGORIES:Choir
END:VEVENT
END:VCALENDAR