BEGIN:VCALENDAR
VERSION:2.0
PRODID:-//Saint Thomas Acquinas Zanesville - ECPv6.15.20//NONSGML v1.0//EN
CALSCALE:GREGORIAN
METHOD:PUBLISH
X-WR-CALNAME:Saint Thomas Acquinas Zanesville
X-ORIGINAL-URL:https://saintthomaszanesville.org
X-WR-CALDESC:Events for Saint Thomas Acquinas Zanesville
REFRESH-INTERVAL;VALUE=DURATION:PT1H
X-Robots-Tag:noindex
X-PUBLISHED-TTL:PT1H
BEGIN:VTIMEZONE
TZID:America/Detroit
BEGIN:DAYLIGHT
TZOFFSETFROM:-0500
TZOFFSETTO:-0400
TZNAME:EDT
DTSTART:20250309T070000
END:DAYLIGHT
BEGIN:STANDARD
TZOFFSETFROM:-0400
TZOFFSETTO:-0500
TZNAME:EST
DTSTART:20251102T060000
END:STANDARD
BEGIN:DAYLIGHT
TZOFFSETFROM:-0500
TZOFFSETTO:-0400
TZNAME:EDT
DTSTART:20260308T070000
END:DAYLIGHT
BEGIN:STANDARD
TZOFFSETFROM:-0400
TZOFFSETTO:-0500
TZNAME:EST
DTSTART:20261101T060000
END:STANDARD
BEGIN:DAYLIGHT
TZOFFSETFROM:-0500
TZOFFSETTO:-0400
TZNAME:EDT
DTSTART:20270314T070000
END:DAYLIGHT
BEGIN:STANDARD
TZOFFSETFROM:-0400
TZOFFSETTO:-0500
TZNAME:EST
DTSTART:20271107T060000
END:STANDARD
END:VTIMEZONE
BEGIN:VEVENT
DTSTART;TZID=America/Detroit:20261101T094500
DTEND;TZID=America/Detroit:20261101T223000
DTSTAMP:20260420T144553
CREATED:20231026T154327Z
LAST-MODIFIED:20240829T124728Z
UID:10007081-1793526300-1793572200@saintthomaszanesville.org
SUMMARY:Choir Rehearsal
DESCRIPTION:
URL:https://saintthomaszanesville.org/event/choir-rehersal-2/2026-11-01/
LOCATION:Activity Center
CATEGORIES:Choir
END:VEVENT
BEGIN:VEVENT
DTSTART;TZID=America/Detroit:20261108T094500
DTEND;TZID=America/Detroit:20261108T223000
DTSTAMP:20260420T144553
CREATED:20231026T154327Z
LAST-MODIFIED:20240829T124728Z
UID:10007082-1794131100-1794177000@saintthomaszanesville.org
SUMMARY:Choir Rehearsal
DESCRIPTION:
URL:https://saintthomaszanesville.org/event/choir-rehersal-2/2026-11-08/
LOCATION:Activity Center
CATEGORIES:Choir
END:VEVENT
BEGIN:VEVENT
DTSTART;TZID=America/Detroit:20261115T094500
DTEND;TZID=America/Detroit:20261115T223000
DTSTAMP:20260420T144553
CREATED:20231026T154327Z
LAST-MODIFIED:20240829T124728Z
UID:10007083-1794735900-1794781800@saintthomaszanesville.org
SUMMARY:Choir Rehearsal
DESCRIPTION:
URL:https://saintthomaszanesville.org/event/choir-rehersal-2/2026-11-15/
LOCATION:Activity Center
CATEGORIES:Choir
END:VEVENT
BEGIN:VEVENT
DTSTART;TZID=America/Detroit:20261122T094500
DTEND;TZID=America/Detroit:20261122T223000
DTSTAMP:20260420T144553
CREATED:20231026T154327Z
LAST-MODIFIED:20240829T124728Z
UID:10007084-1795340700-1795386600@saintthomaszanesville.org
SUMMARY:Choir Rehearsal
DESCRIPTION:
URL:https://saintthomaszanesville.org/event/choir-rehersal-2/2026-11-22/
LOCATION:Activity Center
CATEGORIES:Choir
END:VEVENT
BEGIN:VEVENT
DTSTART;TZID=America/Detroit:20261129T094500
DTEND;TZID=America/Detroit:20261129T223000
DTSTAMP:20260420T144553
CREATED:20231026T154327Z
LAST-MODIFIED:20240829T124728Z
UID:10007085-1795945500-1795991400@saintthomaszanesville.org
SUMMARY:Choir Rehearsal
DESCRIPTION:
URL:https://saintthomaszanesville.org/event/choir-rehersal-2/2026-11-29/
LOCATION:Activity Center
CATEGORIES:Choir
END:VEVENT
END:VCALENDAR