BEGIN:VCALENDAR
VERSION:2.0
PRODID:-//Saint Thomas Acquinas Zanesville - ECPv6.15.20//NONSGML v1.0//EN
CALSCALE:GREGORIAN
METHOD:PUBLISH
X-ORIGINAL-URL:https://saintthomaszanesville.org
X-WR-CALDESC:Events for Saint Thomas Acquinas Zanesville
REFRESH-INTERVAL;VALUE=DURATION:PT1H
X-Robots-Tag:noindex
X-PUBLISHED-TTL:PT1H
BEGIN:VTIMEZONE
TZID:America/Detroit
BEGIN:DAYLIGHT
TZOFFSETFROM:-0500
TZOFFSETTO:-0400
TZNAME:EDT
DTSTART:20230312T070000
END:DAYLIGHT
BEGIN:STANDARD
TZOFFSETFROM:-0400
TZOFFSETTO:-0500
TZNAME:EST
DTSTART:20231105T060000
END:STANDARD
BEGIN:DAYLIGHT
TZOFFSETFROM:-0500
TZOFFSETTO:-0400
TZNAME:EDT
DTSTART:20240310T070000
END:DAYLIGHT
BEGIN:STANDARD
TZOFFSETFROM:-0400
TZOFFSETTO:-0500
TZNAME:EST
DTSTART:20241103T060000
END:STANDARD
BEGIN:DAYLIGHT
TZOFFSETFROM:-0500
TZOFFSETTO:-0400
TZNAME:EDT
DTSTART:20250309T070000
END:DAYLIGHT
BEGIN:STANDARD
TZOFFSETFROM:-0400
TZOFFSETTO:-0500
TZNAME:EST
DTSTART:20251102T060000
END:STANDARD
BEGIN:DAYLIGHT
TZOFFSETFROM:-0500
TZOFFSETTO:-0400
TZNAME:EDT
DTSTART:20260308T070000
END:DAYLIGHT
BEGIN:STANDARD
TZOFFSETFROM:-0400
TZOFFSETTO:-0500
TZNAME:EST
DTSTART:20261101T060000
END:STANDARD
END:VTIMEZONE
BEGIN:VEVENT
DTSTART;TZID=America/Detroit:20250928T093000
DTEND;TZID=America/Detroit:20250928T103000
DTSTAMP:20260420T095840
CREATED:20250729T124342Z
LAST-MODIFIED:20250729T124342Z
UID:10009827-1759051800-1759055400@saintthomaszanesville.org
SUMMARY:CCD
DESCRIPTION:CCD will begin September 14 and end May 10th\nAll CCD Class start at 9:30am and run until 10:30am\nParent/Adult Fellowship is in the Aquinas Room during this time\nUnless noted\, CCD class dates are business as usual
URL:https://saintthomaszanesville.org/event/ccd/2025-09-28/
LOCATION:Parish Office\, 144 N 5th St\, Zanesville\, OH\, 43701\, United States
CATEGORIES:CCD
END:VEVENT
BEGIN:VEVENT
DTSTART;TZID=America/Detroit:20250921T093000
DTEND;TZID=America/Detroit:20250921T103000
DTSTAMP:20260420T095840
CREATED:20250729T124342Z
LAST-MODIFIED:20250729T124342Z
UID:10009826-1758447000-1758450600@saintthomaszanesville.org
SUMMARY:CCD
DESCRIPTION:CCD will begin September 14 and end May 10th\nAll CCD Class start at 9:30am and run until 10:30am\nParent/Adult Fellowship is in the Aquinas Room during this time\nUnless noted\, CCD class dates are business as usual
URL:https://saintthomaszanesville.org/event/ccd/2025-09-21/
LOCATION:Parish Office\, 144 N 5th St\, Zanesville\, OH\, 43701\, United States
CATEGORIES:CCD
END:VEVENT
BEGIN:VEVENT
DTSTART;TZID=America/Detroit:20250914T093000
DTEND;TZID=America/Detroit:20250914T103000
DTSTAMP:20260420T095840
CREATED:20250729T124342Z
LAST-MODIFIED:20250729T124342Z
UID:10009825-1757842200-1757845800@saintthomaszanesville.org
SUMMARY:CCD
DESCRIPTION:CCD will begin September 14 and end May 10th\nAll CCD Class start at 9:30am and run until 10:30am\nParent/Adult Fellowship is in the Aquinas Room during this time\nUnless noted\, CCD class dates are business as usual
URL:https://saintthomaszanesville.org/event/ccd/2025-09-14/
LOCATION:Parish Office\, 144 N 5th St\, Zanesville\, OH\, 43701\, United States
CATEGORIES:CCD
END:VEVENT
BEGIN:VEVENT
DTSTART;TZID=America/Detroit:20250504T180000
DTEND;TZID=America/Detroit:20250504T203000
DTSTAMP:20260420T095840
CREATED:20240724T171039Z
LAST-MODIFIED:20240724T171039Z
UID:10009255-1746381600-1746390600@saintthomaszanesville.org
SUMMARY:Catalyst Nights
DESCRIPTION:
URL:https://saintthomaszanesville.org/event/catalyst-nights/2025-05-04/
LOCATION:Activity Center
CATEGORIES:CCD
END:VEVENT
BEGIN:VEVENT
DTSTART;TZID=America/Detroit:20250406T180000
DTEND;TZID=America/Detroit:20250406T203000
DTSTAMP:20260420T095840
CREATED:20240724T171039Z
LAST-MODIFIED:20240724T171039Z
UID:10009254-1743962400-1743971400@saintthomaszanesville.org
SUMMARY:Catalyst Nights
DESCRIPTION:
URL:https://saintthomaszanesville.org/event/catalyst-nights/2025-04-06/
LOCATION:Activity Center
CATEGORIES:CCD
END:VEVENT
BEGIN:VEVENT
DTSTART;TZID=America/Detroit:20250302T180000
DTEND;TZID=America/Detroit:20250302T203000
DTSTAMP:20260420T095840
CREATED:20240724T171039Z
LAST-MODIFIED:20240724T171039Z
UID:10009253-1740938400-1740947400@saintthomaszanesville.org
SUMMARY:Catalyst Nights
DESCRIPTION:
URL:https://saintthomaszanesville.org/event/catalyst-nights/2025-03-02/
LOCATION:Activity Center
CATEGORIES:CCD
END:VEVENT
BEGIN:VEVENT
DTSTART;TZID=America/Detroit:20250202T180000
DTEND;TZID=America/Detroit:20250202T203000
DTSTAMP:20260420T095840
CREATED:20240724T171039Z
LAST-MODIFIED:20240724T171039Z
UID:10009252-1738519200-1738528200@saintthomaszanesville.org
SUMMARY:Catalyst Nights
DESCRIPTION:
URL:https://saintthomaszanesville.org/event/catalyst-nights/2025-02-02/
LOCATION:Activity Center
CATEGORIES:CCD
END:VEVENT
BEGIN:VEVENT
DTSTART;TZID=America/Detroit:20250112T180000
DTEND;TZID=America/Detroit:20250112T203000
DTSTAMP:20260420T095840
CREATED:20240724T171039Z
LAST-MODIFIED:20240724T171039Z
UID:10009251-1736704800-1736713800@saintthomaszanesville.org
SUMMARY:Catalyst Nights
DESCRIPTION:
URL:https://saintthomaszanesville.org/event/catalyst-nights/2025-01-12/
LOCATION:Activity Center
CATEGORIES:CCD
END:VEVENT
BEGIN:VEVENT
DTSTART;TZID=America/Detroit:20241208T180000
DTEND;TZID=America/Detroit:20241208T203000
DTSTAMP:20260420T095840
CREATED:20240724T171039Z
LAST-MODIFIED:20240724T171039Z
UID:10009250-1733680800-1733689800@saintthomaszanesville.org
SUMMARY:Catalyst Nights
DESCRIPTION:
URL:https://saintthomaszanesville.org/event/catalyst-nights/2024-12-08/
LOCATION:Activity Center
CATEGORIES:CCD
END:VEVENT
BEGIN:VEVENT
DTSTART;TZID=America/Detroit:20241117T180000
DTEND;TZID=America/Detroit:20241117T203000
DTSTAMP:20260420T095840
CREATED:20240724T171039Z
LAST-MODIFIED:20240724T171039Z
UID:10009249-1731866400-1731875400@saintthomaszanesville.org
SUMMARY:Catalyst Nights
DESCRIPTION:
URL:https://saintthomaszanesville.org/event/catalyst-nights/2024-11-17/
LOCATION:Activity Center
CATEGORIES:CCD
END:VEVENT
BEGIN:VEVENT
DTSTART;TZID=America/Detroit:20240929T180000
DTEND;TZID=America/Detroit:20240929T203000
DTSTAMP:20260420T095840
CREATED:20240724T171039Z
LAST-MODIFIED:20240724T171039Z
UID:10009248-1727632800-1727641800@saintthomaszanesville.org
SUMMARY:Catalyst Nights
DESCRIPTION:
URL:https://saintthomaszanesville.org/event/catalyst-nights/2024-09-29/
LOCATION:Activity Center
CATEGORIES:CCD
END:VEVENT
END:VCALENDAR